BEGIN:VCALENDAR
VERSION:2.0
PRODID:-//Ategal - ECPv6.15.20//NONSGML v1.0//EN
CALSCALE:GREGORIAN
METHOD:PUBLISH
X-WR-CALNAME:Ategal
X-ORIGINAL-URL:https://www.ategal.com
X-WR-CALDESC:Eventos para Ategal
REFRESH-INTERVAL;VALUE=DURATION:PT1H
X-Robots-Tag:noindex
X-PUBLISHED-TTL:PT1H
BEGIN:VTIMEZONE
TZID:Europe/Paris
BEGIN:DAYLIGHT
TZOFFSETFROM:+0100
TZOFFSETTO:+0200
TZNAME:CEST
DTSTART:20170326T010000
END:DAYLIGHT
BEGIN:STANDARD
TZOFFSETFROM:+0200
TZOFFSETTO:+0100
TZNAME:CET
DTSTART:20171029T010000
END:STANDARD
BEGIN:DAYLIGHT
TZOFFSETFROM:+0100
TZOFFSETTO:+0200
TZNAME:CEST
DTSTART:20180325T010000
END:DAYLIGHT
BEGIN:STANDARD
TZOFFSETFROM:+0200
TZOFFSETTO:+0100
TZNAME:CET
DTSTART:20181028T010000
END:STANDARD
BEGIN:DAYLIGHT
TZOFFSETFROM:+0100
TZOFFSETTO:+0200
TZNAME:CEST
DTSTART:20190331T010000
END:DAYLIGHT
BEGIN:STANDARD
TZOFFSETFROM:+0200
TZOFFSETTO:+0100
TZNAME:CET
DTSTART:20191027T010000
END:STANDARD
END:VTIMEZONE
BEGIN:VEVENT
DTSTART;TZID=Europe/Paris:20181211T180000
DTEND;TZID=Europe/Paris:20181211T200000
DTSTAMP:20260423T213437
CREATED:20181120T173819Z
LAST-MODIFIED:20181204T182723Z
UID:2319-1544551200-1544558400@www.ategal.com
SUMMARY:Obradoiro de "Cestería tradicional: proxección\, demostración e mostra". En Ategal Vigo.
DESCRIPTION:Ategal Vigo\, en colaboración coa Fundación Liste Museo Etnográfico de Vigo\, imparten un taller de cestería o martes 11 de decembro de 18.00 horas a 20.00 horas. \nO obradoiro vai a estar impartido polo cesteiro Rubén Berro Covelo. \nTodas as personas interesadas en ter máis información ou participar nesta actividade poden inscribirse na propia sede de Ategal Vigo (Travesía do Pino\, 2-entrechán)\, no seu teléfono 986 481 600 ou no seu email vigo@ategal.com \n 
URL:https://www.ategal.com/evento-ategal/obradoiro-de-cesteria-tradicional-proxeccion-demostracion-e-mostra-en-colaboracion-con-fundacion-liste/
LOCATION:Ategal Vigo\, Travesía do Pino\, 2-entrechan\, Vigo
ATTACH;FMTTYPE=image/jpeg:https://www.ategal.com/wp-content/uploads/2018/12/Cestería4.jpeg
END:VEVENT
END:VCALENDAR