BEGIN:VCALENDAR
VERSION:2.0
PRODID:-//Ategal - ECPv6.15.20//NONSGML v1.0//EN
CALSCALE:GREGORIAN
METHOD:PUBLISH
X-ORIGINAL-URL:https://www.ategal.com
X-WR-CALDESC:Eventos para Ategal
REFRESH-INTERVAL;VALUE=DURATION:PT1H
X-Robots-Tag:noindex
X-PUBLISHED-TTL:PT1H
BEGIN:VTIMEZONE
TZID:Europe/Paris
BEGIN:DAYLIGHT
TZOFFSETFROM:+0100
TZOFFSETTO:+0200
TZNAME:CEST
DTSTART:20170326T010000
END:DAYLIGHT
BEGIN:STANDARD
TZOFFSETFROM:+0200
TZOFFSETTO:+0100
TZNAME:CET
DTSTART:20171029T010000
END:STANDARD
BEGIN:DAYLIGHT
TZOFFSETFROM:+0100
TZOFFSETTO:+0200
TZNAME:CEST
DTSTART:20180325T010000
END:DAYLIGHT
BEGIN:STANDARD
TZOFFSETFROM:+0200
TZOFFSETTO:+0100
TZNAME:CET
DTSTART:20181028T010000
END:STANDARD
BEGIN:DAYLIGHT
TZOFFSETFROM:+0100
TZOFFSETTO:+0200
TZNAME:CEST
DTSTART:20190331T010000
END:DAYLIGHT
BEGIN:STANDARD
TZOFFSETFROM:+0200
TZOFFSETTO:+0100
TZNAME:CET
DTSTART:20191027T010000
END:STANDARD
END:VTIMEZONE
BEGIN:VEVENT
DTSTART;VALUE=DATE:20181213
DTEND;VALUE=DATE:20181214
DTSTAMP:20260423T213619
CREATED:20181129T153954Z
LAST-MODIFIED:20181204T183326Z
UID:2448-1544659200-1544745599@www.ategal.com
SUMMARY:La directora de Ategal Ferrol jurado en el "Premio solidario" del concello local
DESCRIPTION:La directora de las aulas de Ategal Ferrol\, Montse López Corral\, participa el jueves 13 de diciembre como jurado de los premios solidarios que entregará el Concello de Ferrol. \nEl acto se celebra el 20 de diciembre en la ciudad y premia la labor de entidades y personas que hayan destacado por su labor humana\, social y solidaria en el municipio y su entorno. \n 
URL:https://www.ategal.com/evento-ategal/la-directora-de-ategal-ferrol-jurado-en-el-premio-solidario-del-concello-local/
LOCATION:Pontevedra
END:VEVENT
BEGIN:VEVENT
DTSTART;TZID=Europe/Paris:20181213T173000
DTEND;TZID=Europe/Paris:20181213T190000
DTSTAMP:20260423T213619
CREATED:20181211T223752Z
LAST-MODIFIED:20181212T161011Z
UID:2589-1544722200-1544727600@www.ategal.com
SUMMARY:Ategal Vigo convoca el curso\, para público en general\, 'Crea tu propia historia de la Vida Cotidiana'
DESCRIPTION:La sede de Vigo de las Aulas Senior de Galicia (Ategal) convoca la primera edición del curso ‘Crea tu propia historia de la Vida Cotidiana’ que impartirá la doctora en Historia Contemporanea\, Mariangeles Ordaz Romay.  \nEl curso está dirigido tanto a alumnado de la entidad como a todas aquellas personas\, de cualquier edad\, que estén interesadas\, aunque no sean socias de Ategal. En este caso el precio de matrícula varía\, si bien\, cabe la posibilidad de hacerse socio o socia pare este curso\, obtener el mismo precio que el resto\, y mantener la matrícula posteriormente\, para disfrutar de la misma oferta en otros talleres y actividades. \nEl jueves 13 de diciembre a las 17.30 horas en la sede de Ategal (Travesía do Pino\, 2-entrechan) se celebra una sesión de presentación e información sobre el curso –gratuita y abierta al público– a cargo de la propia docente. \nTambién se puede obtener más información en el teléfono 986 48 16 00 o en el email: vigo@ategal.com \nEn esta presentación la instructora explicará en que consistirá el curso\, el programa que se va a desarrollar\, su objetivos\, metodología\, salidas\, etc. También se aportará una ficha en blanco a todas las personas presentes\, a modo de ejemplo\, y se trabajará un modelo de árbol genealógico.
URL:https://www.ategal.com/evento-ategal/ategal-vigo-convoca-el-curso-para-publico-en-general-crea-tu-propia-historia-de-la-vida-cotidiana/
LOCATION:Ategal Vigo\, Travesía do Pino\, 2-entrechan\, Vigo
END:VEVENT
BEGIN:VEVENT
DTSTART;TZID=Europe/Paris:20181213T180000
DTEND;TZID=Europe/Paris:20181214T190000
DTSTAMP:20260423T213619
CREATED:20181129T141111Z
LAST-MODIFIED:20181213T163238Z
UID:2440-1544724000-1544814000@www.ategal.com
SUMMARY:O alumnado de Ategal Ferrol coñece o "Proxecto Europeo Activage"
DESCRIPTION:A Cruz Vermella de Galicia vai impartir dúas xornadas de charlas informativas ao alumnado de Ategal Ferrol sobre o funcionamento da ferramenta de investigación e recollida de datos do proxecto europeo Activage. \nDeste xeito\, os alumnos e alumnas de Ategal Ferrol que decidan participar posteriormente no plan\, serán decisivos nos resultados que extraiga este plan continental \nMáis información sobre o Activage neste enlace directo.   \nO Activage é unha iniciativa de I+D+i baseada nas tecnoloxías da información e da comunicación (TIC) coa finalidade de facer fronte ao aumento da esperanza de vida\, promovendo o envellecemento activo e saudable. Está respaldada polo Programa Marco de Investigación e Innovación da Unión Europea Horizonte 2020 e conta\, dende o seu inicio\, en xaneiro de 2017\, cun orzamento de 25\,3 millóns de euros e un prazo de execución de 43 meses. \n 
URL:https://www.ategal.com/evento-ategal/o-alumnado-de-ategal-ferrol-participa-no-proxecto-europeo-activage/
LOCATION:Pontevedra
ATTACH;FMTTYPE=image/jpeg:https://www.ategal.com/wp-content/uploads/2018/11/Activage-1-2.jpg
END:VEVENT
END:VCALENDAR