BEGIN:VCALENDAR
VERSION:2.0
PRODID:-//Ategal - ECPv6.15.20//NONSGML v1.0//EN
CALSCALE:GREGORIAN
METHOD:PUBLISH
X-ORIGINAL-URL:https://www.ategal.com
X-WR-CALDESC:Eventos para Ategal
REFRESH-INTERVAL;VALUE=DURATION:PT1H
X-Robots-Tag:noindex
X-PUBLISHED-TTL:PT1H
BEGIN:VTIMEZONE
TZID:Europe/Paris
BEGIN:DAYLIGHT
TZOFFSETFROM:+0100
TZOFFSETTO:+0200
TZNAME:CEST
DTSTART:20170326T010000
END:DAYLIGHT
BEGIN:STANDARD
TZOFFSETFROM:+0200
TZOFFSETTO:+0100
TZNAME:CET
DTSTART:20171029T010000
END:STANDARD
BEGIN:DAYLIGHT
TZOFFSETFROM:+0100
TZOFFSETTO:+0200
TZNAME:CEST
DTSTART:20180325T010000
END:DAYLIGHT
BEGIN:STANDARD
TZOFFSETFROM:+0200
TZOFFSETTO:+0100
TZNAME:CET
DTSTART:20181028T010000
END:STANDARD
BEGIN:DAYLIGHT
TZOFFSETFROM:+0100
TZOFFSETTO:+0200
TZNAME:CEST
DTSTART:20190331T010000
END:DAYLIGHT
BEGIN:STANDARD
TZOFFSETFROM:+0200
TZOFFSETTO:+0100
TZNAME:CET
DTSTART:20191027T010000
END:STANDARD
END:VTIMEZONE
BEGIN:VEVENT
DTSTART;TZID=Europe/Paris:20181213T180000
DTEND;TZID=Europe/Paris:20181214T190000
DTSTAMP:20260423T213617
CREATED:20181129T141111Z
LAST-MODIFIED:20181213T163238Z
UID:2440-1544724000-1544814000@www.ategal.com
SUMMARY:O alumnado de Ategal Ferrol coñece o "Proxecto Europeo Activage"
DESCRIPTION:A Cruz Vermella de Galicia vai impartir dúas xornadas de charlas informativas ao alumnado de Ategal Ferrol sobre o funcionamento da ferramenta de investigación e recollida de datos do proxecto europeo Activage. \nDeste xeito\, os alumnos e alumnas de Ategal Ferrol que decidan participar posteriormente no plan\, serán decisivos nos resultados que extraiga este plan continental \nMáis información sobre o Activage neste enlace directo.   \nO Activage é unha iniciativa de I+D+i baseada nas tecnoloxías da información e da comunicación (TIC) coa finalidade de facer fronte ao aumento da esperanza de vida\, promovendo o envellecemento activo e saudable. Está respaldada polo Programa Marco de Investigación e Innovación da Unión Europea Horizonte 2020 e conta\, dende o seu inicio\, en xaneiro de 2017\, cun orzamento de 25\,3 millóns de euros e un prazo de execución de 43 meses. \n 
URL:https://www.ategal.com/evento-ategal/o-alumnado-de-ategal-ferrol-participa-no-proxecto-europeo-activage/
LOCATION:Pontevedra
ATTACH;FMTTYPE=image/jpeg:https://www.ategal.com/wp-content/uploads/2018/11/Activage-1-2.jpg
END:VEVENT
END:VCALENDAR