BEGIN:VCALENDAR
VERSION:2.0
PRODID:-//Ategal - ECPv6.15.20//NONSGML v1.0//EN
CALSCALE:GREGORIAN
METHOD:PUBLISH
X-WR-CALNAME:Ategal
X-ORIGINAL-URL:https://www.ategal.com
X-WR-CALDESC:Eventos para Ategal
REFRESH-INTERVAL;VALUE=DURATION:PT1H
X-Robots-Tag:noindex
X-PUBLISHED-TTL:PT1H
BEGIN:VTIMEZONE
TZID:Europe/Paris
BEGIN:DAYLIGHT
TZOFFSETFROM:+0100
TZOFFSETTO:+0200
TZNAME:CEST
DTSTART:20170326T010000
END:DAYLIGHT
BEGIN:STANDARD
TZOFFSETFROM:+0200
TZOFFSETTO:+0100
TZNAME:CET
DTSTART:20171029T010000
END:STANDARD
BEGIN:DAYLIGHT
TZOFFSETFROM:+0100
TZOFFSETTO:+0200
TZNAME:CEST
DTSTART:20180325T010000
END:DAYLIGHT
BEGIN:STANDARD
TZOFFSETFROM:+0200
TZOFFSETTO:+0100
TZNAME:CET
DTSTART:20181028T010000
END:STANDARD
BEGIN:DAYLIGHT
TZOFFSETFROM:+0100
TZOFFSETTO:+0200
TZNAME:CEST
DTSTART:20190331T010000
END:DAYLIGHT
BEGIN:STANDARD
TZOFFSETFROM:+0200
TZOFFSETTO:+0100
TZNAME:CET
DTSTART:20191027T010000
END:STANDARD
END:VTIMEZONE
BEGIN:VEVENT
DTSTART;TZID=Europe/Paris:20181217T080000
DTEND;TZID=Europe/Paris:20181217T170000
DTSTAMP:20260423T213417
CREATED:20181217T202837Z
LAST-MODIFIED:20181217T205923Z
UID:2635-1545033600-1545066000@www.ategal.com
SUMMARY:"Comida de Navidad" en Ategal Ourense
DESCRIPTION:La sede de Ategal Ourense organiza para sus socios y socias una misa y posterior comida de Navidad para el miércoles 19 de diciembre. \nPara acudir a la comida es necesario inscribirse presencialmente en la sede de la entidad (c/Progreso\, 66-entrechan A)\, en el email ourense@ategal.com o en el teléfono 988 215 077. \n 
URL:https://www.ategal.com/evento-ategal/comida-de-navidad-en-ategal-ourense/
LOCATION:Pontevedra
END:VEVENT
BEGIN:VEVENT
DTSTART;TZID=Europe/Paris:20181217T170000
DTEND;TZID=Europe/Paris:20181217T170000
DTSTAMP:20260423T213417
CREATED:20181203T151618Z
LAST-MODIFIED:20181203T151827Z
UID:2480-1545066000-1545066000@www.ategal.com
SUMMARY:El Coro de Ategal se va a cantar a la Residencia Domus Vi Santiago
DESCRIPTION:  \n  \n  \n  \nEl lunes 17 de diciembre\, y como viene haciendo en los últimos años\, el Coro de las Aulas Senior de Santiago\, Ategal\, acompañado de equipo docente y alumnado\, se va a cantar a la residencia de mayores DomusVi de San Lázaro\, en Santiago de Compostela. Además de voz\, la agrupación actúa con acompañamiento de guitarra\, acordeón y bandurrias.
URL:https://www.ategal.com/evento-ategal/el-coro-de-ategal-se-va-a-cantar-a-la-residencia-domus-vi-santiago/
LOCATION:DomusVi San Lázaro (Santiago)\, Santiago de Compostela
END:VEVENT
BEGIN:VEVENT
DTSTART;TZID=Europe/Paris:20181217T183000
DTEND;TZID=Europe/Paris:20181217T200000
DTSTAMP:20260423T213417
CREATED:20181203T233102Z
LAST-MODIFIED:20181203T233102Z
UID:2514-1545071400-1545076800@www.ategal.com
SUMMARY:Clase especial "La Navidad en la literatura universal" en Ategal Vigo
DESCRIPTION:Ategal Vigo celebra una clase especial el lunes 17 a las 18.30 horas: «La Navidad en la literatura universal» con lectura de textos de temática navideña. \n 
URL:https://www.ategal.com/evento-ategal/clase-especial-la-navidad-en-la-literatura-universal-en-ategal-vigo/
LOCATION:Ategal Vigo\, Travesía do Pino\, 2-entrechan\, Vigo
END:VEVENT
END:VCALENDAR