BEGIN:VCALENDAR
VERSION:2.0
PRODID:-//Ategal - ECPv6.15.20//NONSGML v1.0//EN
CALSCALE:GREGORIAN
METHOD:PUBLISH
X-ORIGINAL-URL:https://www.ategal.com
X-WR-CALDESC:Eventos para Ategal
REFRESH-INTERVAL;VALUE=DURATION:PT1H
X-Robots-Tag:noindex
X-PUBLISHED-TTL:PT1H
BEGIN:VTIMEZONE
TZID:Europe/Paris
BEGIN:DAYLIGHT
TZOFFSETFROM:+0100
TZOFFSETTO:+0200
TZNAME:CEST
DTSTART:20170326T010000
END:DAYLIGHT
BEGIN:STANDARD
TZOFFSETFROM:+0200
TZOFFSETTO:+0100
TZNAME:CET
DTSTART:20171029T010000
END:STANDARD
BEGIN:DAYLIGHT
TZOFFSETFROM:+0100
TZOFFSETTO:+0200
TZNAME:CEST
DTSTART:20180325T010000
END:DAYLIGHT
BEGIN:STANDARD
TZOFFSETFROM:+0200
TZOFFSETTO:+0100
TZNAME:CET
DTSTART:20181028T010000
END:STANDARD
BEGIN:DAYLIGHT
TZOFFSETFROM:+0100
TZOFFSETTO:+0200
TZNAME:CEST
DTSTART:20190331T010000
END:DAYLIGHT
BEGIN:STANDARD
TZOFFSETFROM:+0200
TZOFFSETTO:+0100
TZNAME:CET
DTSTART:20191027T010000
END:STANDARD
END:VTIMEZONE
BEGIN:VEVENT
DTSTART;TZID=Europe/Paris:20181219T123000
DTEND;TZID=Europe/Paris:20181219T170000
DTSTAMP:20260423T213619
CREATED:20181218T231714Z
LAST-MODIFIED:20181218T231714Z
UID:2663-1545222600-1545238800@www.ategal.com
SUMMARY:Celebración de Navidad en Ategal Ourense
DESCRIPTION:  \nEl miércoles 19 de diciembre la sede de Ategal en Ourense celebra la Navidad con varias actividades para todo su alumnado: \n  \n\nA las 12\,30 horas\, misa en la Iglesia de los Salesianos\, oficiada por el Padre Romero en memoria y recuerdo de todos los alumnos y alumnas fallecidos\, así como de los familiares de los miembros de las Aulas.\nA las 14\,15 horas comida de confraternización de los socios y socias de la entidad en el Liceo Ourensano\, a la que asistirán 80 personas con un sorteo y sorpresas para los asistentes.
URL:https://www.ategal.com/evento-ategal/celebracion-de-navidad-en-ategal-ourense/
LOCATION:Ategal Ourense
ATTACH;FMTTYPE=image/jpeg:https://www.ategal.com/wp-content/uploads/2018/12/ComidaOurense-2.jpg
END:VEVENT
BEGIN:VEVENT
DTSTART;TZID=Europe/Paris:20181219T133000
DTEND;TZID=Europe/Paris:20181219T170000
DTSTAMP:20260423T213619
CREATED:20181129T152420Z
LAST-MODIFIED:20181217T210223Z
UID:2444-1545226200-1545238800@www.ategal.com
SUMMARY:"Comida de Navidad" en Ategal Ferrol
DESCRIPTION:Las aulas de la sede de Ategal de Ferrol celebran una comida de Navidad el miércoles 19 de diciembre.  \nPara disponer de más información o apuntarse es necesario contactar con las aulas o presentarse en su sede\, en Galiano\, 17-Planta 1. \nTeléfono: 981 356 202 \nEmail: ferrol@ategal.com
URL:https://www.ategal.com/evento-ategal/comida-de-navidad-ategal-ferrol/
LOCATION:Ategal Ferrol\, Galiano\, 17-1º\, Ferrol
END:VEVENT
BEGIN:VEVENT
DTSTART;TZID=Europe/Paris:20181219T183000
DTEND;TZID=Europe/Paris:20181219T200000
DTSTAMP:20260423T213619
CREATED:20181203T233625Z
LAST-MODIFIED:20181203T233640Z
UID:2518-1545244200-1545249600@www.ategal.com
SUMMARY:Conferencia "La Navidad en el Museo del Prado" en Ategal Vigo
DESCRIPTION:La sede de Ategal en Vigo organiza el miércoles 19 de diciembre a las 18.30 horas la conferencia\, «La Navidad en el Museo del Prado: un paseo por 200 años de historia».
URL:https://www.ategal.com/evento-ategal/conferencia-la-navidad-en-el-museo-del-prado-en-ategal-vigo/
LOCATION:Ategal Vigo\, Travesía do Pino\, 2-entrechan\, Vigo
END:VEVENT
BEGIN:VEVENT
DTSTART;TZID=Europe/Paris:20181219T203000
DTEND;TZID=Europe/Paris:20181219T213000
DTSTAMP:20260423T213619
CREATED:20181120T173959Z
LAST-MODIFIED:20181204T183113Z
UID:2325-1545251400-1545255000@www.ategal.com
SUMMARY:El coro de Ategal Vigo participa en el "Certamen de Panxoliñas Concello de Ourense"
DESCRIPTION:
URL:https://www.ategal.com/evento-ategal/certamen-de-panxolinas-concello-de-ourense-ategal-vigo/
LOCATION:Ourense
END:VEVENT
END:VCALENDAR