BEGIN:VCALENDAR
VERSION:2.0
PRODID:-//Ategal - ECPv6.15.20//NONSGML v1.0//EN
CALSCALE:GREGORIAN
METHOD:PUBLISH
X-ORIGINAL-URL:https://www.ategal.com
X-WR-CALDESC:Eventos para Ategal
REFRESH-INTERVAL;VALUE=DURATION:PT1H
X-Robots-Tag:noindex
X-PUBLISHED-TTL:PT1H
BEGIN:VTIMEZONE
TZID:Europe/Paris
BEGIN:DAYLIGHT
TZOFFSETFROM:+0100
TZOFFSETTO:+0200
TZNAME:CEST
DTSTART:20180325T010000
END:DAYLIGHT
BEGIN:STANDARD
TZOFFSETFROM:+0200
TZOFFSETTO:+0100
TZNAME:CET
DTSTART:20181028T010000
END:STANDARD
BEGIN:DAYLIGHT
TZOFFSETFROM:+0100
TZOFFSETTO:+0200
TZNAME:CEST
DTSTART:20190331T010000
END:DAYLIGHT
BEGIN:STANDARD
TZOFFSETFROM:+0200
TZOFFSETTO:+0100
TZNAME:CET
DTSTART:20191027T010000
END:STANDARD
BEGIN:DAYLIGHT
TZOFFSETFROM:+0100
TZOFFSETTO:+0200
TZNAME:CEST
DTSTART:20200329T010000
END:DAYLIGHT
BEGIN:STANDARD
TZOFFSETFROM:+0200
TZOFFSETTO:+0100
TZNAME:CET
DTSTART:20201025T010000
END:STANDARD
END:VTIMEZONE
BEGIN:VEVENT
DTSTART;TZID=Europe/Paris:20190130T170000
DTEND;TZID=Europe/Paris:20190130T190000
DTSTAMP:20260423T181658
CREATED:20190123T165147Z
LAST-MODIFIED:20190123T171411Z
UID:2717-1548867600-1548874800@www.ategal.com
SUMMARY:Primer taller del curso 'Una salud de cine' en las aulas senior de Ategal Ourense
DESCRIPTION:El 30 de enero comienza en las aulas de Ourense el curso ‘Una salud de cine’ con el taller ‘Cantando bajo la lluvia: de la salud a la enfermedad’.  \nEl resto de talleres se celebran\, de 17 horas a 19 horas los miércoles 27 de febrero\, 27 de marzo\, 24 de abril\, 29 de mayo y 26 de junio.  \nTodos los talleres serán impartidos por la médica de familia y coach\, Estefanía Zardoya. 
URL:https://www.ategal.com/evento-ategal/taller-una-salud-de-cine/
LOCATION:Ategal Ourense
ATTACH;FMTTYPE=image/jpeg:https://www.ategal.com/wp-content/uploads/2019/01/AtegalViaqua2-scaled.jpg
END:VEVENT
END:VCALENDAR