BEGIN:VCALENDAR
VERSION:2.0
PRODID:-//Ategal - ECPv6.15.20//NONSGML v1.0//EN
CALSCALE:GREGORIAN
METHOD:PUBLISH
X-WR-CALNAME:Ategal
X-ORIGINAL-URL:https://www.ategal.com
X-WR-CALDESC:Eventos para Ategal
REFRESH-INTERVAL;VALUE=DURATION:PT1H
X-Robots-Tag:noindex
X-PUBLISHED-TTL:PT1H
BEGIN:VTIMEZONE
TZID:Europe/Paris
BEGIN:DAYLIGHT
TZOFFSETFROM:+0100
TZOFFSETTO:+0200
TZNAME:CEST
DTSTART:20180325T010000
END:DAYLIGHT
BEGIN:STANDARD
TZOFFSETFROM:+0200
TZOFFSETTO:+0100
TZNAME:CET
DTSTART:20181028T010000
END:STANDARD
BEGIN:DAYLIGHT
TZOFFSETFROM:+0100
TZOFFSETTO:+0200
TZNAME:CEST
DTSTART:20190331T010000
END:DAYLIGHT
BEGIN:STANDARD
TZOFFSETFROM:+0200
TZOFFSETTO:+0100
TZNAME:CET
DTSTART:20191027T010000
END:STANDARD
BEGIN:DAYLIGHT
TZOFFSETFROM:+0100
TZOFFSETTO:+0200
TZNAME:CEST
DTSTART:20200329T010000
END:DAYLIGHT
BEGIN:STANDARD
TZOFFSETFROM:+0200
TZOFFSETTO:+0100
TZNAME:CET
DTSTART:20201025T010000
END:STANDARD
END:VTIMEZONE
BEGIN:VEVENT
DTSTART;TZID=Europe/Paris:20190204T170000
DTEND;TZID=Europe/Paris:20190204T180000
DTSTAMP:20260423T182213
CREATED:20190127T183016Z
LAST-MODIFIED:20190204T150426Z
UID:2770-1549299600-1549303200@www.ategal.com
SUMMARY:Curso de tabletas en Ategal A Coruña
DESCRIPTION:Las aulas de Ategal A Coruña celebra todos los lunes de febrero a las 17.00 horas en su sede (Fonseca\, 8) un curso específico de tablets para personas de más de 50 años.  \nEl precio es de 10 € para alumnado y 20 € para el resto.  \nEl curso es gratuito para alumnos y alumnas de Informática que se hayan matriculado a principio de curso.
URL:https://www.ategal.com/evento-ategal/curso-de-tableta-en-ategal-a-coruna/
LOCATION:Ategal A Coruña\, A Coruña
ATTACH;FMTTYPE=image/jpeg:https://www.ategal.com/wp-content/uploads/2019/01/TabletsAtegal-1.jpg
END:VEVENT
BEGIN:VEVENT
DTSTART;TZID=Europe/Paris:20190204T181500
DTEND;TZID=Europe/Paris:20190204T193000
DTSTAMP:20260423T182213
CREATED:20190127T181108Z
LAST-MODIFIED:20190127T181120Z
UID:2764-1549304100-1549308600@www.ategal.com
SUMMARY:Lecturas y presentaciones en Ategal Vigo
DESCRIPTION:El lunes 4 de febrero a las 18.15 horas las Aulas Senior de Ategal Vigo\, en colaboración con el Voluntariado Cultural del Concello de Vigo\, celebran en su sede (Travesía do Pino\, 2-entrechan) la sesión de lecturas y presentaciones: ‘Las vanguardias literarias\, la proliferación de los ismos’. 
URL:https://www.ategal.com/evento-ategal/lecturas-y-presentaciones-en-ategal-vigo/
LOCATION:Ategal Vigo\, Travesía do Pino\, 2-entrechan\, Vigo
END:VEVENT
END:VCALENDAR