BEGIN:VCALENDAR
VERSION:2.0
PRODID:-//Ategal - ECPv6.15.20//NONSGML v1.0//EN
CALSCALE:GREGORIAN
METHOD:PUBLISH
X-WR-CALNAME:Ategal
X-ORIGINAL-URL:https://www.ategal.com
X-WR-CALDESC:Eventos para Ategal
REFRESH-INTERVAL;VALUE=DURATION:PT1H
X-Robots-Tag:noindex
X-PUBLISHED-TTL:PT1H
BEGIN:VTIMEZONE
TZID:Europe/Paris
BEGIN:DAYLIGHT
TZOFFSETFROM:+0100
TZOFFSETTO:+0200
TZNAME:CEST
DTSTART:20180325T010000
END:DAYLIGHT
BEGIN:STANDARD
TZOFFSETFROM:+0200
TZOFFSETTO:+0100
TZNAME:CET
DTSTART:20181028T010000
END:STANDARD
BEGIN:DAYLIGHT
TZOFFSETFROM:+0100
TZOFFSETTO:+0200
TZNAME:CEST
DTSTART:20190331T010000
END:DAYLIGHT
BEGIN:STANDARD
TZOFFSETFROM:+0200
TZOFFSETTO:+0100
TZNAME:CET
DTSTART:20191027T010000
END:STANDARD
BEGIN:DAYLIGHT
TZOFFSETFROM:+0100
TZOFFSETTO:+0200
TZNAME:CEST
DTSTART:20200329T010000
END:DAYLIGHT
BEGIN:STANDARD
TZOFFSETFROM:+0200
TZOFFSETTO:+0100
TZNAME:CET
DTSTART:20201025T010000
END:STANDARD
END:VTIMEZONE
BEGIN:VEVENT
DTSTART;TZID=Europe/Paris:20190218T170000
DTEND;TZID=Europe/Paris:20190218T180000
DTSTAMP:20260423T181317
CREATED:20190201T103254Z
LAST-MODIFIED:20190201T103441Z
UID:2825-1550509200-1550512800@www.ategal.com
SUMMARY:Curso de tabletas en Ategal A Coruña
DESCRIPTION:Las aulas de Ategal A Coruña celebra todos los lunes de febrero a las 17.00 horas en su sede (Fonseca\, 8) un curso específico de tablets para personas de más de 50 años.  \nEl precio es de 10 € para alumnado y 20 € para el resto.  \nEl curso es gratuito para alumnos y alumnas de Informática que se hayan matriculado a principio de curso.
URL:https://www.ategal.com/evento-ategal/curso-de-tabletas-en-ategal-a-coruna-2/
LOCATION:Ategal A Coruña\, A Coruña
END:VEVENT
END:VCALENDAR