BEGIN:VCALENDAR
VERSION:2.0
PRODID:-//Ategal - ECPv6.15.20//NONSGML v1.0//EN
CALSCALE:GREGORIAN
METHOD:PUBLISH
X-ORIGINAL-URL:https://www.ategal.com
X-WR-CALDESC:Eventos para Ategal
REFRESH-INTERVAL;VALUE=DURATION:PT1H
X-Robots-Tag:noindex
X-PUBLISHED-TTL:PT1H
BEGIN:VTIMEZONE
TZID:Europe/Paris
BEGIN:DAYLIGHT
TZOFFSETFROM:+0100
TZOFFSETTO:+0200
TZNAME:CEST
DTSTART:20180325T010000
END:DAYLIGHT
BEGIN:STANDARD
TZOFFSETFROM:+0200
TZOFFSETTO:+0100
TZNAME:CET
DTSTART:20181028T010000
END:STANDARD
BEGIN:DAYLIGHT
TZOFFSETFROM:+0100
TZOFFSETTO:+0200
TZNAME:CEST
DTSTART:20190331T010000
END:DAYLIGHT
BEGIN:STANDARD
TZOFFSETFROM:+0200
TZOFFSETTO:+0100
TZNAME:CET
DTSTART:20191027T010000
END:STANDARD
BEGIN:DAYLIGHT
TZOFFSETFROM:+0100
TZOFFSETTO:+0200
TZNAME:CEST
DTSTART:20200329T010000
END:DAYLIGHT
BEGIN:STANDARD
TZOFFSETFROM:+0200
TZOFFSETTO:+0100
TZNAME:CET
DTSTART:20201025T010000
END:STANDARD
END:VTIMEZONE
BEGIN:VEVENT
DTSTART;TZID=Europe/Paris:20190227T090000
DTEND;TZID=Europe/Paris:20190227T190000
DTSTAMP:20260423T164643
CREATED:20190214T233645Z
LAST-MODIFIED:20190220T223037Z
UID:2887-1551258000-1551294000@www.ategal.com
SUMMARY:Visita ao 'Museo do Traxe' de Ordes\, cocido de Entroido e concurso de disfraces
DESCRIPTION:O martes 27 de febreiro as aulas de Ategal Santiago realizan unha visita ao Museo do Traxe de Ordes e\, despois\, teñen un cocido de entroido e un concurso de disfraces.  \nMáis información en Ategal Santiago: \n\nRúa Virxe da Cerca 31\, 15703 Santiago de Compostela\n\n\n Tel: 981 581 533\n\n\n Fax: 981 585 657\n\n\n Mvl: 618 184 344\n\ncoordinacion@ategal.com\n\n\n 
URL:https://www.ategal.com/evento-ategal/2887/
LOCATION:Ordes
ATTACH;FMTTYPE=image/jpeg:https://www.ategal.com/wp-content/uploads/2019/02/Ordes.jpg
END:VEVENT
BEGIN:VEVENT
DTSTART;TZID=Europe/Paris:20190227T100000
DTEND;TZID=Europe/Paris:20190227T210000
DTSTAMP:20260423T164643
CREATED:20190214T235609Z
LAST-MODIFIED:20190218T200948Z
UID:2899-1551261600-1551301200@www.ategal.com
SUMMARY:Visita guiada al 'Pórtico de la Gloria' de la catedral de Santiago
DESCRIPTION:Ategal Vigo organiza una excursión a Santiago de Compostela para una visita guiada al Pórtico de la Gloria\, el Museo de las Peregrinaciones y la Colegiata del Sar. Después\, paseo por el casco histórico\, patrimonio de la humanidad. \nSerá el miércoles 27 de febrero con salida a las 10.00 horas de la plaza Fernando el Católico de la ciudad olívica. \nLas personas interesadas deben inscribirse entre el 4 y el 22 de febrero en Ategal Vigo: \nTravesía do Pino 2\, Entrechán \, 36205 Vigo\n\n\n Tel: 986 481 600\n\n\n Mvl: 634 910 119\n\nvigo@ategal.com
URL:https://www.ategal.com/evento-ategal/2899/
LOCATION:Santiago de Compostela
ATTACH;FMTTYPE=image/jpeg:https://www.ategal.com/wp-content/uploads/2019/01/Portico.jpg
END:VEVENT
BEGIN:VEVENT
DTSTART;TZID=Europe/Paris:20190227T170000
DTEND;TZID=Europe/Paris:20190227T190000
DTSTAMP:20260423T164643
CREATED:20190219T230615Z
LAST-MODIFIED:20190219T231259Z
UID:2963-1551286800-1551294000@www.ategal.com
SUMMARY:2ª sesión en Ourense del proyecto 'Talento Senior. Liderando mi salud. Pautas para una salud de cine'
DESCRIPTION:El miércoles 27 de febrero entre las 17.00 h. y las 19.00 h. las aulas de Ategal Ourense y Viaqua organizan en el centro municipal La Molinera de la ciudad\, la 2º sesión del proyecto ‘Talento Senior. Liderando mi salud. Pautas para tener una salud de cine’. \nEn esta ocasión el taller\, impartido por  se basará en la película ‘2001 Una odisea del espacio: descanso y salud’. \nTodos los talleres están impartidos por la médica de familia y coach\, Estefanía Zardoya.  \nMás información y detalles sobre el proyecto en este enlace directo. 
URL:https://www.ategal.com/evento-ategal/2a-sesion-en-ourense-del-proyecto-talento-senior-liderando-mi-salud-pautas-para-una-salud-de-cine/
LOCATION:Centro Municipal La Molinera\, Ourense
ATTACH;FMTTYPE=image/jpeg:https://www.ategal.com/wp-content/uploads/2019/02/AtegalViaquaOU-13.jpg
END:VEVENT
END:VCALENDAR