BEGIN:VCALENDAR
VERSION:2.0
PRODID:-//Ategal - ECPv6.15.20//NONSGML v1.0//EN
CALSCALE:GREGORIAN
METHOD:PUBLISH
X-ORIGINAL-URL:https://www.ategal.com
X-WR-CALDESC:Eventos para Ategal
REFRESH-INTERVAL;VALUE=DURATION:PT1H
X-Robots-Tag:noindex
X-PUBLISHED-TTL:PT1H
BEGIN:VTIMEZONE
TZID:Europe/Paris
BEGIN:DAYLIGHT
TZOFFSETFROM:+0100
TZOFFSETTO:+0200
TZNAME:CEST
DTSTART:20180325T010000
END:DAYLIGHT
BEGIN:STANDARD
TZOFFSETFROM:+0200
TZOFFSETTO:+0100
TZNAME:CET
DTSTART:20181028T010000
END:STANDARD
BEGIN:DAYLIGHT
TZOFFSETFROM:+0100
TZOFFSETTO:+0200
TZNAME:CEST
DTSTART:20190331T010000
END:DAYLIGHT
BEGIN:STANDARD
TZOFFSETFROM:+0200
TZOFFSETTO:+0100
TZNAME:CET
DTSTART:20191027T010000
END:STANDARD
BEGIN:DAYLIGHT
TZOFFSETFROM:+0100
TZOFFSETTO:+0200
TZNAME:CEST
DTSTART:20200329T010000
END:DAYLIGHT
BEGIN:STANDARD
TZOFFSETFROM:+0200
TZOFFSETTO:+0100
TZNAME:CET
DTSTART:20201025T010000
END:STANDARD
END:VTIMEZONE
BEGIN:VEVENT
DTSTART;TZID=Europe/Paris:20190321T170000
DTEND;TZID=Europe/Paris:20190321T190000
DTSTAMP:20260423T164642
CREATED:20190307T103632Z
LAST-MODIFIED:20190321T100109Z
UID:3101-1553187600-1553194800@www.ategal.com
SUMMARY:Terceiro Taller do curso "Unha saúde de cine" nas Aulas Senior de ATEGAL Santiago.
DESCRIPTION:Terceira sesión nas aulas de Santiago do curso ‘Unha saúde de cine’ co  título ‘Saúde: vida en movimento»\, impartido pola doutora de familia e coaching\, Estefanía Zardoya e o doutor Javier Alejandro Amestoy.  \nCelébrase as 17.00 horas na sede de Ategal Santiago: rúa Virxe da Cerca\, 31 (edificio Xesuitas\, ao carón do Mestre Mateo). \nO resto de talleres celebraranse\, de 17 horas a 19 horas os xoves 11 de abril\, 21 de maio e 18 de xuño.  \nMáis información: Ategal Santiago \n\n\n Tel: 981 581 533\n\n\ncoordinacion@ategal.com\n 
URL:https://www.ategal.com/evento-ategal/terceiro-taller-do-curso-unha-saude-de-cine-nas-aulas-senior-de-ategal-santiago/
LOCATION:Ategal Santiago\, Rúa Virxe da Cerca\, 31\, Santiago de Compostela\, A Coruña
ATTACH;FMTTYPE=image/jpeg:https://www.ategal.com/wp-content/uploads/2019/01/ViaquaAtegal-16.jpg
END:VEVENT
BEGIN:VEVENT
DTSTART;TZID=Europe/Paris:20190321T193000
DTEND;TZID=Europe/Paris:20190321T210000
DTSTAMP:20260423T164642
CREATED:20190320T213904Z
LAST-MODIFIED:20190320T220348Z
UID:3175-1553196600-1553202000@www.ategal.com
SUMMARY:Nueva sesión del 'Club de Lectura' en Ategal A Coruña
DESCRIPTION:Las Aulas Senior de A Coruña celebran este jueves 21 de marzo una sesión más del ‘Club de Lectura’ en la sala Blanco Vega que tendrá lugar a las 19.30 horas en el 5º piso de la entidad.
URL:https://www.ategal.com/evento-ategal/nueva-sesion-del-club-de-lectura-en-ategal-a-coruna/
LOCATION:Ategal A Coruña\, A Coruña
ATTACH;FMTTYPE=image/jpeg:https://www.ategal.com/wp-content/uploads/2019/03/Lectura.jpg
END:VEVENT
END:VCALENDAR