BEGIN:VCALENDAR
VERSION:2.0
PRODID:-//Ategal - ECPv6.15.20//NONSGML v1.0//EN
CALSCALE:GREGORIAN
METHOD:PUBLISH
X-ORIGINAL-URL:https://www.ategal.com
X-WR-CALDESC:Eventos para Ategal
REFRESH-INTERVAL;VALUE=DURATION:PT1H
X-Robots-Tag:noindex
X-PUBLISHED-TTL:PT1H
BEGIN:VTIMEZONE
TZID:Europe/Paris
BEGIN:DAYLIGHT
TZOFFSETFROM:+0100
TZOFFSETTO:+0200
TZNAME:CEST
DTSTART:20180325T010000
END:DAYLIGHT
BEGIN:STANDARD
TZOFFSETFROM:+0200
TZOFFSETTO:+0100
TZNAME:CET
DTSTART:20181028T010000
END:STANDARD
BEGIN:DAYLIGHT
TZOFFSETFROM:+0100
TZOFFSETTO:+0200
TZNAME:CEST
DTSTART:20190331T010000
END:DAYLIGHT
BEGIN:STANDARD
TZOFFSETFROM:+0200
TZOFFSETTO:+0100
TZNAME:CET
DTSTART:20191027T010000
END:STANDARD
BEGIN:DAYLIGHT
TZOFFSETFROM:+0100
TZOFFSETTO:+0200
TZNAME:CEST
DTSTART:20200329T010000
END:DAYLIGHT
BEGIN:STANDARD
TZOFFSETFROM:+0200
TZOFFSETTO:+0100
TZNAME:CET
DTSTART:20201025T010000
END:STANDARD
END:VTIMEZONE
BEGIN:VEVENT
DTSTART;TZID=Europe/Paris:20190322T110000
DTEND;TZID=Europe/Paris:20190322T123000
DTSTAMP:20260423T164623
CREATED:20190303T165557Z
LAST-MODIFIED:20190303T165604Z
UID:3067-1553252400-1553257800@www.ategal.com
SUMMARY:'Club de Lectura' en Ategal Padrón: "Care Santos: Media Vida"
DESCRIPTION:Las aulas Ategal Padrón\, en colaboración con la Fundación Camilo José Cela\, continúa con su programa anual ‘Club de Lectura’ con una nueva sesión el viernes 22 de marzo a partir de las 11.00 horas en las propias aulas de Padrón. \nEn esta ocasión analizando y disfrutando de la obra «Media Vida» de la autora Care Santos.  \nMás información sobre Care Santos y sus obras en este enlace directo. 
URL:https://www.ategal.com/evento-ategal/club-de-lectura-en-ategal-padron-care-santos-media-vida/
LOCATION:Ategal Padrón
ATTACH;FMTTYPE=image/jpeg:https://www.ategal.com/wp-content/uploads/2019/03/Padrón.jpg
END:VEVENT
END:VCALENDAR