BEGIN:VCALENDAR
VERSION:2.0
PRODID:-//Ategal - ECPv6.15.20//NONSGML v1.0//EN
CALSCALE:GREGORIAN
METHOD:PUBLISH
X-ORIGINAL-URL:https://www.ategal.com
X-WR-CALDESC:Eventos para Ategal
REFRESH-INTERVAL;VALUE=DURATION:PT1H
X-Robots-Tag:noindex
X-PUBLISHED-TTL:PT1H
BEGIN:VTIMEZONE
TZID:Europe/Paris
BEGIN:DAYLIGHT
TZOFFSETFROM:+0100
TZOFFSETTO:+0200
TZNAME:CEST
DTSTART:20180325T010000
END:DAYLIGHT
BEGIN:STANDARD
TZOFFSETFROM:+0200
TZOFFSETTO:+0100
TZNAME:CET
DTSTART:20181028T010000
END:STANDARD
BEGIN:DAYLIGHT
TZOFFSETFROM:+0100
TZOFFSETTO:+0200
TZNAME:CEST
DTSTART:20190331T010000
END:DAYLIGHT
BEGIN:STANDARD
TZOFFSETFROM:+0200
TZOFFSETTO:+0100
TZNAME:CET
DTSTART:20191027T010000
END:STANDARD
BEGIN:DAYLIGHT
TZOFFSETFROM:+0100
TZOFFSETTO:+0200
TZNAME:CEST
DTSTART:20200329T010000
END:DAYLIGHT
BEGIN:STANDARD
TZOFFSETFROM:+0200
TZOFFSETTO:+0100
TZNAME:CET
DTSTART:20201025T010000
END:STANDARD
END:VTIMEZONE
BEGIN:VEVENT
DTSTART;TZID=Europe/Paris:20190326T163000
DTEND;TZID=Europe/Paris:20190326T173000
DTSTAMP:20260423T164642
CREATED:20190214T190428Z
LAST-MODIFIED:20190214T190428Z
UID:2885-1553617800-1553621400@www.ategal.com
SUMMARY:Visita ao Pórtico da Gloria do alumnado de Ategal de Santiago
DESCRIPTION:O martes 26 de marzo a sede de Ategal de Santiago organiza dúas visitas guiadas ao Pórtico da Gloria de Santiago de Compostela. \nO punto de encontro para todas as persoas inscritas será no Palacio de Xelmírez 10 minutos antes da visita. \nMáis información nas propias aulas de Santiago na Virxe da Cerca\, 31 ou no teléfono da súa sede: 981 581 533 
URL:https://www.ategal.com/evento-ategal/visita-ao-portico-da-gloria-do-alumnado-de-ategal-de-santiago/
LOCATION:Ategal Santiago\, Rúa Virxe da Cerca\, 31\, Santiago de Compostela\, A Coruña
END:VEVENT
BEGIN:VEVENT
DTSTART;TZID=Europe/Paris:20190326T180000
DTEND;TZID=Europe/Paris:20190326T200000
DTSTAMP:20260423T164642
CREATED:20190302T151057Z
LAST-MODIFIED:20190302T151625Z
UID:3061-1553623200-1553630400@www.ategal.com
SUMMARY:Programa 'Música para disfrutar. Audiciones' de Ategal Vigo: "Tristán e Isolda; El anillo del nibelungo; Parsifal"
DESCRIPTION:Las aulas de Ategal Vigo celebran la sexta sesión de su programa anual ‘Música para disfrutar. Audiciones’ con las obras de Wagner: «El anillo del nibelungo»\, «Tristán e Isolda» y «Parsifal».  \nLa audición se celebra el martes 26 de marzo a las 18.00 horas en la propia sede de las aulas: \nTravesía de Pino\, 2-entresuelo. \n 
URL:https://www.ategal.com/evento-ategal/programa-musica-para-disfrutar-audiciones-de-ategal-vigo-tristan-e-isolda-el-anillo-del-nibelungo-parsifal/
LOCATION:Ategal Vigo\, Travesía do Pino\, 2-entrechan\, Vigo
ATTACH;FMTTYPE=image/jpeg:https://www.ategal.com/wp-content/uploads/2019/03/download-1.jpg
END:VEVENT
BEGIN:VEVENT
DTSTART;TZID=Europe/Paris:20190326T200000
DTEND;TZID=Europe/Paris:20190326T213000
DTSTAMP:20260423T164642
CREATED:20190323T010425Z
LAST-MODIFIED:20190323T011502Z
UID:3188-1553630400-1553635800@www.ategal.com
SUMMARY:Conferencia de José María de Castro\, "Amar y servir en todo" en Ategal A Coruña
DESCRIPTION:El martes 26 de marzo a las 20.00 horas en el salón de actos del primer piso\, las aulas de Ategal A Coruña celebran la conferencia de José María de Castro\, «Amar y servir en todo. Una mística hacia el mundo».
URL:https://www.ategal.com/evento-ategal/3188/
LOCATION:Ategal A Coruña\, A Coruña
ATTACH;FMTTYPE=image/png:https://www.ategal.com/wp-content/uploads/2019/03/Captura-de-pantalla-2019-03-23-a-las-2.13.31.png
END:VEVENT
END:VCALENDAR