BEGIN:VCALENDAR
VERSION:2.0
PRODID:-//Ategal - ECPv6.15.20//NONSGML v1.0//EN
CALSCALE:GREGORIAN
METHOD:PUBLISH
X-ORIGINAL-URL:https://www.ategal.com
X-WR-CALDESC:Eventos para Ategal
REFRESH-INTERVAL;VALUE=DURATION:PT1H
X-Robots-Tag:noindex
X-PUBLISHED-TTL:PT1H
BEGIN:VTIMEZONE
TZID:Europe/Paris
BEGIN:DAYLIGHT
TZOFFSETFROM:+0100
TZOFFSETTO:+0200
TZNAME:CEST
DTSTART:20180325T010000
END:DAYLIGHT
BEGIN:STANDARD
TZOFFSETFROM:+0200
TZOFFSETTO:+0100
TZNAME:CET
DTSTART:20181028T010000
END:STANDARD
BEGIN:DAYLIGHT
TZOFFSETFROM:+0100
TZOFFSETTO:+0200
TZNAME:CEST
DTSTART:20190331T010000
END:DAYLIGHT
BEGIN:STANDARD
TZOFFSETFROM:+0200
TZOFFSETTO:+0100
TZNAME:CET
DTSTART:20191027T010000
END:STANDARD
BEGIN:DAYLIGHT
TZOFFSETFROM:+0100
TZOFFSETTO:+0200
TZNAME:CEST
DTSTART:20200329T010000
END:DAYLIGHT
BEGIN:STANDARD
TZOFFSETFROM:+0200
TZOFFSETTO:+0100
TZNAME:CET
DTSTART:20201025T010000
END:STANDARD
END:VTIMEZONE
BEGIN:VEVENT
DTSTART;TZID=Europe/Paris:20190328T090000
DTEND;TZID=Europe/Paris:20190328T180000
DTSTAMP:20260423T164622
CREATED:20190312T205122Z
LAST-MODIFIED:20190312T205128Z
UID:3149-1553763600-1553796000@www.ategal.com
SUMMARY:El alumnado de Ategal Padrón acude a disfrutar del Balneario de Cuntis
DESCRIPTION:El alumnado de Ategal Padrón acudirá a disfrutar del Balneario de Cuntis el jueves 28 de marzo. \nLa actividad se engloba dentro del Programa Termal en el que está subscrito Ategal.
URL:https://www.ategal.com/evento-ategal/el-alumnado-de-ategal-padron-acude-a-disfrutar-del-balneario-de-cuntis/
LOCATION:Balneario de Cuntis
ATTACH;FMTTYPE=image/jpeg:https://www.ategal.com/wp-content/uploads/2019/03/download-1-2.jpg
END:VEVENT
BEGIN:VEVENT
DTSTART;TZID=Europe/Paris:20190328T183000
DTEND;TZID=Europe/Paris:20190328T200000
DTSTAMP:20260423T164622
CREATED:20190314T193641Z
LAST-MODIFIED:20190314T193650Z
UID:3158-1553797800-1553803200@www.ategal.com
SUMMARY:Visita guiada de Ategal Santiago á 'Mostra Internacional de Ilustración Contemporanea' en Afundación
DESCRIPTION:O alumnado de Ategal Santiago organiza unha visita guiada á sede de Afundación da cidade (rúa do Vilar\, 19) para desfrutar da ‘MiiC2. Mostra Internacional de Ilustración Contemporánea’. \nA actividade celébrase o xoves 28 de marzo as 18\,30 horas. \n  \nMáis información neste enlace directo.  \n 
URL:https://www.ategal.com/evento-ategal/visita-guiada-de-ategal-santiago-a-mostra-internacional-de-ilustracion-contemporanea-en-afundacion/
LOCATION:Sede Afundación de Santiago\, Rúa do Vilar\, 19\, Santiago de Compostela
ATTACH;FMTTYPE=image/jpeg:https://www.ategal.com/wp-content/uploads/2019/03/MostraIlustración.jpg
END:VEVENT
BEGIN:VEVENT
DTSTART;TZID=Europe/Paris:20190328T200000
DTEND;TZID=Europe/Paris:20190328T213000
DTSTAMP:20260423T164622
CREATED:20190324T184654Z
LAST-MODIFIED:20190324T184852Z
UID:3213-1553803200-1553808600@www.ategal.com
SUMMARY:Nuevo Espacio Taizé\, en Ategal A Coruña\, con el título: "La Paz"
DESCRIPTION:Las aulas Ategal A Coruña celebran una nueva sesión de su ‘Espacio Taizé’ bajo el título: «La Paz». \nSerá este jueves 28 de marzo a las 20.00 horas en la Iglesia del Sagrado Corazón de la ciudad. 
URL:https://www.ategal.com/evento-ategal/nuevo-espacio-taize-en-ategal-a-coruna-con-el-titulo-la-paz/
LOCATION:Ategal A Coruña\, A Coruña
END:VEVENT
END:VCALENDAR