BEGIN:VCALENDAR
VERSION:2.0
PRODID:-//Ategal - ECPv6.15.20//NONSGML v1.0//EN
CALSCALE:GREGORIAN
METHOD:PUBLISH
X-WR-CALNAME:Ategal
X-ORIGINAL-URL:https://www.ategal.com
X-WR-CALDESC:Eventos para Ategal
REFRESH-INTERVAL;VALUE=DURATION:PT1H
X-Robots-Tag:noindex
X-PUBLISHED-TTL:PT1H
BEGIN:VTIMEZONE
TZID:Europe/Paris
BEGIN:DAYLIGHT
TZOFFSETFROM:+0100
TZOFFSETTO:+0200
TZNAME:CEST
DTSTART:20180325T010000
END:DAYLIGHT
BEGIN:STANDARD
TZOFFSETFROM:+0200
TZOFFSETTO:+0100
TZNAME:CET
DTSTART:20181028T010000
END:STANDARD
BEGIN:DAYLIGHT
TZOFFSETFROM:+0100
TZOFFSETTO:+0200
TZNAME:CEST
DTSTART:20190331T010000
END:DAYLIGHT
BEGIN:STANDARD
TZOFFSETFROM:+0200
TZOFFSETTO:+0100
TZNAME:CET
DTSTART:20191027T010000
END:STANDARD
BEGIN:DAYLIGHT
TZOFFSETFROM:+0100
TZOFFSETTO:+0200
TZNAME:CEST
DTSTART:20200329T010000
END:DAYLIGHT
BEGIN:STANDARD
TZOFFSETFROM:+0200
TZOFFSETTO:+0100
TZNAME:CET
DTSTART:20201025T010000
END:STANDARD
END:VTIMEZONE
BEGIN:VEVENT
DTSTART;TZID=Europe/Paris:20190329T120000
DTEND;TZID=Europe/Paris:20190329T130000
DTSTAMP:20260423T164445
CREATED:20190324T185928Z
LAST-MODIFIED:20190324T185947Z
UID:3215-1553860800-1553864400@www.ategal.com
SUMMARY:Presentación del curso breve de 'Gimnasia para mayores' de abril
DESCRIPTION:Este viernes 29 de marzo a las 12.00 horas\, las aulas Ategal A Coruña presentan el curso breve que celebrarán en el mes de abril de ‘Gimnasia para mayores’ con una primera sesión gratuita. \nEl curso se celebrará todos los viernes de abril\, es decir\, son cuatro sesiones\, a las 12.00 horas.  \nSu precio es de 10 € para alumnado\, 20 € para no alumnado.  
URL:https://www.ategal.com/evento-ategal/presentacion-del-curso-breve-de-gimnasia-para-mayores-de-abril/
LOCATION:Ategal A Coruña\, A Coruña
END:VEVENT
BEGIN:VEVENT
DTSTART;TZID=Europe/Paris:20190329T180000
DTEND;TZID=Europe/Paris:20190329T200000
DTSTAMP:20260423T164445
CREATED:20190324T192340Z
LAST-MODIFIED:20190329T112553Z
UID:3218-1553882400-1553889600@www.ategal.com
SUMMARY:'Cine Forum' en Ategal A Coruña: "Gaudí\, la película"
DESCRIPTION:Ategal A Coruña celebra una sesión más de su ‘Cine Forum’ con la película\, «Gaudí». \nSerá este viernes 29 de marzo a las 18.00 horas en el aula 1 del 2º piso. \nEste es un film desconocido y minoritario que se acerca a la figura del artista catalán y que se basa en «Gaudí\, una novela»\, obra escrita por Mario Lacruz. Está protagonizada por Maria Matilde Almendros y Rafael Anglada.
URL:https://www.ategal.com/evento-ategal/cine-forum-en-ategal-a-coruna-gaudi-la-pelicula/
LOCATION:Ategal A Coruña\, A Coruña
ATTACH;FMTTYPE=image/jpeg:https://www.ategal.com/wp-content/uploads/2019/03/47e40b57e413f7b4dce65eb609850293.jpg
END:VEVENT
END:VCALENDAR