BEGIN:VCALENDAR
VERSION:2.0
PRODID:-//Ategal - ECPv6.15.20//NONSGML v1.0//EN
CALSCALE:GREGORIAN
METHOD:PUBLISH
X-WR-CALNAME:Ategal
X-ORIGINAL-URL:https://www.ategal.com
X-WR-CALDESC:Eventos para Ategal
REFRESH-INTERVAL;VALUE=DURATION:PT1H
X-Robots-Tag:noindex
X-PUBLISHED-TTL:PT1H
BEGIN:VTIMEZONE
TZID:Europe/Paris
BEGIN:DAYLIGHT
TZOFFSETFROM:+0100
TZOFFSETTO:+0200
TZNAME:CEST
DTSTART:20180325T010000
END:DAYLIGHT
BEGIN:STANDARD
TZOFFSETFROM:+0200
TZOFFSETTO:+0100
TZNAME:CET
DTSTART:20181028T010000
END:STANDARD
BEGIN:DAYLIGHT
TZOFFSETFROM:+0100
TZOFFSETTO:+0200
TZNAME:CEST
DTSTART:20190331T010000
END:DAYLIGHT
BEGIN:STANDARD
TZOFFSETFROM:+0200
TZOFFSETTO:+0100
TZNAME:CET
DTSTART:20191027T010000
END:STANDARD
BEGIN:DAYLIGHT
TZOFFSETFROM:+0100
TZOFFSETTO:+0200
TZNAME:CEST
DTSTART:20200329T010000
END:DAYLIGHT
BEGIN:STANDARD
TZOFFSETFROM:+0200
TZOFFSETTO:+0100
TZNAME:CET
DTSTART:20201025T010000
END:STANDARD
END:VTIMEZONE
BEGIN:VEVENT
DTSTART;VALUE=DATE:20190403
DTEND;VALUE=DATE:20190404
DTSTAMP:20260423T150930
CREATED:20190331T170155Z
LAST-MODIFIED:20190401T100959Z
UID:3271-1554249600-1554335999@www.ategal.com
SUMMARY:Excursión a Ribadavia de las aulas de Santiago
DESCRIPTION:Las aulas de Ategal Santiago realizan una salida a Ribadavia el miércoles 3 d abril. Una jornada de día completo. \nEl punto de encuentro es ante las propias aulas de Santiago\, a las 10.00 horas del día de excursión. La hora prevista de regreso es a las 20.30 horas. \nEl programa es el siguiente: \n\nPor la mañana: visita guiada al Museo Etnográfico\, Museo Judío y Castillo.\nPor la tarde: visita guiada al casco histórico\n\nMás información e inscripciones en la sede de Ategal Santiago:  \nRúa Virxe da Cerca 31\, 15703 Santiago de Compostela\n\n\n Tel: 981 581 533\n\n\n Fax: 981 585 657\n\n\n Mvl: 618 184 344\n\ncoordinacion@ategal.com
URL:https://www.ategal.com/evento-ategal/excursion-a-ribadavia-de-las-aulas-de-santiago/
LOCATION:Ategal Santiago\, Rúa Virxe da Cerca\, 31\, Santiago de Compostela\, A Coruña
ATTACH;FMTTYPE=image/jpeg:https://www.ategal.com/wp-content/uploads/2019/03/download-4.jpg
END:VEVENT
END:VCALENDAR