BEGIN:VCALENDAR
VERSION:2.0
PRODID:-//Ategal - ECPv6.15.20//NONSGML v1.0//EN
CALSCALE:GREGORIAN
METHOD:PUBLISH
X-WR-CALNAME:Ategal
X-ORIGINAL-URL:https://www.ategal.com
X-WR-CALDESC:Eventos para Ategal
REFRESH-INTERVAL;VALUE=DURATION:PT1H
X-Robots-Tag:noindex
X-PUBLISHED-TTL:PT1H
BEGIN:VTIMEZONE
TZID:Europe/Paris
BEGIN:DAYLIGHT
TZOFFSETFROM:+0100
TZOFFSETTO:+0200
TZNAME:CEST
DTSTART:20180325T010000
END:DAYLIGHT
BEGIN:STANDARD
TZOFFSETFROM:+0200
TZOFFSETTO:+0100
TZNAME:CET
DTSTART:20181028T010000
END:STANDARD
BEGIN:DAYLIGHT
TZOFFSETFROM:+0100
TZOFFSETTO:+0200
TZNAME:CEST
DTSTART:20190331T010000
END:DAYLIGHT
BEGIN:STANDARD
TZOFFSETFROM:+0200
TZOFFSETTO:+0100
TZNAME:CET
DTSTART:20191027T010000
END:STANDARD
BEGIN:DAYLIGHT
TZOFFSETFROM:+0100
TZOFFSETTO:+0200
TZNAME:CEST
DTSTART:20200329T010000
END:DAYLIGHT
BEGIN:STANDARD
TZOFFSETFROM:+0200
TZOFFSETTO:+0100
TZNAME:CET
DTSTART:20201025T010000
END:STANDARD
END:VTIMEZONE
BEGIN:VEVENT
DTSTART;TZID=Europe/Paris:20190411T100000
DTEND;TZID=Europe/Paris:20190411T220000
DTSTAMP:20260423T150930
CREATED:20190402T151759Z
LAST-MODIFIED:20190410T124746Z
UID:3332-1554976800-1555020000@www.ategal.com
SUMMARY:XVI Xornadas Interxeneracionais en Ourense
DESCRIPTION:(Víctor Sariego\, 2/4/2019).- As Aulas Senior de Galicia en Ourense\, Ategal\, e maís o Campus de Ourense da Universidade de Vigo (Uvigo) celebran o 11 de abril as XVI Xornadas Interxeneracionais cun amplo programa que se pecha\, na tarde noite\, co concerto do grupo Xerock e un sorteo para todas as personas participantes nas xornadas. \n  \nNo encontro e como todos os anos\, vanse xuntar centos de persoas maiores e novas de Ourense e resto de Galicia. \n \n  \nMáis información e inscripcións en Ategal Ourense: \nProgreso\, 66 Entrechán A\, 32003 Ourense\n\n\n\n\n Tel: 988 215 077\n\n\n Mvl: 634 910 125\n\nourense@ategal.com\n\n\n\n 
URL:https://www.ategal.com/evento-ategal/xi-xornadas-interxeneracionais-en-ourense/
LOCATION:Ourense
ATTACH;FMTTYPE=image/jpeg:https://www.ategal.com/wp-content/uploads/2019/04/56453049_264941227726083_2920468651930812416_n.jpg
END:VEVENT
BEGIN:VEVENT
DTSTART;TZID=Europe/Paris:20190411T170000
DTEND;TZID=Europe/Paris:20190411T190000
DTSTAMP:20260423T150930
CREATED:20190402T102019Z
LAST-MODIFIED:20190402T102027Z
UID:3322-1555002000-1555009200@www.ategal.com
SUMMARY:Nuevo taller del programa "Una salud de cine" en las aulas de Santiago
DESCRIPTION:Cuarta sesión de las aulas de Santiago de los talleres del proyecto entre Ategal y Viaqua ‘Una salud de cine’ que se celebra\, como es habitual\, en la propia sede de la entidad (Virxe da Cerca\, 31) entre las 17 horas y las 19.00 horas.  \nLos talleres están impartidos por la médica de familia y coach\, Estefanía Zardoya.  \nMás información sobre el proyecto aquí\, en este enlace directo. 
URL:https://www.ategal.com/evento-ategal/nuevo-taller-del-programa-una-salud-de-cine-en-las-aulas-de-santiago/
LOCATION:Ategal Santiago\, Rúa Virxe da Cerca\, 31\, Santiago de Compostela\, A Coruña
ATTACH;FMTTYPE=image/jpeg:https://www.ategal.com/wp-content/uploads/2019/03/AF_Santiago_01-scaled.jpg
END:VEVENT
END:VCALENDAR