BEGIN:VCALENDAR
VERSION:2.0
PRODID:-//Ategal - ECPv6.15.20//NONSGML v1.0//EN
CALSCALE:GREGORIAN
METHOD:PUBLISH
X-WR-CALNAME:Ategal
X-ORIGINAL-URL:https://www.ategal.com
X-WR-CALDESC:Eventos para Ategal
REFRESH-INTERVAL;VALUE=DURATION:PT1H
X-Robots-Tag:noindex
X-PUBLISHED-TTL:PT1H
BEGIN:VTIMEZONE
TZID:Europe/Paris
BEGIN:DAYLIGHT
TZOFFSETFROM:+0100
TZOFFSETTO:+0200
TZNAME:CEST
DTSTART:20180325T010000
END:DAYLIGHT
BEGIN:STANDARD
TZOFFSETFROM:+0200
TZOFFSETTO:+0100
TZNAME:CET
DTSTART:20181028T010000
END:STANDARD
BEGIN:DAYLIGHT
TZOFFSETFROM:+0100
TZOFFSETTO:+0200
TZNAME:CEST
DTSTART:20190331T010000
END:DAYLIGHT
BEGIN:STANDARD
TZOFFSETFROM:+0200
TZOFFSETTO:+0100
TZNAME:CET
DTSTART:20191027T010000
END:STANDARD
BEGIN:DAYLIGHT
TZOFFSETFROM:+0100
TZOFFSETTO:+0200
TZNAME:CEST
DTSTART:20200329T010000
END:DAYLIGHT
BEGIN:STANDARD
TZOFFSETFROM:+0200
TZOFFSETTO:+0100
TZNAME:CET
DTSTART:20201025T010000
END:STANDARD
END:VTIMEZONE
BEGIN:VEVENT
DTSTART;TZID=Europe/Paris:20190420T110000
DTEND;TZID=Europe/Paris:20190420T123000
DTSTAMP:20260423T150916
CREATED:20190414T185356Z
LAST-MODIFIED:20190414T185532Z
UID:3380-1555758000-1555763400@www.ategal.com
SUMMARY:Nueva conferencia de José Ignacio García Jiménez en Ategal A Coruña
DESCRIPTION:La sede de Ategal en A Coruña celebra una conferencia sobre varios temas de actualidad\, principalmente la pastoral jesuita\, con el teólogo y economista\, José Ignacio García Jiménez.  \nEl acto se celebra el sábado de abril a las 11.00 horas en el Salón de Actos.
URL:https://www.ategal.com/evento-ategal/nueva-conferencia-de-jose-ignacio-garcia-jimenez-en-ategal-a-coruna/
LOCATION:A Coruña
ATTACH;FMTTYPE=image/jpeg:https://www.ategal.com/wp-content/uploads/2019/04/joseIgnacioSJ.jpg
END:VEVENT
END:VCALENDAR