BEGIN:VCALENDAR
VERSION:2.0
PRODID:-//Ategal - ECPv6.15.20//NONSGML v1.0//EN
CALSCALE:GREGORIAN
METHOD:PUBLISH
X-WR-CALNAME:Ategal
X-ORIGINAL-URL:https://www.ategal.com
X-WR-CALDESC:Eventos para Ategal
REFRESH-INTERVAL;VALUE=DURATION:PT1H
X-Robots-Tag:noindex
X-PUBLISHED-TTL:PT1H
BEGIN:VTIMEZONE
TZID:Europe/Paris
BEGIN:DAYLIGHT
TZOFFSETFROM:+0100
TZOFFSETTO:+0200
TZNAME:CEST
DTSTART:20180325T010000
END:DAYLIGHT
BEGIN:STANDARD
TZOFFSETFROM:+0200
TZOFFSETTO:+0100
TZNAME:CET
DTSTART:20181028T010000
END:STANDARD
BEGIN:DAYLIGHT
TZOFFSETFROM:+0100
TZOFFSETTO:+0200
TZNAME:CEST
DTSTART:20190331T010000
END:DAYLIGHT
BEGIN:STANDARD
TZOFFSETFROM:+0200
TZOFFSETTO:+0100
TZNAME:CET
DTSTART:20191027T010000
END:STANDARD
BEGIN:DAYLIGHT
TZOFFSETFROM:+0100
TZOFFSETTO:+0200
TZNAME:CEST
DTSTART:20200329T010000
END:DAYLIGHT
BEGIN:STANDARD
TZOFFSETFROM:+0200
TZOFFSETTO:+0100
TZNAME:CET
DTSTART:20201025T010000
END:STANDARD
END:VTIMEZONE
BEGIN:VEVENT
DTSTART;TZID=Europe/Paris:20190424T170000
DTEND;TZID=Europe/Paris:20190424T190000
DTSTAMP:20260423T150930
CREATED:20190401T100024Z
LAST-MODIFIED:20190401T100255Z
UID:3286-1556125200-1556132400@www.ategal.com
SUMMARY:Nuevo taller del proyecto "Una salud de cine" de Ategal Ourense en 'La Molinera'
DESCRIPTION:Cuarta sesión de las aulas de Ourense de los talleres del proyecto entre Ategal y Viaqua ‘Una salud de cine’ que se celebra\, como es habitual\, en el centro municipal La Molinera\, entre las 17 horas y las 19.00 horas.  \nLos talleres están impartidos por la médica de familia y coach\, Estefanía Zardoya.  \nMás información sobre el proyecto aquí\, en este enlace directo.
URL:https://www.ategal.com/evento-ategal/3286/
LOCATION:Centro Municipal La Molinera\, Ourense
ATTACH;FMTTYPE=image/jpeg:https://www.ategal.com/wp-content/uploads/2019/02/LaMolinera-2.jpg
END:VEVENT
BEGIN:VEVENT
DTSTART;TZID=Europe/Paris:20190424T180000
DTEND;TZID=Europe/Paris:20190424T193000
DTSTAMP:20260423T150930
CREATED:20190414T190700Z
LAST-MODIFIED:20190414T190707Z
UID:3382-1556128800-1556134200@www.ategal.com
SUMMARY:Visita guiada a la exposición 'Yo\, Abelenda' en Afundación A Coruña
DESCRIPTION:Las aulas de Ategal A Coruña convocan una visita guiada a la exposición\, ‘Yo\, Abelenda’ que se puede ver en la sala Afundación de la ciudad. \nLa actividad\, que tiene el precio de 1 €\, se celebra el miércoles 24 de abril a las 18.00 horas.  \nEl punto de encuentro es en la puerta principal de la propias sede de Afundación de A Coruña (rúa Cantón Grande\, 8) unos minutos antes de las 18.00 horas. \nMás información sobre la muestra y el autor\, aquí\, en este enlace directo.
URL:https://www.ategal.com/evento-ategal/visita-guiada-a-la-exposicion-yo-abelenda-en-afundacion-a-coruna/
LOCATION:Sala Afundación A Coruña\, Rúa Cantón Grande\, 8\, A Coruña
ATTACH;FMTTYPE=image/jpeg:https://www.ategal.com/wp-content/uploads/2019/04/abelenda__default__wide.jpg
END:VEVENT
END:VCALENDAR