BEGIN:VCALENDAR
VERSION:2.0
PRODID:-//Ategal - ECPv6.15.20//NONSGML v1.0//EN
CALSCALE:GREGORIAN
METHOD:PUBLISH
X-ORIGINAL-URL:https://www.ategal.com
X-WR-CALDESC:Eventos para Ategal
REFRESH-INTERVAL;VALUE=DURATION:PT1H
X-Robots-Tag:noindex
X-PUBLISHED-TTL:PT1H
BEGIN:VTIMEZONE
TZID:Europe/Paris
BEGIN:DAYLIGHT
TZOFFSETFROM:+0100
TZOFFSETTO:+0200
TZNAME:CEST
DTSTART:20180325T010000
END:DAYLIGHT
BEGIN:STANDARD
TZOFFSETFROM:+0200
TZOFFSETTO:+0100
TZNAME:CET
DTSTART:20181028T010000
END:STANDARD
BEGIN:DAYLIGHT
TZOFFSETFROM:+0100
TZOFFSETTO:+0200
TZNAME:CEST
DTSTART:20190331T010000
END:DAYLIGHT
BEGIN:STANDARD
TZOFFSETFROM:+0200
TZOFFSETTO:+0100
TZNAME:CET
DTSTART:20191027T010000
END:STANDARD
BEGIN:DAYLIGHT
TZOFFSETFROM:+0100
TZOFFSETTO:+0200
TZNAME:CEST
DTSTART:20200329T010000
END:DAYLIGHT
BEGIN:STANDARD
TZOFFSETFROM:+0200
TZOFFSETTO:+0100
TZNAME:CET
DTSTART:20201025T010000
END:STANDARD
END:VTIMEZONE
BEGIN:VEVENT
DTSTART;VALUE=DATE:20190510
DTEND;VALUE=DATE:20190511
DTSTAMP:20260423T132651
CREATED:20190509T081654Z
LAST-MODIFIED:20190509T081654Z
UID:3412-1557446400-1557532799@www.ategal.com
SUMMARY:Excursión a Guimaraes (Portugal) de las aulas de Vigo
DESCRIPTION:La sede de Ategal de Vigo celebra este viernes 10 de mayo una excursión a Guimaraes (Portugal). \nInformación e inscripciones:  \nAtegal Vigo (travesía do Pino\, 2-entrechan): 986 481 600 \nSalida a las 9.15 horas de la plaza Fernando el Católico. \nPrecio: 40 €
URL:https://www.ategal.com/evento-ategal/excursion-a-guimaraes-portugal-de-las-aulas-de-vigo/
LOCATION:Guimaraes\, Portugal
ATTACH;FMTTYPE=image/jpeg:https://www.ategal.com/wp-content/uploads/2019/05/download.jpg
END:VEVENT
BEGIN:VEVENT
DTSTART;TZID=Europe/Paris:20190510T173000
DTEND;TZID=Europe/Paris:20190510T190000
DTSTAMP:20260423T132651
CREATED:20190509T092226Z
LAST-MODIFIED:20190509T092438Z
UID:3435-1557509400-1557514800@www.ategal.com
SUMMARY:Relatoiro teórico práctico de Ategal Ferrol: "Pasos de saúde. Toca coidarse"
DESCRIPTION:As aulas de Ategal Ferrol celebran un obradoiro teórico práctico o venres 10 de maio as 17.3o horas co lema «Pasos de saúde. Toca coidarse».  \nO relatoiro é gratuito e celébrase na sede das aulas de Ferrol: Galiano\, 17\, 1º. \nImparte a psicóloga\, formadora e consultora en formación\, María José Fares. 
URL:https://www.ategal.com/evento-ategal/relatoiro-teorico-practico-de-ategal-ferrol-pasos-de-saude-toca-coidarse/
LOCATION:Ategal Ferrol\, Galiano\, 17-1º\, Ferrol
ATTACH;FMTTYPE=image/jpeg:https://www.ategal.com/wp-content/uploads/2019/05/Ferrol.jpg
END:VEVENT
END:VCALENDAR