BEGIN:VCALENDAR
VERSION:2.0
PRODID:-//Ategal - ECPv6.15.20//NONSGML v1.0//EN
CALSCALE:GREGORIAN
METHOD:PUBLISH
X-ORIGINAL-URL:https://www.ategal.com
X-WR-CALDESC:Eventos para Ategal
REFRESH-INTERVAL;VALUE=DURATION:PT1H
X-Robots-Tag:noindex
X-PUBLISHED-TTL:PT1H
BEGIN:VTIMEZONE
TZID:Europe/Paris
BEGIN:DAYLIGHT
TZOFFSETFROM:+0100
TZOFFSETTO:+0200
TZNAME:CEST
DTSTART:20180325T010000
END:DAYLIGHT
BEGIN:STANDARD
TZOFFSETFROM:+0200
TZOFFSETTO:+0100
TZNAME:CET
DTSTART:20181028T010000
END:STANDARD
BEGIN:DAYLIGHT
TZOFFSETFROM:+0100
TZOFFSETTO:+0200
TZNAME:CEST
DTSTART:20190331T010000
END:DAYLIGHT
BEGIN:STANDARD
TZOFFSETFROM:+0200
TZOFFSETTO:+0100
TZNAME:CET
DTSTART:20191027T010000
END:STANDARD
BEGIN:DAYLIGHT
TZOFFSETFROM:+0100
TZOFFSETTO:+0200
TZNAME:CEST
DTSTART:20200329T010000
END:DAYLIGHT
BEGIN:STANDARD
TZOFFSETFROM:+0200
TZOFFSETTO:+0100
TZNAME:CET
DTSTART:20201025T010000
END:STANDARD
END:VTIMEZONE
BEGIN:VEVENT
DTSTART;VALUE=DATE:20190514
DTEND;VALUE=DATE:20190515
DTSTAMP:20260423T132650
CREATED:20190513T132213Z
LAST-MODIFIED:20190513T205731Z
UID:3506-1557792000-1557878399@www.ategal.com
SUMMARY:Viaxe cultural de Ategal Padrón a Sargadelos\, Viveiro e Fuciño do Porco
DESCRIPTION:As aulas de Ategal Padrón realizan unha viaxe cultural a Sargadelos\, Viveiro e Fuciño do Porco durante o martes 14 de maio.  \nO programa inclúe unha visita guiada á fábrica de Sargadelos\, declarada –’Bien de interés cultural’– para coñecer o proceso de fabricación desta cerámica e o seu museo histórico. Tamén un paseo cultural e histórico por Viveiro e a localidade do Fuciño do Porco. \nPrezo da viaxe: 34 € \nMáis información e inscripcións:  \nAtegal Padrón \nCampo do Souto\, 2\, 15900 Padrón \nTel: 981 811 329\n 
URL:https://www.ategal.com/evento-ategal/viaxe-cultural-de-ategal-padron-a-sargadelos-viveiro-e-fucino-do-porco/
LOCATION:Sargadelos\, Viveiro e Fuciño do Porco
ATTACH;FMTTYPE=image/jpeg:https://www.ategal.com/wp-content/uploads/2019/05/Padrón.jpg
END:VEVENT
BEGIN:VEVENT
DTSTART;TZID=Europe/Paris:20190514T173000
DTEND;TZID=Europe/Paris:20190514T190000
DTSTAMP:20260423T132650
CREATED:20190509T100703Z
LAST-MODIFIED:20190509T100703Z
UID:3452-1557855000-1557860400@www.ategal.com
SUMMARY:Nueva sesión del curso de mindfulness para mayores en Ategal Vigo
DESCRIPTION:Como todos los martes desde principios de abril\, Ategal Vigo continúa con el curso de Mindfulness para personas mayores que incluye dos meses de talleres semanales y que está destinado tanto a alumnado de la asociación como a personas mayores no asociadas. \nEl curso está impartido por el psicólogo y experto en la materia\, Miguel Bello.  \nEl precio es de 25 € para alumnado y 50 € para personas no socias de la entidad. \nLas sesiones se celebran los martes de abril y mayo entre las 17.30 horas y las 19.00 horas en la sede de Ategal Vigo (Travesía do Pino\, 2-entrechan). \nEl mindfulness es un tipo de actividad que utiliza la concentración y otras técnicas psicológicas de atención\, con la que\, en definitiva\, se aprende a «parar». \nCon la práctica del Mindfulness se puede lograr una reducción del estrés emocional y físico\, potenciar la gestión emocional y la prevención de patologías. \nMás información sobre el contenido del curso en el email de Miguel Bello: \nmanbeva@gmail.com \nInscripciones e información en Ategal Vigo:  \nTravesía do Pino 2\, Entrechán\n\n\n Tel: 986 481 600\n\n\n Mvl: 634 910 119\n\nvigo@ategal.com
URL:https://www.ategal.com/evento-ategal/nueva-sesion-del-curso-de-mindfulness-para-mayores-en-ategal-vigo-2/
LOCATION:Ategal Vigo\, Travesía do Pino\, 2-entrechan\, Vigo\, Pontevedra
ATTACH;FMTTYPE=image/jpeg:https://www.ategal.com/wp-content/uploads/2019/03/Cartel3.jpg
END:VEVENT
END:VCALENDAR