BEGIN:VCALENDAR
VERSION:2.0
PRODID:-//Ategal - ECPv6.15.20//NONSGML v1.0//EN
CALSCALE:GREGORIAN
METHOD:PUBLISH
X-WR-CALNAME:Ategal
X-ORIGINAL-URL:https://www.ategal.com
X-WR-CALDESC:Eventos para Ategal
REFRESH-INTERVAL;VALUE=DURATION:PT1H
X-Robots-Tag:noindex
X-PUBLISHED-TTL:PT1H
BEGIN:VTIMEZONE
TZID:Europe/Paris
BEGIN:DAYLIGHT
TZOFFSETFROM:+0100
TZOFFSETTO:+0200
TZNAME:CEST
DTSTART:20180325T010000
END:DAYLIGHT
BEGIN:STANDARD
TZOFFSETFROM:+0200
TZOFFSETTO:+0100
TZNAME:CET
DTSTART:20181028T010000
END:STANDARD
BEGIN:DAYLIGHT
TZOFFSETFROM:+0100
TZOFFSETTO:+0200
TZNAME:CEST
DTSTART:20190331T010000
END:DAYLIGHT
BEGIN:STANDARD
TZOFFSETFROM:+0200
TZOFFSETTO:+0100
TZNAME:CET
DTSTART:20191027T010000
END:STANDARD
BEGIN:DAYLIGHT
TZOFFSETFROM:+0100
TZOFFSETTO:+0200
TZNAME:CEST
DTSTART:20200329T010000
END:DAYLIGHT
BEGIN:STANDARD
TZOFFSETFROM:+0200
TZOFFSETTO:+0100
TZNAME:CET
DTSTART:20201025T010000
END:STANDARD
END:VTIMEZONE
BEGIN:VEVENT
DTSTART;TZID=Europe/Paris:20190520T200000
DTEND;TZID=Europe/Paris:20190520T213000
DTSTAMP:20260423T132524
CREATED:20190512T232920Z
LAST-MODIFIED:20190512T232943Z
UID:3501-1558382400-1558387800@www.ategal.com
SUMMARY:'Día das Letras Galegas' nas sedes de Ferrol\, A Coruña\, Padrón\, Santiago\, Vigo e Ourense
DESCRIPTION:As sedes de Ategal de Ferrol\, A Coruña\, Santiago\, Vigo\, Ourense e Padrón celebran o Día das Letras Galegas o luns 20 a partires das 20.00 horas. \nA xornada conmemorativa\, que este ano está dedicada a Antón Fraguas\, contará con distintas actividades según a sede onde se celebren\, como recitales\, debates e retrospectivas audiovisuales.
URL:https://www.ategal.com/evento-ategal/dia-das-letras-galegas-nas-sedes-de-ferrol-a-coruna-padron-santiago-vigo-e-ourense/
LOCATION:Ategal A Coruña\, Ferrol\, Santiago\, Padrón\, Vigo e Ourense
ATTACH;FMTTYPE=image/jpeg:https://www.ategal.com/wp-content/uploads/2019/05/LetrasGalegas.jpeg
END:VEVENT
END:VCALENDAR