BEGIN:VCALENDAR
VERSION:2.0
PRODID:-//Ategal - ECPv6.15.20//NONSGML v1.0//EN
CALSCALE:GREGORIAN
METHOD:PUBLISH
X-WR-CALNAME:Ategal
X-ORIGINAL-URL:https://www.ategal.com
X-WR-CALDESC:Eventos para Ategal
REFRESH-INTERVAL;VALUE=DURATION:PT1H
X-Robots-Tag:noindex
X-PUBLISHED-TTL:PT1H
BEGIN:VTIMEZONE
TZID:Europe/Paris
BEGIN:DAYLIGHT
TZOFFSETFROM:+0100
TZOFFSETTO:+0200
TZNAME:CEST
DTSTART:20180325T010000
END:DAYLIGHT
BEGIN:STANDARD
TZOFFSETFROM:+0200
TZOFFSETTO:+0100
TZNAME:CET
DTSTART:20181028T010000
END:STANDARD
BEGIN:DAYLIGHT
TZOFFSETFROM:+0100
TZOFFSETTO:+0200
TZNAME:CEST
DTSTART:20190331T010000
END:DAYLIGHT
BEGIN:STANDARD
TZOFFSETFROM:+0200
TZOFFSETTO:+0100
TZNAME:CET
DTSTART:20191027T010000
END:STANDARD
BEGIN:DAYLIGHT
TZOFFSETFROM:+0100
TZOFFSETTO:+0200
TZNAME:CEST
DTSTART:20200329T010000
END:DAYLIGHT
BEGIN:STANDARD
TZOFFSETFROM:+0200
TZOFFSETTO:+0100
TZNAME:CET
DTSTART:20201025T010000
END:STANDARD
END:VTIMEZONE
BEGIN:VEVENT
DTSTART;TZID=Europe/Paris:20190521T170000
DTEND;TZID=Europe/Paris:20190521T190000
DTSTAMP:20260423T132535
CREATED:20190510T084336Z
LAST-MODIFIED:20190510T084402Z
UID:3464-1558458000-1558465200@www.ategal.com
SUMMARY:Nueva sesión del proyecto "Una Salud de Cine" en Ategal Santiago
DESCRIPTION:Quinta sesión de las aulas de Santiago de los talleres del proyecto entre Ategal y Viaqua ‘Una salud de cine’ que se celebra\, como es habitual\, en la propia sede de la entidad (Virxe da Cerca\, 31) entre las 17 horas y las 19.00 horas.  \nLos talleres están impartidos por la médica de familia y coach\, Estefanía Zardoya.  \nMás información sobre el proyecto aquí\, en este enlace directo. 
URL:https://www.ategal.com/evento-ategal/nueva-sesion-del-proyecto-una-salud-de-cine-en-ategal-santiago/
LOCATION:Ategal Santiago\, Rúa Virxe da Cerca\, 31\, Santiago de Compostela\, A Coruña
ATTACH;FMTTYPE=image/jpeg:https://www.ategal.com/wp-content/uploads/2019/01/ViaquaAtegal-16.jpg
END:VEVENT
BEGIN:VEVENT
DTSTART;TZID=Europe/Paris:20190521T173000
DTEND;TZID=Europe/Paris:20190521T190000
DTSTAMP:20260423T132535
CREATED:20190509T101207Z
LAST-MODIFIED:20190509T101224Z
UID:3454-1558459800-1558465200@www.ategal.com
SUMMARY:Nueva sesión del curso de mindfulness para mayores en Ategal Vigo
DESCRIPTION:Como todos los martes desde principios de abril\, Ategal Vigo continúa con el curso de Mindfulness para personas mayores que incluye dos meses de talleres semanales y que está destinado tanto a alumnado de la asociación como a personas mayores no asociadas. \nEl curso está impartido por el psicólogo y experto en la materia\, Miguel Bello.  \nEl precio es de 25 € para alumnado y 50 € para personas no socias de la entidad. \nLas sesiones se celebran los martes de abril y mayo entre las 17.30 horas y las 19.00 horas en la sede de Ategal Vigo (Travesía do Pino\, 2-entrechan). \nEl mindfulness es un tipo de actividad que utiliza la concentración y otras técnicas psicológicas de atención\, con la que\, en definitiva\, se aprende a «parar». \nCon la práctica del Mindfulness se puede lograr una reducción del estrés emocional y físico\, potenciar la gestión emocional y la prevención de patologías. \nMás información sobre el contenido del curso en el email de Miguel Bello: \nmanbeva@gmail.com \nInscripciones e información en Ategal Vigo:  \nTravesía do Pino 2\, Entrechán\n\n\n Tel: 986 481 600\n\n\n Mvl: 634 910 119\n\nvigo@ategal.com
URL:https://www.ategal.com/evento-ategal/nueva-sesion-del-curso-de-mindfulness-para-mayores-en-ategal-vigo-3/
LOCATION:Ategal Vigo\, Travesía do Pino\, 2-entrechan\, Vigo
ATTACH;FMTTYPE=image/jpeg:https://www.ategal.com/wp-content/uploads/2019/03/Cartel3.jpg
END:VEVENT
END:VCALENDAR