BEGIN:VCALENDAR
VERSION:2.0
PRODID:-//Ategal - ECPv6.15.20//NONSGML v1.0//EN
CALSCALE:GREGORIAN
METHOD:PUBLISH
X-WR-CALNAME:Ategal
X-ORIGINAL-URL:https://www.ategal.com
X-WR-CALDESC:Eventos para Ategal
REFRESH-INTERVAL;VALUE=DURATION:PT1H
X-Robots-Tag:noindex
X-PUBLISHED-TTL:PT1H
BEGIN:VTIMEZONE
TZID:Europe/Paris
BEGIN:DAYLIGHT
TZOFFSETFROM:+0100
TZOFFSETTO:+0200
TZNAME:CEST
DTSTART:20180325T010000
END:DAYLIGHT
BEGIN:STANDARD
TZOFFSETFROM:+0200
TZOFFSETTO:+0100
TZNAME:CET
DTSTART:20181028T010000
END:STANDARD
BEGIN:DAYLIGHT
TZOFFSETFROM:+0100
TZOFFSETTO:+0200
TZNAME:CEST
DTSTART:20190331T010000
END:DAYLIGHT
BEGIN:STANDARD
TZOFFSETFROM:+0200
TZOFFSETTO:+0100
TZNAME:CET
DTSTART:20191027T010000
END:STANDARD
BEGIN:DAYLIGHT
TZOFFSETFROM:+0100
TZOFFSETTO:+0200
TZNAME:CEST
DTSTART:20200329T010000
END:DAYLIGHT
BEGIN:STANDARD
TZOFFSETFROM:+0200
TZOFFSETTO:+0100
TZNAME:CET
DTSTART:20201025T010000
END:STANDARD
END:VTIMEZONE
BEGIN:VEVENT
DTSTART;TZID=Europe/Paris:20190524T110000
DTEND;TZID=Europe/Paris:20190524T123000
DTSTAMP:20260423T132524
CREATED:20190509T082933Z
LAST-MODIFIED:20190509T083229Z
UID:3416-1558695600-1558701000@www.ategal.com
SUMMARY:Jornada de clausura y actividad especial del "Club de Lectura" de Ategal Padrón
DESCRIPTION:Las aulas de Ategal Padrón\, en colaboración con la Fundación Camilo José Cela\, celebran el viernes 24 de mayo una nueva sesión de su Club de Lectura. En esta ocasión con una jornada especial de clausura del ciclo anual del Club. \nDado su carácter especial\, el encuentro se celebrará esta vez en el Paraninfo de la Fundación Pública Camilo José Cela de Padrón (Santa María\, 22\, Iria Flavia)  \nLa fecha: el viernes 24 de mayo de 11.00 horas a 12.30 horas con la lectura y charla sobre la obra «Los Pazos de Ulloa» de Emilia Pardo Bazán.  \n 
URL:https://www.ategal.com/evento-ategal/jornada-de-clausura-y-actividad-especial-del-club-de-lectura-de-ategal-padron/
LOCATION:Paraninfo Fundación Camilo José Cela\, Santa María\, 22\, Iria Flavia\, A Coruña
ATTACH;FMTTYPE=image/jpeg:https://www.ategal.com/wp-content/uploads/2019/04/Padron-1.jpg
END:VEVENT
BEGIN:VEVENT
DTSTART;TZID=Europe/Paris:20190524T173000
DTEND;TZID=Europe/Paris:20190524T190000
DTSTAMP:20260423T132524
CREATED:20190509T085647Z
LAST-MODIFIED:20190524T100421Z
UID:3426-1558719000-1558724400@www.ategal.com
SUMMARY:Relatoiro e obradoiro especial "Coidados da pel. Especial sol e verán" en Ategal Vigo
DESCRIPTION:As aulas de Ategal Vigo celebran un novo obradoiro teórico práctico o venres 24 de maio as 17.3o horas co lema «Coidados da pel. Especial sol e verán».  \nO relatoiro é gratuito e celébrase na sede das aulas de Vigo: travesía do Pino\, 2-entrechan.
URL:https://www.ategal.com/evento-ategal/relatoiro-e-obradoiro-especial-coidados-da-pel-especial-sol-e-veran-en-ategal-vigo/
LOCATION:Ategal Vigo\, Travesía do Pino\, 2-entrechan\, Vigo\, Pontevedra
ATTACH;FMTTYPE=image/jpeg:https://www.ategal.com/wp-content/uploads/2019/05/CharlaVigo-1.jpg
END:VEVENT
BEGIN:VEVENT
DTSTART;TZID=Europe/Paris:20190524T180000
DTEND;TZID=Europe/Paris:20190524T193000
DTSTAMP:20260423T132524
CREATED:20190512T224128Z
LAST-MODIFIED:20190512T224508Z
UID:3486-1558720800-1558726200@www.ategal.com
SUMMARY:'Cine Forum' en Ategal A Coruña con 'Encuentro en París'
DESCRIPTION:La sede de Ategal A Coruña celebra una nueva sesión de ‘Cine Forum’ con la película ‘Encuentro en París’. El film se proyecta el viernes 24 en el aula 1 del 2º piso a las 18.00 horas. \nComedia estadounidense de 110 minutos\, creada en 1964 por el director Richard Quine. \nCon William Holden y Audrey Hepburn. \nUn productor de Hollywood encarga al escritor Richard Benson (William Holden) el guión de su última película. Benson se instala en un apartamento de París\, pero\, en vez de escribir\, se dedica a la buena vida. Cuando se da cuenta de que sólo le quedan dos días para acabar el trabajo\, contrata a \nGabrielle (Audrey Hepburn)  como secretaria para poder cumplir el encargo. \nMás información y trailer en este enlace directo.
URL:https://www.ategal.com/evento-ategal/cine-forum-en-ategal-a-coruna-con-encuentro-en-paris/
LOCATION:Ategal A Coruña\, A Coruña
ATTACH;FMTTYPE=image/jpeg:https://www.ategal.com/wp-content/uploads/2019/05/paris_when_it_sizzles-493591220-mmed.jpg
END:VEVENT
BEGIN:VEVENT
DTSTART;TZID=Europe/Paris:20190524T203000
DTEND;TZID=Europe/Paris:20190524T220000
DTSTAMP:20260423T132524
CREATED:20190512T225219Z
LAST-MODIFIED:20190512T225230Z
UID:3492-1558729800-1558735200@www.ategal.com
SUMMARY:Ategal A Coruña acude a un concierto coral\, vocal y de cámara
DESCRIPTION:El alumnado de Ategal A Coruña acudirá el viernes 24 de mayo a una de las representaciones de ‘Conciertos en la Iglesia’ en el que participa el Coro Saude\, el grupo vocal EntreElas y el coro y camerata de la Escuela Municipal de Música. \n  \nLugar: Iglesia del Sagrado Corazón \nHora: 20\,30 \nPresenta: Joaquín García de Dios SJ
URL:https://www.ategal.com/evento-ategal/ategal-a-coruna-acude-a-un-concierto-coral-vocal-y-de-camara/
LOCATION:Iglesia del Sagrado Corazón\, Rúa Fonseca\, 6\, A Coruña
END:VEVENT
END:VCALENDAR