BEGIN:VCALENDAR
VERSION:2.0
PRODID:-//Ategal - ECPv6.15.20//NONSGML v1.0//EN
CALSCALE:GREGORIAN
METHOD:PUBLISH
X-WR-CALNAME:Ategal
X-ORIGINAL-URL:https://www.ategal.com
X-WR-CALDESC:Eventos para Ategal
REFRESH-INTERVAL;VALUE=DURATION:PT1H
X-Robots-Tag:noindex
X-PUBLISHED-TTL:PT1H
BEGIN:VTIMEZONE
TZID:Europe/Paris
BEGIN:DAYLIGHT
TZOFFSETFROM:+0100
TZOFFSETTO:+0200
TZNAME:CEST
DTSTART:20180325T010000
END:DAYLIGHT
BEGIN:STANDARD
TZOFFSETFROM:+0200
TZOFFSETTO:+0100
TZNAME:CET
DTSTART:20181028T010000
END:STANDARD
BEGIN:DAYLIGHT
TZOFFSETFROM:+0100
TZOFFSETTO:+0200
TZNAME:CEST
DTSTART:20190331T010000
END:DAYLIGHT
BEGIN:STANDARD
TZOFFSETFROM:+0200
TZOFFSETTO:+0100
TZNAME:CET
DTSTART:20191027T010000
END:STANDARD
BEGIN:DAYLIGHT
TZOFFSETFROM:+0100
TZOFFSETTO:+0200
TZNAME:CEST
DTSTART:20200329T010000
END:DAYLIGHT
BEGIN:STANDARD
TZOFFSETFROM:+0200
TZOFFSETTO:+0100
TZNAME:CET
DTSTART:20201025T010000
END:STANDARD
END:VTIMEZONE
BEGIN:VEVENT
DTSTART;TZID=Europe/Paris:20190530T153000
DTEND;TZID=Europe/Paris:20190530T210000
DTSTAMP:20260423T115016
CREATED:20190513T212825Z
LAST-MODIFIED:20190513T212835Z
UID:3521-1559230200-1559250000@www.ategal.com
SUMMARY:Excursión ás termas de Cuntis de Ategal Padrón
DESCRIPTION:As aulas de Ategal Padrón realizan o xoves 30 de maio unha excursión ás termas de Cuntis. Alí desfrutrán do balneario e os seus servizos en horario de tarde. \nA saida é do propio centro Social das aulas as 15.45 h.  \nMáis información e inscripcións en Ategal Padrón: \nCampo do Souto\, 2\, 15900 Padrón\n\nTel: 981 811 329
URL:https://www.ategal.com/evento-ategal/excursion-as-termas-de-cuntis-de-ategal-padron/
LOCATION:Termas de Cuntis\, Cuntis
ATTACH;FMTTYPE=image/jpeg:https://www.ategal.com/wp-content/uploads/2019/05/Padrón2.jpg
END:VEVENT
BEGIN:VEVENT
DTSTART;TZID=Europe/Paris:20190530T190000
DTEND;TZID=Europe/Paris:20190530T210000
DTSTAMP:20260423T115016
CREATED:20190528T080010Z
LAST-MODIFIED:20190528T081125Z
UID:3537-1559242800-1559250000@www.ategal.com
SUMMARY:Festival especial\, con varias actuaciones\, de las Aulas de Ategal Vigo
DESCRIPTION:Las aulas de Ategal Vigo\, junto con la Escola Municipal de Teatro celebran un festival por la proximidad de fin de curso con un programa con varias actuaciones. \nEl festival se celebra el jueves 30 de mayo a las 19.00 horas en el Auditorio del Colegio Hijas de María Inmaculada (c/Vázquez Varela\, 57) y en él participan: \nEl grupo de alumnos y alumnas de la Escola Municipal de Teatro «As Fiandeiras» \nEl grupo de Baile «Peinetas pa las guapas» \nEl grupo de Tai Chi de Ategal Vigo \nLa agrupación vocal de Ategal Vigo \nLa entrada es gratuita. 
URL:https://www.ategal.com/evento-ategal/3537/
LOCATION:Colegio Hijas de María Inmaculada\, Vázquez Varela\, 57\, Vigo
ATTACH;FMTTYPE=image/jpeg:https://www.ategal.com/wp-content/uploads/2019/05/FestivalVigo-scaled.jpg
END:VEVENT
END:VCALENDAR