BEGIN:VCALENDAR
VERSION:2.0
PRODID:-//Ategal - ECPv6.15.20//NONSGML v1.0//EN
CALSCALE:GREGORIAN
METHOD:PUBLISH
X-ORIGINAL-URL:https://www.ategal.com
X-WR-CALDESC:Eventos para Ategal
REFRESH-INTERVAL;VALUE=DURATION:PT1H
X-Robots-Tag:noindex
X-PUBLISHED-TTL:PT1H
BEGIN:VTIMEZONE
TZID:Europe/Paris
BEGIN:DAYLIGHT
TZOFFSETFROM:+0100
TZOFFSETTO:+0200
TZNAME:CEST
DTSTART:20180325T010000
END:DAYLIGHT
BEGIN:STANDARD
TZOFFSETFROM:+0200
TZOFFSETTO:+0100
TZNAME:CET
DTSTART:20181028T010000
END:STANDARD
BEGIN:DAYLIGHT
TZOFFSETFROM:+0100
TZOFFSETTO:+0200
TZNAME:CEST
DTSTART:20190331T010000
END:DAYLIGHT
BEGIN:STANDARD
TZOFFSETFROM:+0200
TZOFFSETTO:+0100
TZNAME:CET
DTSTART:20191027T010000
END:STANDARD
BEGIN:DAYLIGHT
TZOFFSETFROM:+0100
TZOFFSETTO:+0200
TZNAME:CEST
DTSTART:20200329T010000
END:DAYLIGHT
BEGIN:STANDARD
TZOFFSETFROM:+0200
TZOFFSETTO:+0100
TZNAME:CET
DTSTART:20201025T010000
END:STANDARD
END:VTIMEZONE
BEGIN:VEVENT
DTSTART;TZID=Europe/Paris:20190531T090000
DTEND;TZID=Europe/Paris:20190531T190000
DTSTAMP:20260423T115146
CREATED:20190512T231056Z
LAST-MODIFIED:20190512T231056Z
UID:3498-1559293200-1559329200@www.ategal.com
SUMMARY:Visita a la Fundación Barrié y reunión con las aulas senior de A Coruña de Ategal Ferrol
DESCRIPTION:El 31 de mayo las aulas de Ategal Ferrol celebran una excursión a Coruña donde su alumnado visitará la Fundación Barrié y se reunirá con sus compañeros y compañeras de las aulas de Ategal de la ciudad en el pazo de Mariñán.
URL:https://www.ategal.com/evento-ategal/visita-a-la-fundacion-barrie-y-reunion-con-las-aulas-senior-de-a-coruna-de-ategal-ferrol/
LOCATION:A Coruña
END:VEVENT
BEGIN:VEVENT
DTSTART;TZID=Europe/Paris:20190531T090000
DTEND;TZID=Europe/Paris:20190531T190000
DTSTAMP:20260423T115146
CREATED:20190512T231056Z
LAST-MODIFIED:20190512T231056Z
UID:7472-1559293200-1559329200@www.ategal.com
SUMMARY:Visita a la Fundación Barrié y reunión con las aulas senior de A Coruña de Ategal Ferrol
DESCRIPTION:El 31 de mayo las aulas de Ategal Ferrol celebran una excursión a Coruña donde su alumnado visitará la Fundación Barrié y se reunirá con sus compañeros y compañeras de las aulas de Ategal de la ciudad en el pazo de Mariñán.
URL:https://www.ategal.com/evento-ategal/visita-a-la-fundacion-barrie-y-reunion-con-las-aulas-senior-de-a-coruna-de-ategal-ferrol/
LOCATION:A Coruña
END:VEVENT
BEGIN:VEVENT
DTSTART;TZID=Europe/Paris:20190531T180000
DTEND;TZID=Europe/Paris:20190531T200000
DTSTAMP:20260423T115146
CREATED:20190509T095911Z
LAST-MODIFIED:20190509T095911Z
UID:7470-1559325600-1559332800@www.ategal.com
SUMMARY:Inauguración de la exposición de pintura de Majo Villar (de Ategal Vigo) "30 años de mi vida"
DESCRIPTION:La artista y profesora de dibujo y pintura de las aulas de Ategal de Vigo\, Majo Villar inaugura la exposición «30 años de mi vida» el viernes 31 de mayo en la sala de exposiciones de la Delegación Territorial de la Xunta de Galicia en Vigo (Concepción Arenal\, 8). \nLa muestra permanecerá abierta del 31 de mayo al 14 de junio.
URL:https://www.ategal.com/evento-ategal/inauguracion-de-la-exposicion-de-pintura-de-majo-villar-de-ategal-vigo-30-anos-de-mi-vida/
LOCATION:Delegación Territorial de la Xunta en Vigo\, Concepción Arenal\, 8\, Vigo\, Pontevedra
ATTACH;FMTTYPE=image/jpeg:https://www.ategal.com/wp-content/uploads/2019/05/ExposiciónVigo.jpg
END:VEVENT
BEGIN:VEVENT
DTSTART;TZID=Europe/Paris:20190531T180000
DTEND;TZID=Europe/Paris:20190531T200000
DTSTAMP:20260423T115146
CREATED:20190509T095911Z
LAST-MODIFIED:20190531T102503Z
UID:3445-1559325600-1559332800@www.ategal.com
SUMMARY:Inauguración de la exposición de pintura de Majo Villar (de Ategal Vigo) "30 años de mi vida"
DESCRIPTION:La artista y profesora de dibujo y pintura de las aulas de Ategal de Vigo\, Majo Villar inaugura la exposición «30 años de mi vida» el viernes 31 de mayo en la sala de exposiciones de la Delegación Territorial de la Xunta de Galicia en Vigo (Concepción Arenal\, 8). \nLa muestra permanecerá abierta del 31 de mayo al 14 de junio.
URL:https://www.ategal.com/evento-ategal/inauguracion-de-la-exposicion-de-pintura-de-majo-villar-de-ategal-vigo-30-anos-de-mi-vida/
LOCATION:Delegación Territorial de la Xunta en Vigo\, Concepción Arenal\, 8\, Vigo\, Pontevedra
ATTACH;FMTTYPE=image/jpeg:https://www.ategal.com/wp-content/uploads/2019/05/ExposiciónVigo.jpg
END:VEVENT
BEGIN:VEVENT
DTSTART;TZID=Europe/Paris:20190531T203000
DTEND;TZID=Europe/Paris:20190531T220000
DTSTAMP:20260423T115146
CREATED:20190519T170021Z
LAST-MODIFIED:20190519T170030Z
UID:3530-1559334600-1559340000@www.ategal.com
SUMMARY:Ategal A Coruña acude a una nueva entrega de "Conciertos en la Iglesia"
DESCRIPTION:Las aulas Ategal A Coruña acuden a una nueva entrega de «Conciertos en la Iglesia» en el que participan el Coro Saude\, el grupo vocal EntreElas y el Coro y Camerata de la Escuela Municipal de Música.  \nEl concierto se celebra el viernes 31 de mayo a las 20.30 horas en la Iglesia del Sagrado Corazón de A Coruña y está presentado por Joaquín García de Dios.
URL:https://www.ategal.com/evento-ategal/ategal-a-coruna-acude-a-una-nueva-entrega-de-conciertos-en-la-iglesia/
LOCATION:Iglesia Sagrado Corazón A Coruña\, A Coruña
END:VEVENT
BEGIN:VEVENT
DTSTART;TZID=Europe/Paris:20190531T203000
DTEND;TZID=Europe/Paris:20190531T220000
DTSTAMP:20260423T115146
CREATED:20190519T170021Z
LAST-MODIFIED:20190519T170021Z
UID:7469-1559334600-1559340000@www.ategal.com
SUMMARY:Ategal A Coruña acude a una nueva entrega de "Conciertos en la Iglesia"
DESCRIPTION:Las aulas Ategal A Coruña acuden a una nueva entrega de «Conciertos en la Iglesia» en el que participan el Coro Saude\, el grupo vocal EntreElas y el Coro y Camerata de la Escuela Municipal de Música.  \nEl concierto se celebra el viernes 31 de mayo a las 20.30 horas en la Iglesia del Sagrado Corazón de A Coruña y está presentado por Joaquín García de Dios.
URL:https://www.ategal.com/evento-ategal/ategal-a-coruna-acude-a-una-nueva-entrega-de-conciertos-en-la-iglesia/
LOCATION:Iglesia Sagrado Corazón A Coruña\, A Coruña
END:VEVENT
END:VCALENDAR