BEGIN:VCALENDAR
VERSION:2.0
PRODID:-//Ategal - ECPv6.15.20//NONSGML v1.0//EN
CALSCALE:GREGORIAN
METHOD:PUBLISH
X-ORIGINAL-URL:https://www.ategal.com
X-WR-CALDESC:Eventos para Ategal
REFRESH-INTERVAL;VALUE=DURATION:PT1H
X-Robots-Tag:noindex
X-PUBLISHED-TTL:PT1H
BEGIN:VTIMEZONE
TZID:Europe/Paris
BEGIN:DAYLIGHT
TZOFFSETFROM:+0100
TZOFFSETTO:+0200
TZNAME:CEST
DTSTART:20180325T010000
END:DAYLIGHT
BEGIN:STANDARD
TZOFFSETFROM:+0200
TZOFFSETTO:+0100
TZNAME:CET
DTSTART:20181028T010000
END:STANDARD
BEGIN:DAYLIGHT
TZOFFSETFROM:+0100
TZOFFSETTO:+0200
TZNAME:CEST
DTSTART:20190331T010000
END:DAYLIGHT
BEGIN:STANDARD
TZOFFSETFROM:+0200
TZOFFSETTO:+0100
TZNAME:CET
DTSTART:20191027T010000
END:STANDARD
BEGIN:DAYLIGHT
TZOFFSETFROM:+0100
TZOFFSETTO:+0200
TZNAME:CEST
DTSTART:20200329T010000
END:DAYLIGHT
BEGIN:STANDARD
TZOFFSETFROM:+0200
TZOFFSETTO:+0100
TZNAME:CET
DTSTART:20201025T010000
END:STANDARD
END:VTIMEZONE
BEGIN:VEVENT
DTSTART;VALUE=DATE:20190605
DTEND;VALUE=DATE:20190606
DTSTAMP:20260423T115130
CREATED:20190604T165220Z
LAST-MODIFIED:20190604T165545Z
UID:3620-1559692800-1559779199@www.ategal.com
SUMMARY:Excursión de las aulas de Ategal Vigo a Pendellos de Agolada
DESCRIPTION:El miércoles 5 de junio las aulas de Ategal Vigo celebran una excursión a Os Pendellos de Agolada (Pontevedra). \nEl precio es de 12 € por persona. \nMás detalles en Ategal Vigo: \nTravesía do Pino 2\, Entrechán\n\n\n Tel: 986 481 600\n\n\n Mvl: 634 910 119\n\n\nvigo@ategal.com\n\n\n 
URL:https://www.ategal.com/evento-ategal/excursion-de-las-aulas-de-ategal-vigo-a-pendellos-de-agolada/
LOCATION:Os Pendellos de Agolada\, Pontevedra
ATTACH;FMTTYPE=image/jpeg:https://www.ategal.com/wp-content/uploads/2019/06/Pendellos.jpg
END:VEVENT
BEGIN:VEVENT
DTSTART;VALUE=DATE:20190605
DTEND;VALUE=DATE:20190606
DTSTAMP:20260423T115130
CREATED:20190604T165220Z
LAST-MODIFIED:20190604T165220Z
UID:7465-1559692800-1559779199@www.ategal.com
SUMMARY:Excursión de las aulas de Ategal Vigo a Pendellos de Agolada
DESCRIPTION:El miércoles 5 de junio las aulas de Ategal Vigo celebran una excursión a Os Pendellos de Agolada (Pontevedra). \nEl precio es de 12 € por persona. \nMás detalles en Ategal Vigo: \nTravesía do Pino 2\, Entrechán\n\n\n Tel: 986 481 600\n\n\n Mvl: 634 910 119\n\n\nvigo@ategal.com\n\n\n 
URL:https://www.ategal.com/evento-ategal/excursion-de-las-aulas-de-ategal-vigo-a-pendellos-de-agolada/
LOCATION:Os Pendellos de Agolada\, Pontevedra
ATTACH;FMTTYPE=image/jpeg:https://www.ategal.com/wp-content/uploads/2019/06/Pendellos.jpg
END:VEVENT
END:VCALENDAR