BEGIN:VCALENDAR
VERSION:2.0
PRODID:-//Ategal - ECPv6.15.20//NONSGML v1.0//EN
CALSCALE:GREGORIAN
METHOD:PUBLISH
X-ORIGINAL-URL:https://www.ategal.com
X-WR-CALDESC:Eventos para Ategal
REFRESH-INTERVAL;VALUE=DURATION:PT1H
X-Robots-Tag:noindex
X-PUBLISHED-TTL:PT1H
BEGIN:VTIMEZONE
TZID:Europe/Paris
BEGIN:DAYLIGHT
TZOFFSETFROM:+0100
TZOFFSETTO:+0200
TZNAME:CEST
DTSTART:20180325T010000
END:DAYLIGHT
BEGIN:STANDARD
TZOFFSETFROM:+0200
TZOFFSETTO:+0100
TZNAME:CET
DTSTART:20181028T010000
END:STANDARD
BEGIN:DAYLIGHT
TZOFFSETFROM:+0100
TZOFFSETTO:+0200
TZNAME:CEST
DTSTART:20190331T010000
END:DAYLIGHT
BEGIN:STANDARD
TZOFFSETFROM:+0200
TZOFFSETTO:+0100
TZNAME:CET
DTSTART:20191027T010000
END:STANDARD
BEGIN:DAYLIGHT
TZOFFSETFROM:+0100
TZOFFSETTO:+0200
TZNAME:CEST
DTSTART:20200329T010000
END:DAYLIGHT
BEGIN:STANDARD
TZOFFSETFROM:+0200
TZOFFSETTO:+0100
TZNAME:CET
DTSTART:20201025T010000
END:STANDARD
END:VTIMEZONE
BEGIN:VEVENT
DTSTART;TZID=Europe/Paris:20190606T160000
DTEND;TZID=Europe/Paris:20190606T200000
DTSTAMP:20260423T115132
CREATED:20190605T165816Z
LAST-MODIFIED:20190605T165901Z
UID:3651-1559836800-1559851200@www.ategal.com
SUMMARY:Obradoiro de manualidades: confección de bonecas en Ategal Padrón
DESCRIPTION:As aulas senior de Ategal Padrón convocan un obradoiro de manualidades para confeccionar bonecas. \nO taller vaise celebrar os xoves 6\, 13 e 20 de xuño no Centro Social Municipal de 16.00 horas a 20.00 horas. \nO prezo é de 8 € e ten un número de plazas limitado a 15\, para asegurar a calidade da formación. \nA inscripción podese realizar nas aulas senior de Padrón (Ategal): \nCampo do Souto\, 2\n\n\n Tel: 981 811 329\n\n\npadron@ategal.com
URL:https://www.ategal.com/evento-ategal/obradoiro-de-manualidades-confeccion-de-bonecas-en-ategal-padron/
LOCATION:Centro Social Municipal Padrón\, Campo de Souto\, 2\, Padrón
ATTACH;FMTTYPE=image/jpeg:https://www.ategal.com/wp-content/uploads/2019/06/manualidades.jpg
END:VEVENT
BEGIN:VEVENT
DTSTART;TZID=Europe/Paris:20190606T160000
DTEND;TZID=Europe/Paris:20190606T200000
DTSTAMP:20260423T115132
CREATED:20190605T165816Z
LAST-MODIFIED:20190605T165816Z
UID:7461-1559836800-1559851200@www.ategal.com
SUMMARY:Obradoiro de manualidades: confección de bonecas en Ategal Padrón
DESCRIPTION:As aulas senior de Ategal Padrón convocan un obradoiro de manualidades para confeccionar bonecas. \nO taller vaise celebrar os xoves 6\, 13 e 20 de xuño no Centro Social Municipal de 16.00 horas a 20.00 horas. \nO prezo é de 8 € e ten un número de plazas limitado a 15\, para asegurar a calidade da formación. \nA inscripción podese realizar nas aulas senior de Padrón (Ategal): \nCampo do Souto\, 2\n\n\n Tel: 981 811 329\n\n\npadron@ategal.com
URL:https://www.ategal.com/evento-ategal/obradoiro-de-manualidades-confeccion-de-bonecas-en-ategal-padron/
LOCATION:Centro Social Municipal Padrón\, Campo de Souto\, 2\, Padrón
ATTACH;FMTTYPE=image/jpeg:https://www.ategal.com/wp-content/uploads/2019/06/manualidades.jpg
END:VEVENT
BEGIN:VEVENT
DTSTART;TZID=Europe/Paris:20190606T180000
DTEND;TZID=Europe/Paris:20190606T200000
DTSTAMP:20260423T115132
CREATED:20190605T194840Z
LAST-MODIFIED:20190605T210514Z
UID:3665-1559844000-1559851200@www.ategal.com
SUMMARY:O alumnado de Ategal Santiago visita a exposición do 'Sonoro Empeño'
DESCRIPTION:O alumnado das aulas senior de Ategal Santiago realiza unha visita guiada á exposición de Afundación ‘O sonoro empeño’.  \nSerá este xoves 6 de xuño as 18.00 horas na sede de Afundación da praza de Cervantes. \nMáis información e pormenores sobre a mostra neste enlace directo. 
URL:https://www.ategal.com/evento-ategal/o-alumnado-de-ategal-santiago-visita-a-exposicion-do-sonoro-empeno/
LOCATION:Sede Afundación\, Praza Cervantes\, Santiago de Compostela\, A Coruña
ATTACH;FMTTYPE=image/jpeg:https://www.ategal.com/wp-content/uploads/2019/06/SonoroEmpeño.jpg
END:VEVENT
BEGIN:VEVENT
DTSTART;TZID=Europe/Paris:20190606T180000
DTEND;TZID=Europe/Paris:20190606T200000
DTSTAMP:20260423T115132
CREATED:20190605T194840Z
LAST-MODIFIED:20190605T194840Z
UID:7460-1559844000-1559851200@www.ategal.com
SUMMARY:O alumnado de Ategal Santiago visita a exposición do 'Sonoro Empeño'
DESCRIPTION:O alumnado das aulas senior de Ategal Santiago realiza unha visita guiada á exposición de Afundación ‘O sonoro empeño’.  \nSerá este xoves 6 de xuño as 18.00 horas na sede de Afundación da praza de Cervantes. \nMáis información e pormenores sobre a mostra neste enlace directo. 
URL:https://www.ategal.com/evento-ategal/o-alumnado-de-ategal-santiago-visita-a-exposicion-do-sonoro-empeno/
LOCATION:Sede Afundación\, Praza Cervantes\, Santiago de Compostela\, A Coruña
ATTACH;FMTTYPE=image/jpeg:https://www.ategal.com/wp-content/uploads/2019/06/SonoroEmpeño.jpg
END:VEVENT
END:VCALENDAR