BEGIN:VCALENDAR
VERSION:2.0
PRODID:-//Ategal - ECPv6.15.20//NONSGML v1.0//EN
CALSCALE:GREGORIAN
METHOD:PUBLISH
X-ORIGINAL-URL:https://www.ategal.com
X-WR-CALDESC:Eventos para Ategal
REFRESH-INTERVAL;VALUE=DURATION:PT1H
X-Robots-Tag:noindex
X-PUBLISHED-TTL:PT1H
BEGIN:VTIMEZONE
TZID:Europe/Paris
BEGIN:DAYLIGHT
TZOFFSETFROM:+0100
TZOFFSETTO:+0200
TZNAME:CEST
DTSTART:20180325T010000
END:DAYLIGHT
BEGIN:STANDARD
TZOFFSETFROM:+0200
TZOFFSETTO:+0100
TZNAME:CET
DTSTART:20181028T010000
END:STANDARD
BEGIN:DAYLIGHT
TZOFFSETFROM:+0100
TZOFFSETTO:+0200
TZNAME:CEST
DTSTART:20190331T010000
END:DAYLIGHT
BEGIN:STANDARD
TZOFFSETFROM:+0200
TZOFFSETTO:+0100
TZNAME:CET
DTSTART:20191027T010000
END:STANDARD
BEGIN:DAYLIGHT
TZOFFSETFROM:+0100
TZOFFSETTO:+0200
TZNAME:CEST
DTSTART:20200329T010000
END:DAYLIGHT
BEGIN:STANDARD
TZOFFSETFROM:+0200
TZOFFSETTO:+0100
TZNAME:CET
DTSTART:20201025T010000
END:STANDARD
END:VTIMEZONE
BEGIN:VEVENT
DTSTART;TZID=Europe/Paris:20190607T130000
DTEND;TZID=Europe/Paris:20190607T170000
DTSTAMP:20260423T115132
CREATED:20190604T193833Z
LAST-MODIFIED:20190604T193833Z
UID:7457-1559912400-1559926800@www.ategal.com
SUMMARY:Comida fin de curso y actuación del Coro Ategal Vigo
DESCRIPTION:Las aulas de Ategal Vigo celebran\, este 7 de junio a las 13.00 h. una misa cantada por el coro de la asociación en la Iglesia de los Apóstoles de la ciudad (calle Marqués de Valladares\, 16). \nDespués de la actuación\, Ategal Vigo convoca a todo el alumnado a una comida fin de curso (y fiesta seguro que no faltará…) en el Hotel Coia (calle Sanxenxo\, 1) a partir de las 14.15 horas. \nMás información y solicitud de plaza en Ategal Vigo: \nTravesía do Pino 2\, Entrechán \n\n\n Tel: 986 481 600\n\n\n Mvl: 634 910 119\n\n\nvigo@ategal.com
URL:https://www.ategal.com/evento-ategal/comida-fin-de-curso-y-actuacion-del-coro-ategal-vigo/
LOCATION:Hotel Coia\, Vigo\, c/ Sanxenxo\, 1\, Vigo\, Pontevedra
ATTACH;FMTTYPE=image/jpeg:https://www.ategal.com/wp-content/uploads/2019/06/FestivalVigo-13.jpg
END:VEVENT
BEGIN:VEVENT
DTSTART;TZID=Europe/Paris:20190607T130000
DTEND;TZID=Europe/Paris:20190607T170000
DTSTAMP:20260423T115132
CREATED:20190604T193833Z
LAST-MODIFIED:20190605T193314Z
UID:3624-1559912400-1559926800@www.ategal.com
SUMMARY:Comida fin de curso y actuación del Coro Ategal Vigo
DESCRIPTION:Las aulas de Ategal Vigo celebran\, este 7 de junio a las 13.00 h. una misa cantada por el coro de la asociación en la Iglesia de los Apóstoles de la ciudad (calle Marqués de Valladares\, 16). \nDespués de la actuación\, Ategal Vigo convoca a todo el alumnado a una comida fin de curso (y fiesta seguro que no faltará…) en el Hotel Coia (calle Sanxenxo\, 1) a partir de las 14.15 horas. \nMás información y solicitud de plaza en Ategal Vigo: \nTravesía do Pino 2\, Entrechán \n\n\n Tel: 986 481 600\n\n\n Mvl: 634 910 119\n\n\nvigo@ategal.com
URL:https://www.ategal.com/evento-ategal/comida-fin-de-curso-y-actuacion-del-coro-ategal-vigo/
LOCATION:Hotel Coia\, Vigo\, c/ Sanxenxo\, 1\, Vigo\, Pontevedra
ATTACH;FMTTYPE=image/jpeg:https://www.ategal.com/wp-content/uploads/2019/06/FestivalVigo-13.jpg
END:VEVENT
BEGIN:VEVENT
DTSTART;TZID=Europe/Paris:20190607T173000
DTEND;TZID=Europe/Paris:20190607T183000
DTSTAMP:20260423T115132
CREATED:20190606T180933Z
LAST-MODIFIED:20190606T181055Z
UID:3670-1559928600-1559932200@www.ategal.com
SUMMARY:Curso monográfico de arte en Ategal Ferrol: "lo esotérico en el arte"
DESCRIPTION:Las aulas senior de Ategal Ferrol celebran un curso monográfico de arte bajo el título: «el esoterismo en el arte».  \nEl programa\, impartido por Pilar Freire Rodríguez\, se desarrolla los viernes del mes de junio de 17.30 h. a 18.30 h. y se basa en la fascinación del arte por las ciencias ocultas\, la magia\, la alquimia\, la astrología\, y materias semejantes. \n 
URL:https://www.ategal.com/evento-ategal/curso-monografico-de-arte-en-ategal-ferrol-lo-esoterico-en-el-arte/
LOCATION:Ategal Ferrol\, Galiano\, 17-1º\, Ferrol
ATTACH;FMTTYPE=image/jpeg:https://www.ategal.com/wp-content/uploads/2019/06/Junio-2019.jpg
END:VEVENT
BEGIN:VEVENT
DTSTART;TZID=Europe/Paris:20190607T173000
DTEND;TZID=Europe/Paris:20190607T183000
DTSTAMP:20260423T115132
CREATED:20190606T180933Z
LAST-MODIFIED:20190606T180933Z
UID:7456-1559928600-1559932200@www.ategal.com
SUMMARY:Curso monográfico de arte en Ategal Ferrol: "lo esotérico en el arte"
DESCRIPTION:Las aulas senior de Ategal Ferrol celebran un curso monográfico de arte bajo el título: «el esoterismo en el arte».  \nEl programa\, impartido por Pilar Freire Rodríguez\, se desarrolla los viernes del mes de junio de 17.30 h. a 18.30 h. y se basa en la fascinación del arte por las ciencias ocultas\, la magia\, la alquimia\, la astrología\, y materias semejantes. \n 
URL:https://www.ategal.com/evento-ategal/curso-monografico-de-arte-en-ategal-ferrol-lo-esoterico-en-el-arte/
LOCATION:Ategal Ferrol\, Galiano\, 17-1º\, Ferrol
ATTACH;FMTTYPE=image/jpeg:https://www.ategal.com/wp-content/uploads/2019/06/Junio-2019.jpg
END:VEVENT
BEGIN:VEVENT
DTSTART;TZID=Europe/Paris:20190607T190000
DTEND;TZID=Europe/Paris:20190607T230000
DTSTAMP:20260423T115132
CREATED:20190605T155630Z
LAST-MODIFIED:20190605T155630Z
UID:3643-1559934000-1559948400@www.ategal.com
SUMMARY:Gran festival e cea fin de curso de Ategal Padrón
DESCRIPTION:O venres 7 de xuño\, Ategal Padrón celebra unha morea de actividades co galo de fin de curso das aulas senior.  \n      A partires das 19.00 horas: \n  \n– Misa de fin de curso na Igrexa Parroquial de Padrón. \n      As 19.45 horas no Auditorio Municipal: \n  \n– Inauguración da exposición de traballos realizados no curso 2018-2019 \n– Lectura da memoria de actividades e proxección do video resumen das actividades realizadas           no curso \n– Intervención do presidente das aulas de Ategal de Galicia\, Santiago Fagilde. \n– Intervención do alcalde de Padrón\, Antonio Fernández Angueira. \n– Conferencia «Botiquín de autocoidados en saúde. Gustaríache incorporar ferramentas sinxelas              no teu día a día para mellorar a túa saúde?» da medica de familia\, coach e experta en saúde\,                     Estefanía Zardoya. \nA partires das 21.00 horas no Hotel Scala:\n  \n– Gran cea fin de curso! \nMáis información e inscripcións en Ategal Padrón:\n  \nCampo do Souto\, 2\, 15900 Padrón\n\n\n Tel: 981 811 329\n\n\n Fax: 981 811 550\n\n\npadron@ategal.com
URL:https://www.ategal.com/evento-ategal/gran-festival-e-cea-fin-de-curso-de-ategal-padron/
LOCATION:Igrexa Parroquial\, Auditorio\, e Hotel Scala de Padrón\, Padrón
END:VEVENT
BEGIN:VEVENT
DTSTART;TZID=Europe/Paris:20190607T190000
DTEND;TZID=Europe/Paris:20190607T230000
DTSTAMP:20260423T115132
CREATED:20190605T155630Z
LAST-MODIFIED:20190605T155630Z
UID:7455-1559934000-1559948400@www.ategal.com
SUMMARY:Gran festival e cea fin de curso de Ategal Padrón
DESCRIPTION:O venres 7 de xuño\, Ategal Padrón celebra unha morea de actividades co galo de fin de curso das aulas senior.  \n      A partires das 19.00 horas: \n  \n– Misa de fin de curso na Igrexa Parroquial de Padrón. \n      As 19.45 horas no Auditorio Municipal: \n  \n– Inauguración da exposición de traballos realizados no curso 2018-2019 \n– Lectura da memoria de actividades e proxección do video resumen das actividades realizadas           no curso \n– Intervención do presidente das aulas de Ategal de Galicia\, Santiago Fagilde. \n– Intervención do alcalde de Padrón\, Antonio Fernández Angueira. \n– Conferencia «Botiquín de autocoidados en saúde. Gustaríache incorporar ferramentas sinxelas              no teu día a día para mellorar a túa saúde?» da medica de familia\, coach e experta en saúde\,                     Estefanía Zardoya. \nA partires das 21.00 horas no Hotel Scala:\n  \n– Gran cea fin de curso! \nMáis información e inscripcións en Ategal Padrón:\n  \nCampo do Souto\, 2\, 15900 Padrón\n\n\n Tel: 981 811 329\n\n\n Fax: 981 811 550\n\n\npadron@ategal.com
URL:https://www.ategal.com/evento-ategal/gran-festival-e-cea-fin-de-curso-de-ategal-padron/
LOCATION:Igrexa Parroquial\, Auditorio\, e Hotel Scala de Padrón\, Padrón
END:VEVENT
END:VCALENDAR