BEGIN:VCALENDAR
VERSION:2.0
PRODID:-//Ategal - ECPv6.15.20//NONSGML v1.0//EN
CALSCALE:GREGORIAN
METHOD:PUBLISH
X-ORIGINAL-URL:https://www.ategal.com
X-WR-CALDESC:Eventos para Ategal
REFRESH-INTERVAL;VALUE=DURATION:PT1H
X-Robots-Tag:noindex
X-PUBLISHED-TTL:PT1H
BEGIN:VTIMEZONE
TZID:Europe/Paris
BEGIN:DAYLIGHT
TZOFFSETFROM:+0100
TZOFFSETTO:+0200
TZNAME:CEST
DTSTART:20180325T010000
END:DAYLIGHT
BEGIN:STANDARD
TZOFFSETFROM:+0200
TZOFFSETTO:+0100
TZNAME:CET
DTSTART:20181028T010000
END:STANDARD
BEGIN:DAYLIGHT
TZOFFSETFROM:+0100
TZOFFSETTO:+0200
TZNAME:CEST
DTSTART:20190331T010000
END:DAYLIGHT
BEGIN:STANDARD
TZOFFSETFROM:+0200
TZOFFSETTO:+0100
TZNAME:CET
DTSTART:20191027T010000
END:STANDARD
BEGIN:DAYLIGHT
TZOFFSETFROM:+0100
TZOFFSETTO:+0200
TZNAME:CEST
DTSTART:20200329T010000
END:DAYLIGHT
BEGIN:STANDARD
TZOFFSETFROM:+0200
TZOFFSETTO:+0100
TZNAME:CET
DTSTART:20201025T010000
END:STANDARD
END:VTIMEZONE
BEGIN:VEVENT
DTSTART;VALUE=DATE:20190610
DTEND;VALUE=DATE:20190611
DTSTAMP:20260423T115130
CREATED:20190604T204322Z
LAST-MODIFIED:20190604T204342Z
UID:3637-1560124800-1560211199@www.ategal.com
SUMMARY:Inauguración exposición trabajos pintura y manualidades en Ategal Ourense
DESCRIPTION:Las aulas de Ategal Ourense inauguran la exposición de trabajos realizados por el alumnado en los talleres de pintura y manualidades durante todo el curso. \nLa muestra se abre al público este lunes 10 de junio para permanecer abierta hasta el jueves 14 de junio.  \nAtegal Ourense: \nProgreso\, 66 Entrechán A\n\n\n Tel: 988 215 077\n\n\n Mvl: 634 910 125\n\n\nourense@ategal.com
URL:https://www.ategal.com/evento-ategal/inauguracion-exposicion-traballos-pintura-e-manualidades-en-ategal-ourense/
LOCATION:Ategal Ourense
ATTACH;FMTTYPE=image/jpeg:https://www.ategal.com/wp-content/uploads/2019/04/Acuarelas5.jpeg
END:VEVENT
BEGIN:VEVENT
DTSTART;VALUE=DATE:20190610
DTEND;VALUE=DATE:20190611
DTSTAMP:20260423T115130
CREATED:20190604T204322Z
LAST-MODIFIED:20190604T204322Z
UID:7454-1560124800-1560211199@www.ategal.com
SUMMARY:Inauguración exposición trabajos pintura y manualidades en Ategal Ourense
DESCRIPTION:Las aulas de Ategal Ourense inauguran la exposición de trabajos realizados por el alumnado en los talleres de pintura y manualidades durante todo el curso. \nLa muestra se abre al público este lunes 10 de junio para permanecer abierta hasta el jueves 14 de junio.  \nAtegal Ourense: \nProgreso\, 66 Entrechán A\n\n\n Tel: 988 215 077\n\n\n Mvl: 634 910 125\n\n\nourense@ategal.com
URL:https://www.ategal.com/evento-ategal/inauguracion-exposicion-traballos-pintura-e-manualidades-en-ategal-ourense/
LOCATION:Ategal Ourense
ATTACH;FMTTYPE=image/jpeg:https://www.ategal.com/wp-content/uploads/2019/04/Acuarelas5.jpeg
END:VEVENT
END:VCALENDAR