BEGIN:VCALENDAR
VERSION:2.0
PRODID:-//Ategal - ECPv6.15.20//NONSGML v1.0//EN
CALSCALE:GREGORIAN
METHOD:PUBLISH
X-ORIGINAL-URL:https://www.ategal.com
X-WR-CALDESC:Eventos para Ategal
REFRESH-INTERVAL;VALUE=DURATION:PT1H
X-Robots-Tag:noindex
X-PUBLISHED-TTL:PT1H
BEGIN:VTIMEZONE
TZID:Europe/Paris
BEGIN:DAYLIGHT
TZOFFSETFROM:+0100
TZOFFSETTO:+0200
TZNAME:CEST
DTSTART:20180325T010000
END:DAYLIGHT
BEGIN:STANDARD
TZOFFSETFROM:+0200
TZOFFSETTO:+0100
TZNAME:CET
DTSTART:20181028T010000
END:STANDARD
BEGIN:DAYLIGHT
TZOFFSETFROM:+0100
TZOFFSETTO:+0200
TZNAME:CEST
DTSTART:20190331T010000
END:DAYLIGHT
BEGIN:STANDARD
TZOFFSETFROM:+0200
TZOFFSETTO:+0100
TZNAME:CET
DTSTART:20191027T010000
END:STANDARD
BEGIN:DAYLIGHT
TZOFFSETFROM:+0100
TZOFFSETTO:+0200
TZNAME:CEST
DTSTART:20200329T010000
END:DAYLIGHT
BEGIN:STANDARD
TZOFFSETFROM:+0200
TZOFFSETTO:+0100
TZNAME:CET
DTSTART:20201025T010000
END:STANDARD
END:VTIMEZONE
BEGIN:VEVENT
DTSTART;VALUE=DATE:20190611
DTEND;VALUE=DATE:20190613
DTSTAMP:20260423T115147
CREATED:20190604T204735Z
LAST-MODIFIED:20190613T094439Z
UID:3640-1560211200-1560383999@www.ategal.com
SUMMARY:Exposición de trabajos del alumnado de pintura y manualidades en Ategal Ourense
DESCRIPTION:Las aulas de Ategal Ourense celebran una exposición de trabajos realizados por el alumnado en los talleres de pintura y manualidades durante todo el curso. \nLa muestra permanecerá abierta al público desde el 10 de junio hasta el jueves 14 de junio.  \nAtegal Ourense: \nProgreso\, 66 Entrechán A\n\n\n Tel: 988 215 077\n\n\n Mvl: 634 910 125\n\n\nourense@ategal.com
URL:https://www.ategal.com/evento-ategal/3640/
LOCATION:Ategal Ourense
ATTACH;FMTTYPE=image/jpeg:https://www.ategal.com/wp-content/uploads/2016/08/p1020334_med_hr.jpeg
END:VEVENT
BEGIN:VEVENT
DTSTART;VALUE=DATE:20190611
DTEND;VALUE=DATE:20190613
DTSTAMP:20260423T115147
CREATED:20190604T204735Z
LAST-MODIFIED:20190604T204735Z
UID:7452-1560211200-1560383999@www.ategal.com
SUMMARY:Exposición de trabajos del alumnado de pintura y manualidades en Ategal Ourense
DESCRIPTION:Las aulas de Ategal Ourense celebran una exposición de trabajos realizados por el alumnado en los talleres de pintura y manualidades durante todo el curso. \nLa muestra permanecerá abierta al público desde el 10 de junio hasta el jueves 14 de junio.  \nAtegal Ourense: \nProgreso\, 66 Entrechán A\n\n\n Tel: 988 215 077\n\n\n Mvl: 634 910 125\n\n\nourense@ategal.com
URL:https://www.ategal.com/evento-ategal/3640/
LOCATION:Ategal Ourense
ATTACH;FMTTYPE=image/jpeg:https://www.ategal.com/wp-content/uploads/2016/08/p1020334_med_hr.jpeg
END:VEVENT
BEGIN:VEVENT
DTSTART;TZID=Europe/Paris:20190611T170000
DTEND;TZID=Europe/Paris:20190611T183000
DTSTAMP:20260423T115147
CREATED:20190604T201141Z
LAST-MODIFIED:20190613T093252Z
UID:3627-1560272400-1560277800@www.ategal.com
SUMMARY:Taller de memoria y entrenamiento cognitivo en Ategal Santiago
DESCRIPTION:Todos los martes del mes de junio las aulas de Ategal Santiago celebran\, en horario de tarde\, talleres de memoria y entrenamiento cognitivo. \nMás información y detalles en Ategal Santiago: \nRúa Virxe da Cerca 31\n\n\n Tel: 981 581 533\n\n\ncoordinacion@ategal.com
URL:https://www.ategal.com/evento-ategal/taller-de-memoria-en-ategal-santiago/
LOCATION:Ategal Santiago\, Rúa Virxe da Cerca\, 31\, Santiago de Compostela\, A Coruña
ATTACH;FMTTYPE=image/jpeg:https://www.ategal.com/wp-content/uploads/2019/06/TallerMemoria.jpg
END:VEVENT
BEGIN:VEVENT
DTSTART;TZID=Europe/Paris:20190611T170000
DTEND;TZID=Europe/Paris:20190611T183000
DTSTAMP:20260423T115147
CREATED:20190604T201141Z
LAST-MODIFIED:20190604T201141Z
UID:7450-1560272400-1560277800@www.ategal.com
SUMMARY:Taller de memoria y entrenamiento cognitivo en Ategal Santiago
DESCRIPTION:Todos los martes del mes de junio las aulas de Ategal Santiago celebran\, en horario de tarde\, talleres de memoria y entrenamiento cognitivo. \nMás información y detalles en Ategal Santiago: \nRúa Virxe da Cerca 31\n\n\n Tel: 981 581 533\n\n\ncoordinacion@ategal.com
URL:https://www.ategal.com/evento-ategal/taller-de-memoria-en-ategal-santiago/
LOCATION:Ategal Santiago\, Rúa Virxe da Cerca\, 31\, Santiago de Compostela\, A Coruña
ATTACH;FMTTYPE=image/jpeg:https://www.ategal.com/wp-content/uploads/2019/06/TallerMemoria.jpg
END:VEVENT
END:VCALENDAR