BEGIN:VCALENDAR
VERSION:2.0
PRODID:-//Ategal - ECPv6.15.20//NONSGML v1.0//EN
CALSCALE:GREGORIAN
METHOD:PUBLISH
X-ORIGINAL-URL:https://www.ategal.com
X-WR-CALDESC:Eventos para Ategal
REFRESH-INTERVAL;VALUE=DURATION:PT1H
X-Robots-Tag:noindex
X-PUBLISHED-TTL:PT1H
BEGIN:VTIMEZONE
TZID:Europe/Paris
BEGIN:DAYLIGHT
TZOFFSETFROM:+0100
TZOFFSETTO:+0200
TZNAME:CEST
DTSTART:20180325T010000
END:DAYLIGHT
BEGIN:STANDARD
TZOFFSETFROM:+0200
TZOFFSETTO:+0100
TZNAME:CET
DTSTART:20181028T010000
END:STANDARD
BEGIN:DAYLIGHT
TZOFFSETFROM:+0100
TZOFFSETTO:+0200
TZNAME:CEST
DTSTART:20190331T010000
END:DAYLIGHT
BEGIN:STANDARD
TZOFFSETFROM:+0200
TZOFFSETTO:+0100
TZNAME:CET
DTSTART:20191027T010000
END:STANDARD
BEGIN:DAYLIGHT
TZOFFSETFROM:+0100
TZOFFSETTO:+0200
TZNAME:CEST
DTSTART:20200329T010000
END:DAYLIGHT
BEGIN:STANDARD
TZOFFSETFROM:+0200
TZOFFSETTO:+0100
TZNAME:CET
DTSTART:20201025T010000
END:STANDARD
END:VTIMEZONE
BEGIN:VEVENT
DTSTART;TZID=Europe/Paris:20190620T183000
DTEND;TZID=Europe/Paris:20190620T200000
DTSTAMP:20260423T115130
CREATED:20190606T225044Z
LAST-MODIFIED:20190606T225204Z
UID:3694-1561055400-1561060800@www.ategal.com
SUMMARY:Visita guiada a la muralla de Santiago con Victoria Tizón
DESCRIPTION:Las aulas senior de Ategal Santiago tienen programada una visita guiada a los restos de la muralla medieval de la ciudad el jueves 20 de junio a las 18.30 horas.  \nMás información en Ategal Santiago: \nRúa Virxe da Cerca 31\, 15703 Santiago de Compostela\n\n\n Tel: 981 581 533\n\n\n Mvl: 618 184 344\n\n\ncoordinacion@ategal.com
URL:https://www.ategal.com/evento-ategal/visita-guiada-a-la-muralla-de-ategal-santiago-con-victoria-tizon/
LOCATION:Restos muralla medieval Santiago\, Santiago de Compostela
END:VEVENT
BEGIN:VEVENT
DTSTART;TZID=Europe/Paris:20190620T183000
DTEND;TZID=Europe/Paris:20190620T200000
DTSTAMP:20260423T115130
CREATED:20190606T225044Z
LAST-MODIFIED:20190606T225044Z
UID:7442-1561055400-1561060800@www.ategal.com
SUMMARY:Visita guiada a la muralla de Santiago con Victoria Tizón
DESCRIPTION:Las aulas senior de Ategal Santiago tienen programada una visita guiada a los restos de la muralla medieval de la ciudad el jueves 20 de junio a las 18.30 horas.  \nMás información en Ategal Santiago: \nRúa Virxe da Cerca 31\, 15703 Santiago de Compostela\n\n\n Tel: 981 581 533\n\n\n Mvl: 618 184 344\n\n\ncoordinacion@ategal.com
URL:https://www.ategal.com/evento-ategal/visita-guiada-a-la-muralla-de-ategal-santiago-con-victoria-tizon/
LOCATION:Restos muralla medieval Santiago\, Santiago de Compostela
END:VEVENT
END:VCALENDAR