BEGIN:VCALENDAR
VERSION:2.0
PRODID:-//Ategal - ECPv6.15.20//NONSGML v1.0//EN
CALSCALE:GREGORIAN
METHOD:PUBLISH
X-ORIGINAL-URL:https://www.ategal.com
X-WR-CALDESC:Eventos para Ategal
REFRESH-INTERVAL;VALUE=DURATION:PT1H
X-Robots-Tag:noindex
X-PUBLISHED-TTL:PT1H
BEGIN:VTIMEZONE
TZID:Europe/Paris
BEGIN:DAYLIGHT
TZOFFSETFROM:+0100
TZOFFSETTO:+0200
TZNAME:CEST
DTSTART:20180325T010000
END:DAYLIGHT
BEGIN:STANDARD
TZOFFSETFROM:+0200
TZOFFSETTO:+0100
TZNAME:CET
DTSTART:20181028T010000
END:STANDARD
BEGIN:DAYLIGHT
TZOFFSETFROM:+0100
TZOFFSETTO:+0200
TZNAME:CEST
DTSTART:20190331T010000
END:DAYLIGHT
BEGIN:STANDARD
TZOFFSETFROM:+0200
TZOFFSETTO:+0100
TZNAME:CET
DTSTART:20191027T010000
END:STANDARD
BEGIN:DAYLIGHT
TZOFFSETFROM:+0100
TZOFFSETTO:+0200
TZNAME:CEST
DTSTART:20200329T010000
END:DAYLIGHT
BEGIN:STANDARD
TZOFFSETFROM:+0200
TZOFFSETTO:+0100
TZNAME:CET
DTSTART:20201025T010000
END:STANDARD
END:VTIMEZONE
BEGIN:VEVENT
DTSTART;TZID=Europe/Paris:20190712T090000
DTEND;TZID=Europe/Paris:20190712T113000
DTSTAMP:20260423T102014
CREATED:20190711T110530Z
LAST-MODIFIED:20190711T110632Z
UID:3807-1562922000-1562931000@www.ategal.com
SUMMARY:Caminatas saludables en Ategal Padrón
DESCRIPTION:Ategal Padrón realiza\, todos los viernes de julio\, caminatas saludables\, gratuitas\, partiendo de su propia sede. \nTodas las personas interesadas en participar sólo tienen que acudir a las 9.00 horas ante la sede de Ategal Padrón en el Centro Social de la localidad (Campo do Souto\, 2).
URL:https://www.ategal.com/evento-ategal/caminatas-saludables-en-ategal-padron/
LOCATION:Ategal Padrón
ATTACH;FMTTYPE=image/jpeg:https://www.ategal.com/wp-content/uploads/2019/03/MulleresAtegal4.jpg
END:VEVENT
BEGIN:VEVENT
DTSTART;TZID=Europe/Paris:20190712T090000
DTEND;TZID=Europe/Paris:20190712T113000
DTSTAMP:20260423T102014
CREATED:20190711T110530Z
LAST-MODIFIED:20190711T110530Z
UID:7432-1562922000-1562931000@www.ategal.com
SUMMARY:Caminatas saludables en Ategal Padrón
DESCRIPTION:Ategal Padrón realiza\, todos los viernes de julio\, caminatas saludables\, gratuitas\, partiendo de su propia sede. \nTodas las personas interesadas en participar sólo tienen que acudir a las 9.00 horas ante la sede de Ategal Padrón en el Centro Social de la localidad (Campo do Souto\, 2).
URL:https://www.ategal.com/evento-ategal/caminatas-saludables-en-ategal-padron/
LOCATION:Ategal Padrón
ATTACH;FMTTYPE=image/jpeg:https://www.ategal.com/wp-content/uploads/2019/03/MulleresAtegal4.jpg
END:VEVENT
END:VCALENDAR