BEGIN:VCALENDAR
VERSION:2.0
PRODID:-//Ategal - ECPv6.15.20//NONSGML v1.0//EN
CALSCALE:GREGORIAN
METHOD:PUBLISH
X-ORIGINAL-URL:https://www.ategal.com
X-WR-CALDESC:Eventos para Ategal
REFRESH-INTERVAL;VALUE=DURATION:PT1H
X-Robots-Tag:noindex
X-PUBLISHED-TTL:PT1H
BEGIN:VTIMEZONE
TZID:Europe/Paris
BEGIN:DAYLIGHT
TZOFFSETFROM:+0100
TZOFFSETTO:+0200
TZNAME:CEST
DTSTART:20180325T010000
END:DAYLIGHT
BEGIN:STANDARD
TZOFFSETFROM:+0200
TZOFFSETTO:+0100
TZNAME:CET
DTSTART:20181028T010000
END:STANDARD
BEGIN:DAYLIGHT
TZOFFSETFROM:+0100
TZOFFSETTO:+0200
TZNAME:CEST
DTSTART:20190331T010000
END:DAYLIGHT
BEGIN:STANDARD
TZOFFSETFROM:+0200
TZOFFSETTO:+0100
TZNAME:CET
DTSTART:20191027T010000
END:STANDARD
BEGIN:DAYLIGHT
TZOFFSETFROM:+0100
TZOFFSETTO:+0200
TZNAME:CEST
DTSTART:20200329T010000
END:DAYLIGHT
BEGIN:STANDARD
TZOFFSETFROM:+0200
TZOFFSETTO:+0100
TZNAME:CET
DTSTART:20201025T010000
END:STANDARD
END:VTIMEZONE
BEGIN:VEVENT
DTSTART;TZID=Europe/Paris:20191030T190000
DTEND;TZID=Europe/Paris:20191030T200000
DTSTAMP:20260423T034626
CREATED:20191026T055040Z
LAST-MODIFIED:20191026T055344Z
UID:4424-1572462000-1572465600@www.ategal.com
SUMMARY:Inauguración oficial curso 19_20. "40 anos do Camiño"
DESCRIPTION:O mércores 30 presentamos o libro «40 anos do Camiño» coincidindo coa inauguración do curso académico. \nÉ un libro único realizado por persoas de ATEGAL Santiago que seguro vos sorprenderá. Estades todos convidados \n \n 
URL:https://www.ategal.com/evento-ategal/inauguracion-oficial-curso-19_20-40-anos-do-camino/
LOCATION:Ategal Santiago\, Rúa Virxe da Cerca\, 31\, Santiago de Compostela\, A Coruña
ATTACH;FMTTYPE=image/png:https://www.ategal.com/wp-content/uploads/2019/10/portada-libro.png
END:VEVENT
BEGIN:VEVENT
DTSTART;TZID=Europe/Paris:20191030T190000
DTEND;TZID=Europe/Paris:20191030T200000
DTSTAMP:20260423T034626
CREATED:20191026T055040Z
LAST-MODIFIED:20191026T055040Z
UID:7410-1572462000-1572465600@www.ategal.com
SUMMARY:Inauguración oficial curso 19_20. "40 anos do Camiño"
DESCRIPTION:O mércores 30 presentamos o libro «40 anos do Camiño» coincidindo coa inauguración do curso académico. \nÉ un libro único realizado por persoas de ATEGAL Santiago que seguro vos sorprenderá. Estades todos convidados \n \n 
URL:https://www.ategal.com/evento-ategal/inauguracion-oficial-curso-19_20-40-anos-do-camino/
LOCATION:Ategal Santiago\, Rúa Virxe da Cerca\, 31\, Santiago de Compostela\, A Coruña
ATTACH;FMTTYPE=image/png:https://www.ategal.com/wp-content/uploads/2019/10/portada-libro.png
END:VEVENT
END:VCALENDAR