BEGIN:VCALENDAR
VERSION:2.0
PRODID:-//Ategal - ECPv6.15.20//NONSGML v1.0//EN
CALSCALE:GREGORIAN
METHOD:PUBLISH
X-WR-CALNAME:Ategal
X-ORIGINAL-URL:https://www.ategal.com
X-WR-CALDESC:Eventos para Ategal
REFRESH-INTERVAL;VALUE=DURATION:PT1H
X-Robots-Tag:noindex
X-PUBLISHED-TTL:PT1H
BEGIN:VTIMEZONE
TZID:Europe/Paris
BEGIN:DAYLIGHT
TZOFFSETFROM:+0100
TZOFFSETTO:+0200
TZNAME:CEST
DTSTART:20180325T010000
END:DAYLIGHT
BEGIN:STANDARD
TZOFFSETFROM:+0200
TZOFFSETTO:+0100
TZNAME:CET
DTSTART:20181028T010000
END:STANDARD
BEGIN:DAYLIGHT
TZOFFSETFROM:+0100
TZOFFSETTO:+0200
TZNAME:CEST
DTSTART:20190331T010000
END:DAYLIGHT
BEGIN:STANDARD
TZOFFSETFROM:+0200
TZOFFSETTO:+0100
TZNAME:CET
DTSTART:20191027T010000
END:STANDARD
BEGIN:DAYLIGHT
TZOFFSETFROM:+0100
TZOFFSETTO:+0200
TZNAME:CEST
DTSTART:20200329T010000
END:DAYLIGHT
BEGIN:STANDARD
TZOFFSETFROM:+0200
TZOFFSETTO:+0100
TZNAME:CET
DTSTART:20201025T010000
END:STANDARD
END:VTIMEZONE
BEGIN:VEVENT
DTSTART;TZID=Europe/Paris:20191108T103000
DTEND;TZID=Europe/Paris:20191108T123000
DTSTAMP:20260423T034453
CREATED:20191029T124201Z
LAST-MODIFIED:20191031T122537Z
UID:4435-1573209000-1573216200@www.ategal.com
SUMMARY:Curso de Benestar Natural e social en Ategal Padrón: Saúde e Benestar. Claves para unha vida sana
DESCRIPTION:
URL:https://www.ategal.com/evento-ategal/cursos-de-benestar-natural-e-social-en-ategal-padron/
END:VEVENT
BEGIN:VEVENT
DTSTART;TZID=Europe/Paris:20191108T103000
DTEND;TZID=Europe/Paris:20191108T123000
DTSTAMP:20260423T034453
CREATED:20191029T124201Z
LAST-MODIFIED:20191029T124201Z
UID:7403-1573209000-1573216200@www.ategal.com
SUMMARY:Curso de Benestar Natural e social en Ategal Padrón: Saúde e Benestar. Claves para unha vida sana
DESCRIPTION:
URL:https://www.ategal.com/evento-ategal/cursos-de-benestar-natural-e-social-en-ategal-padron/
END:VEVENT
END:VCALENDAR