BEGIN:VCALENDAR
VERSION:2.0
PRODID:-//Ategal - ECPv6.15.20//NONSGML v1.0//EN
CALSCALE:GREGORIAN
METHOD:PUBLISH
X-WR-CALNAME:Ategal
X-ORIGINAL-URL:https://www.ategal.com
X-WR-CALDESC:Eventos para Ategal
REFRESH-INTERVAL;VALUE=DURATION:PT1H
X-Robots-Tag:noindex
X-PUBLISHED-TTL:PT1H
BEGIN:VTIMEZONE
TZID:Europe/Paris
BEGIN:DAYLIGHT
TZOFFSETFROM:+0100
TZOFFSETTO:+0200
TZNAME:CEST
DTSTART:20180325T010000
END:DAYLIGHT
BEGIN:STANDARD
TZOFFSETFROM:+0200
TZOFFSETTO:+0100
TZNAME:CET
DTSTART:20181028T010000
END:STANDARD
BEGIN:DAYLIGHT
TZOFFSETFROM:+0100
TZOFFSETTO:+0200
TZNAME:CEST
DTSTART:20190331T010000
END:DAYLIGHT
BEGIN:STANDARD
TZOFFSETFROM:+0200
TZOFFSETTO:+0100
TZNAME:CET
DTSTART:20191027T010000
END:STANDARD
BEGIN:DAYLIGHT
TZOFFSETFROM:+0100
TZOFFSETTO:+0200
TZNAME:CEST
DTSTART:20200329T010000
END:DAYLIGHT
BEGIN:STANDARD
TZOFFSETFROM:+0200
TZOFFSETTO:+0100
TZNAME:CET
DTSTART:20201025T010000
END:STANDARD
END:VTIMEZONE
BEGIN:VEVENT
DTSTART;TZID=Europe/Paris:20191122T103000
DTEND;TZID=Europe/Paris:20191122T123000
DTSTAMP:20260423T034453
CREATED:20191031T124407Z
LAST-MODIFIED:20191118T103840Z
UID:4459-1574418600-1574425800@www.ategal.com
SUMMARY:Curso de Benestar natural e social en Ategal Padrón: Técnicas para liberar o estrés da ansiedade
DESCRIPTION:Como cada viernes de noviembre\, la Asociación Bienestar Natural y Social dirige este curso impartido por la experta Dulcina Gómez Araujo. En esta ocasión trabajaremos distintas técnicas para liberar el estrés y la ansiedad.
URL:https://www.ategal.com/evento-ategal/curso-de-benestar-natural-e-social-en-ategal-padron-tecnicas-para-liberar-o-estres-da-ansiedade/
LOCATION:Ategal Padrón
ATTACH;FMTTYPE=image/jpeg:https://www.ategal.com/wp-content/uploads/2019/10/WhatsApp-Image-2019-11-18-at-11.23.43-AM.jpeg
END:VEVENT
BEGIN:VEVENT
DTSTART;TZID=Europe/Paris:20191122T103000
DTEND;TZID=Europe/Paris:20191122T123000
DTSTAMP:20260423T034453
CREATED:20191031T124407Z
LAST-MODIFIED:20191031T124407Z
UID:7390-1574418600-1574425800@www.ategal.com
SUMMARY:Curso de Benestar natural e social en Ategal Padrón: Técnicas para liberar o estrés da ansiedade
DESCRIPTION:Como cada viernes de noviembre\, la Asociación Bienestar Natural y Social dirige este curso impartido por la experta Dulcina Gómez Araujo. En esta ocasión trabajaremos distintas técnicas para liberar el estrés y la ansiedad.
URL:https://www.ategal.com/evento-ategal/curso-de-benestar-natural-e-social-en-ategal-padron-tecnicas-para-liberar-o-estres-da-ansiedade/
LOCATION:Ategal Padrón
ATTACH;FMTTYPE=image/jpeg:https://www.ategal.com/wp-content/uploads/2019/10/WhatsApp-Image-2019-11-18-at-11.23.43-AM.jpeg
END:VEVENT
BEGIN:VEVENT
DTSTART;TZID=Europe/Paris:20191122T110000
DTEND;TZID=Europe/Paris:20191122T130000
DTSTAMP:20260423T034453
CREATED:20191113T111300Z
LAST-MODIFIED:20191113T114946Z
UID:4514-1574420400-1574427600@www.ategal.com
SUMMARY:"Introducción a las redes sociales. Riesgos y cautelas"\, en Ategal Santiago
DESCRIPTION:
URL:https://www.ategal.com/evento-ategal/introduccion-a-las-redes-sociales-riesgos-y-cautelas-en-ategal-santiago/
LOCATION:Ategal Santiago\, Rúa Virxe da Cerca\, 31\, Santiago de Compostela\, A Coruña
ATTACH;FMTTYPE=image/jpeg:https://www.ategal.com/wp-content/uploads/2019/11/0001-4-1-e1573645421626.jpg
ORGANIZER;CN="ADICAE":MAILTO:vigo@ategal.com
END:VEVENT
BEGIN:VEVENT
DTSTART;TZID=Europe/Paris:20191122T110000
DTEND;TZID=Europe/Paris:20191122T130000
DTSTAMP:20260423T034453
CREATED:20191113T111300Z
LAST-MODIFIED:20191113T111300Z
UID:7389-1574420400-1574427600@www.ategal.com
SUMMARY:"Introducción a las redes sociales. Riesgos y cautelas"\, en Ategal Santiago
DESCRIPTION:
URL:https://www.ategal.com/evento-ategal/introduccion-a-las-redes-sociales-riesgos-y-cautelas-en-ategal-santiago/
LOCATION:Ategal Santiago\, Rúa Virxe da Cerca\, 31\, Santiago de Compostela\, A Coruña
ATTACH;FMTTYPE=image/jpeg:https://www.ategal.com/wp-content/uploads/2019/11/0001-4-1-e1573645421626.jpg
ORGANIZER;CN="ADICAE":MAILTO:vigo@ategal.com
END:VEVENT
END:VCALENDAR