BEGIN:VCALENDAR
VERSION:2.0
PRODID:-//Ategal - ECPv6.15.20//NONSGML v1.0//EN
CALSCALE:GREGORIAN
METHOD:PUBLISH
X-WR-CALNAME:Ategal
X-ORIGINAL-URL:https://www.ategal.com
X-WR-CALDESC:Eventos para Ategal
REFRESH-INTERVAL;VALUE=DURATION:PT1H
X-Robots-Tag:noindex
X-PUBLISHED-TTL:PT1H
BEGIN:VTIMEZONE
TZID:Europe/Paris
BEGIN:DAYLIGHT
TZOFFSETFROM:+0100
TZOFFSETTO:+0200
TZNAME:CEST
DTSTART:20180325T010000
END:DAYLIGHT
BEGIN:STANDARD
TZOFFSETFROM:+0200
TZOFFSETTO:+0100
TZNAME:CET
DTSTART:20181028T010000
END:STANDARD
BEGIN:DAYLIGHT
TZOFFSETFROM:+0100
TZOFFSETTO:+0200
TZNAME:CEST
DTSTART:20190331T010000
END:DAYLIGHT
BEGIN:STANDARD
TZOFFSETFROM:+0200
TZOFFSETTO:+0100
TZNAME:CET
DTSTART:20191027T010000
END:STANDARD
BEGIN:DAYLIGHT
TZOFFSETFROM:+0100
TZOFFSETTO:+0200
TZNAME:CEST
DTSTART:20200329T010000
END:DAYLIGHT
BEGIN:STANDARD
TZOFFSETFROM:+0200
TZOFFSETTO:+0100
TZNAME:CET
DTSTART:20201025T010000
END:STANDARD
END:VTIMEZONE
BEGIN:VEVENT
DTSTART;TZID=Europe/Paris:20191125T190000
DTEND;TZID=Europe/Paris:20191125T203000
DTSTAMP:20260423T014551
CREATED:20191125T120229Z
LAST-MODIFIED:20191125T120229Z
UID:7387-1574708400-1574713800@www.ategal.com
SUMMARY:La violencia de género en la historia del arte (Ourense)
DESCRIPTION:Seguimos conmemorando el 25N Día para la Erradicación contra la Violencia de Género.
URL:https://www.ategal.com/evento-ategal/la-violencia-de-genero-en-la-historia-del-arte-ourense/
LOCATION:Ategal Ourense
ATTACH;FMTTYPE=image/png:https://www.ategal.com/wp-content/uploads/2019/11/Cartel-1-e1574683315876.png
END:VEVENT
BEGIN:VEVENT
DTSTART;TZID=Europe/Paris:20191125T190000
DTEND;TZID=Europe/Paris:20191125T203000
DTSTAMP:20260423T014551
CREATED:20191125T120229Z
LAST-MODIFIED:20191125T120229Z
UID:4551-1574708400-1574713800@www.ategal.com
SUMMARY:La violencia de género en la historia del arte (Ourense)
DESCRIPTION:Seguimos conmemorando el 25N Día para la Erradicación contra la Violencia de Género.
URL:https://www.ategal.com/evento-ategal/la-violencia-de-genero-en-la-historia-del-arte-ourense/
LOCATION:Ategal Ourense
ATTACH;FMTTYPE=image/png:https://www.ategal.com/wp-content/uploads/2019/11/Cartel-1-e1574683315876.png
END:VEVENT
END:VCALENDAR