BEGIN:VCALENDAR
VERSION:2.0
PRODID:-//Ategal - ECPv6.15.20//NONSGML v1.0//EN
CALSCALE:GREGORIAN
METHOD:PUBLISH
X-ORIGINAL-URL:https://www.ategal.com
X-WR-CALDESC:Eventos para Ategal
REFRESH-INTERVAL;VALUE=DURATION:PT1H
X-Robots-Tag:noindex
X-PUBLISHED-TTL:PT1H
BEGIN:VTIMEZONE
TZID:Europe/Paris
BEGIN:DAYLIGHT
TZOFFSETFROM:+0100
TZOFFSETTO:+0200
TZNAME:CEST
DTSTART:20180325T010000
END:DAYLIGHT
BEGIN:STANDARD
TZOFFSETFROM:+0200
TZOFFSETTO:+0100
TZNAME:CET
DTSTART:20181028T010000
END:STANDARD
BEGIN:DAYLIGHT
TZOFFSETFROM:+0100
TZOFFSETTO:+0200
TZNAME:CEST
DTSTART:20190331T010000
END:DAYLIGHT
BEGIN:STANDARD
TZOFFSETFROM:+0200
TZOFFSETTO:+0100
TZNAME:CET
DTSTART:20191027T010000
END:STANDARD
BEGIN:DAYLIGHT
TZOFFSETFROM:+0100
TZOFFSETTO:+0200
TZNAME:CEST
DTSTART:20200329T010000
END:DAYLIGHT
BEGIN:STANDARD
TZOFFSETFROM:+0200
TZOFFSETTO:+0100
TZNAME:CET
DTSTART:20201025T010000
END:STANDARD
END:VTIMEZONE
BEGIN:VEVENT
DTSTART;TZID=Europe/Paris:20191129T103000
DTEND;TZID=Europe/Paris:20191129T123000
DTSTAMP:20260423T014052
CREATED:20191031T124519Z
LAST-MODIFIED:20191118T104256Z
UID:4461-1575023400-1575030600@www.ategal.com
SUMMARY:Curso de Benestar natural e social en Ategal Padrón: Educación emocional no outono da vida
DESCRIPTION:Como cada viernes de noviembre\, la Asociación Bienestar Natural y Social dirige este curso impartido por la experta Dulcina Gómez Araujo. En esta ocasión trabajaremos la educación emocional en el otoño de la vida.
URL:https://www.ategal.com/evento-ategal/curso-de-benestar-natural-e-social-en-ategal-padron-educacion-emocional-no-outono-da-vida/
LOCATION:Ategal Padrón
ATTACH;FMTTYPE=image/jpeg:https://www.ategal.com/wp-content/uploads/2019/10/WhatsApp-Image-2019-11-18-at-11.23.43-AM.jpeg
END:VEVENT
BEGIN:VEVENT
DTSTART;TZID=Europe/Paris:20191129T103000
DTEND;TZID=Europe/Paris:20191129T123000
DTSTAMP:20260423T014052
CREATED:20191031T124519Z
LAST-MODIFIED:20191031T124519Z
UID:7381-1575023400-1575030600@www.ategal.com
SUMMARY:Curso de Benestar natural e social en Ategal Padrón: Educación emocional no outono da vida
DESCRIPTION:Como cada viernes de noviembre\, la Asociación Bienestar Natural y Social dirige este curso impartido por la experta Dulcina Gómez Araujo. En esta ocasión trabajaremos la educación emocional en el otoño de la vida.
URL:https://www.ategal.com/evento-ategal/curso-de-benestar-natural-e-social-en-ategal-padron-educacion-emocional-no-outono-da-vida/
LOCATION:Ategal Padrón
ATTACH;FMTTYPE=image/jpeg:https://www.ategal.com/wp-content/uploads/2019/10/WhatsApp-Image-2019-11-18-at-11.23.43-AM.jpeg
END:VEVENT
BEGIN:VEVENT
DTSTART;TZID=Europe/Paris:20191129T113000
DTEND;TZID=Europe/Paris:20191129T130000
DTSTAMP:20260423T014052
CREATED:20191106T171937Z
LAST-MODIFIED:20191106T171937Z
UID:4492-1575027000-1575032400@www.ategal.com
SUMMARY:Ategal Vigo-visita guiada Museo Marco "O salón dos espellos"
DESCRIPTION:
URL:https://www.ategal.com/evento-ategal/ategal-vigo-visita-guiada-museo-marco-o-salon-dos-espellos/
LOCATION:Museo Marco Vigo\, C/ Príncipe\, Vigo
END:VEVENT
BEGIN:VEVENT
DTSTART;TZID=Europe/Paris:20191129T113000
DTEND;TZID=Europe/Paris:20191129T130000
DTSTAMP:20260423T014052
CREATED:20191106T171937Z
LAST-MODIFIED:20191106T171937Z
UID:7380-1575027000-1575032400@www.ategal.com
SUMMARY:Ategal Vigo-visita guiada Museo Marco "O salón dos espellos"
DESCRIPTION:
URL:https://www.ategal.com/evento-ategal/ategal-vigo-visita-guiada-museo-marco-o-salon-dos-espellos/
LOCATION:Museo Marco Vigo\, C/ Príncipe\, Vigo
END:VEVENT
END:VCALENDAR