BEGIN:VCALENDAR
VERSION:2.0
PRODID:-//Ategal - ECPv6.15.20//NONSGML v1.0//EN
CALSCALE:GREGORIAN
METHOD:PUBLISH
X-WR-CALNAME:Ategal
X-ORIGINAL-URL:https://www.ategal.com
X-WR-CALDESC:Eventos para Ategal
REFRESH-INTERVAL;VALUE=DURATION:PT1H
X-Robots-Tag:noindex
X-PUBLISHED-TTL:PT1H
BEGIN:VTIMEZONE
TZID:Europe/Paris
BEGIN:DAYLIGHT
TZOFFSETFROM:+0100
TZOFFSETTO:+0200
TZNAME:CEST
DTSTART:20190331T010000
END:DAYLIGHT
BEGIN:STANDARD
TZOFFSETFROM:+0200
TZOFFSETTO:+0100
TZNAME:CET
DTSTART:20191027T010000
END:STANDARD
BEGIN:DAYLIGHT
TZOFFSETFROM:+0100
TZOFFSETTO:+0200
TZNAME:CEST
DTSTART:20200329T010000
END:DAYLIGHT
BEGIN:STANDARD
TZOFFSETFROM:+0200
TZOFFSETTO:+0100
TZNAME:CET
DTSTART:20201025T010000
END:STANDARD
BEGIN:DAYLIGHT
TZOFFSETFROM:+0100
TZOFFSETTO:+0200
TZNAME:CEST
DTSTART:20210328T010000
END:DAYLIGHT
BEGIN:STANDARD
TZOFFSETFROM:+0200
TZOFFSETTO:+0100
TZNAME:CET
DTSTART:20211031T010000
END:STANDARD
END:VTIMEZONE
BEGIN:VEVENT
DTSTART;TZID=Europe/Paris:20200116T170000
DTEND;TZID=Europe/Paris:20200116T190000
DTSTAMP:20260423T002017
CREATED:20200113T092914Z
LAST-MODIFIED:20200113T092914Z
UID:7370-1579194000-1579201200@www.ategal.com
SUMMARY:Una Salud de Cine: "Salutogenesis" (A Coruña)
DESCRIPTION:Llegan nuestros talleres «Una salud de cine» a A Coruña. Este jueves\, la médico de familia y coach Estefanía Zardoya nos acerca el concepto de ‘salutogenesis’
URL:https://www.ategal.com/evento-ategal/una-salud-de-cine-cantando-bajo-la-lluvia-a-coruna/
LOCATION:Ategal A Coruña\, A Coruña
ATTACH;FMTTYPE=image/png:https://www.ategal.com/wp-content/uploads/2020/01/Una_salud_de_cine_CORUÑA-1-1-e1578998627187.png
END:VEVENT
BEGIN:VEVENT
DTSTART;TZID=Europe/Paris:20200116T170000
DTEND;TZID=Europe/Paris:20200116T190000
DTSTAMP:20260423T002017
CREATED:20200113T092914Z
LAST-MODIFIED:20200114T104641Z
UID:4589-1579194000-1579201200@www.ategal.com
SUMMARY:Una Salud de Cine: "Salutogenesis" (A Coruña)
DESCRIPTION:Llegan nuestros talleres «Una salud de cine» a A Coruña. Este jueves\, la médico de familia y coach Estefanía Zardoya nos acerca el concepto de ‘salutogenesis’
URL:https://www.ategal.com/evento-ategal/una-salud-de-cine-cantando-bajo-la-lluvia-a-coruna/
LOCATION:Ategal A Coruña\, A Coruña
ATTACH;FMTTYPE=image/png:https://www.ategal.com/wp-content/uploads/2020/01/Una_salud_de_cine_CORUÑA-1-1-e1578998627187.png
END:VEVENT
BEGIN:VEVENT
DTSTART;TZID=Europe/Paris:20200116T180000
DTEND;TZID=Europe/Paris:20200116T190000
DTSTAMP:20260423T002017
CREATED:20200113T094012Z
LAST-MODIFIED:20200113T094012Z
UID:4592-1579197600-1579201200@www.ategal.com
SUMMARY:Coloquio "Las especias de Oriente" (Santiago de Compostela)
DESCRIPTION:En el año 2019 se cumplía el V Centenario de la histórica vuelta al mundo de Fernando Magallanes y Juan Sebastián Elcano. Para celebrarlo\, Ategal acudió a sus alumnos y alumnas\, y fruto de ello la Doctora en Farmacia Mari Cruz Mato ofrecerá el próximo jueves 16 «Las especias de Oriente». Un coloquio que nos acerca las grandes ventajas y curiosidades de las especias.
URL:https://www.ategal.com/evento-ategal/coloquio-las-especias-de-oriente-santiago-de-compostela/
LOCATION:Ategal Santiago\, Rúa Virxe da Cerca\, 31\, Santiago de Compostela\, A Coruña
END:VEVENT
BEGIN:VEVENT
DTSTART;TZID=Europe/Paris:20200116T180000
DTEND;TZID=Europe/Paris:20200116T190000
DTSTAMP:20260423T002017
CREATED:20200113T094012Z
LAST-MODIFIED:20200113T094012Z
UID:7369-1579197600-1579201200@www.ategal.com
SUMMARY:Coloquio "Las especias de Oriente" (Santiago de Compostela)
DESCRIPTION:En el año 2019 se cumplía el V Centenario de la histórica vuelta al mundo de Fernando Magallanes y Juan Sebastián Elcano. Para celebrarlo\, Ategal acudió a sus alumnos y alumnas\, y fruto de ello la Doctora en Farmacia Mari Cruz Mato ofrecerá el próximo jueves 16 «Las especias de Oriente». Un coloquio que nos acerca las grandes ventajas y curiosidades de las especias.
URL:https://www.ategal.com/evento-ategal/coloquio-las-especias-de-oriente-santiago-de-compostela/
LOCATION:Ategal Santiago\, Rúa Virxe da Cerca\, 31\, Santiago de Compostela\, A Coruña
END:VEVENT
END:VCALENDAR