BEGIN:VCALENDAR
VERSION:2.0
PRODID:-//Ategal - ECPv6.15.20//NONSGML v1.0//EN
CALSCALE:GREGORIAN
METHOD:PUBLISH
X-WR-CALNAME:Ategal
X-ORIGINAL-URL:https://www.ategal.com
X-WR-CALDESC:Eventos para Ategal
REFRESH-INTERVAL;VALUE=DURATION:PT1H
X-Robots-Tag:noindex
X-PUBLISHED-TTL:PT1H
BEGIN:VTIMEZONE
TZID:Europe/Paris
BEGIN:DAYLIGHT
TZOFFSETFROM:+0100
TZOFFSETTO:+0200
TZNAME:CEST
DTSTART:20190331T010000
END:DAYLIGHT
BEGIN:STANDARD
TZOFFSETFROM:+0200
TZOFFSETTO:+0100
TZNAME:CET
DTSTART:20191027T010000
END:STANDARD
BEGIN:DAYLIGHT
TZOFFSETFROM:+0100
TZOFFSETTO:+0200
TZNAME:CEST
DTSTART:20200329T010000
END:DAYLIGHT
BEGIN:STANDARD
TZOFFSETFROM:+0200
TZOFFSETTO:+0100
TZNAME:CET
DTSTART:20201025T010000
END:STANDARD
BEGIN:DAYLIGHT
TZOFFSETFROM:+0100
TZOFFSETTO:+0200
TZNAME:CEST
DTSTART:20210328T010000
END:DAYLIGHT
BEGIN:STANDARD
TZOFFSETFROM:+0200
TZOFFSETTO:+0100
TZNAME:CET
DTSTART:20211031T010000
END:STANDARD
END:VTIMEZONE
BEGIN:VEVENT
DTSTART;TZID=Europe/Paris:20200123T180000
DTEND;TZID=Europe/Paris:20200123T180000
DTSTAMP:20260423T002016
CREATED:20200114T105428Z
LAST-MODIFIED:20200405T113723Z
UID:4597-1579802400-1579802400@www.ategal.com
SUMMARY:Coloquio "La Sábana Santa" (Santiago de Compostela)
DESCRIPTION:El médico de familia y humanista Raimundo López propone un análisis de la Sábana Santa\, una reliquia disputada entre la mística y la ciencia.
URL:https://www.ategal.com/evento-ategal/coloquio-la-sabana-santa-santiago-de-compostela/
LOCATION:Ategal Santiago\, Rúa Virxe da Cerca\, 31\, Santiago de Compostela\, A Coruña
CATEGORIES:Santiago de Compostela
END:VEVENT
BEGIN:VEVENT
DTSTART;TZID=Europe/Paris:20200123T180000
DTEND;TZID=Europe/Paris:20200123T180000
DTSTAMP:20260423T002016
CREATED:20200114T105428Z
LAST-MODIFIED:20200114T105428Z
UID:7363-1579802400-1579802400@www.ategal.com
SUMMARY:Coloquio "La Sábana Santa" (Santiago de Compostela)
DESCRIPTION:El médico de familia y humanista Raimundo López propone un análisis de la Sábana Santa\, una reliquia disputada entre la mística y la ciencia.
URL:https://www.ategal.com/evento-ategal/coloquio-la-sabana-santa-santiago-de-compostela/
LOCATION:Ategal Santiago\, Rúa Virxe da Cerca\, 31\, Santiago de Compostela\, A Coruña
CATEGORIES:Santiago de Compostela
END:VEVENT
END:VCALENDAR