BEGIN:VCALENDAR
VERSION:2.0
PRODID:-//Ategal - ECPv6.15.20//NONSGML v1.0//EN
CALSCALE:GREGORIAN
METHOD:PUBLISH
X-ORIGINAL-URL:https://www.ategal.com
X-WR-CALDESC:Eventos para Ategal
REFRESH-INTERVAL;VALUE=DURATION:PT1H
X-Robots-Tag:noindex
X-PUBLISHED-TTL:PT1H
BEGIN:VTIMEZONE
TZID:Europe/Paris
BEGIN:DAYLIGHT
TZOFFSETFROM:+0100
TZOFFSETTO:+0200
TZNAME:CEST
DTSTART:20190331T010000
END:DAYLIGHT
BEGIN:STANDARD
TZOFFSETFROM:+0200
TZOFFSETTO:+0100
TZNAME:CET
DTSTART:20191027T010000
END:STANDARD
BEGIN:DAYLIGHT
TZOFFSETFROM:+0100
TZOFFSETTO:+0200
TZNAME:CEST
DTSTART:20200329T010000
END:DAYLIGHT
BEGIN:STANDARD
TZOFFSETFROM:+0200
TZOFFSETTO:+0100
TZNAME:CET
DTSTART:20201025T010000
END:STANDARD
BEGIN:DAYLIGHT
TZOFFSETFROM:+0100
TZOFFSETTO:+0200
TZNAME:CEST
DTSTART:20210328T010000
END:DAYLIGHT
BEGIN:STANDARD
TZOFFSETFROM:+0200
TZOFFSETTO:+0100
TZNAME:CET
DTSTART:20211031T010000
END:STANDARD
END:VTIMEZONE
BEGIN:VEVENT
DTSTART;TZID=Europe/Paris:20200207T103000
DTEND;TZID=Europe/Paris:20200207T123000
DTSTAMP:20260422T224240
CREATED:20200207T110500Z
LAST-MODIFIED:20200405T113657Z
UID:4662-1581071400-1581078600@www.ategal.com
SUMMARY:Curso Bienestar Natural y Social (Padrón)
DESCRIPTION:Comienzan nuestros cursos de Bienestar natural y Social en Padrón. Este viernes disfrutaremos del taller «Claves para una vida sana» con Dulcina Gómez Araujo.
URL:https://www.ategal.com/evento-ategal/curso-bienestar-natural-y-social-padron/
LOCATION:Ategal Padrón
CATEGORIES:Padrón
ATTACH;FMTTYPE=image/jpeg:https://www.ategal.com/wp-content/uploads/2020/02/0001-6-scaled.jpg
END:VEVENT
BEGIN:VEVENT
DTSTART;TZID=Europe/Paris:20200207T103000
DTEND;TZID=Europe/Paris:20200207T123000
DTSTAMP:20260422T224240
CREATED:20200207T110500Z
LAST-MODIFIED:20200207T110500Z
UID:7354-1581071400-1581078600@www.ategal.com
SUMMARY:Curso Bienestar Natural y Social (Padrón)
DESCRIPTION:Comienzan nuestros cursos de Bienestar natural y Social en Padrón. Este viernes disfrutaremos del taller «Claves para una vida sana» con Dulcina Gómez Araujo.
URL:https://www.ategal.com/evento-ategal/curso-bienestar-natural-y-social-padron/
LOCATION:Ategal Padrón
CATEGORIES:Padrón
ATTACH;FMTTYPE=image/jpeg:https://www.ategal.com/wp-content/uploads/2020/02/0001-6-scaled.jpg
END:VEVENT
END:VCALENDAR