BEGIN:VCALENDAR
VERSION:2.0
PRODID:-//Ategal - ECPv6.15.20//NONSGML v1.0//EN
CALSCALE:GREGORIAN
METHOD:PUBLISH
X-WR-CALNAME:Ategal
X-ORIGINAL-URL:https://www.ategal.com
X-WR-CALDESC:Eventos para Ategal
REFRESH-INTERVAL;VALUE=DURATION:PT1H
X-Robots-Tag:noindex
X-PUBLISHED-TTL:PT1H
BEGIN:VTIMEZONE
TZID:Europe/Paris
BEGIN:DAYLIGHT
TZOFFSETFROM:+0100
TZOFFSETTO:+0200
TZNAME:CEST
DTSTART:20190331T010000
END:DAYLIGHT
BEGIN:STANDARD
TZOFFSETFROM:+0200
TZOFFSETTO:+0100
TZNAME:CET
DTSTART:20191027T010000
END:STANDARD
BEGIN:DAYLIGHT
TZOFFSETFROM:+0100
TZOFFSETTO:+0200
TZNAME:CEST
DTSTART:20200329T010000
END:DAYLIGHT
BEGIN:STANDARD
TZOFFSETFROM:+0200
TZOFFSETTO:+0100
TZNAME:CET
DTSTART:20201025T010000
END:STANDARD
BEGIN:DAYLIGHT
TZOFFSETFROM:+0100
TZOFFSETTO:+0200
TZNAME:CEST
DTSTART:20210328T010000
END:DAYLIGHT
BEGIN:STANDARD
TZOFFSETFROM:+0200
TZOFFSETTO:+0100
TZNAME:CET
DTSTART:20211031T010000
END:STANDARD
END:VTIMEZONE
BEGIN:VEVENT
DTSTART;VALUE=DATE:20201130
DTEND;VALUE=DATE:20201205
DTSTAMP:20260420T092521
CREATED:20201128T172418Z
LAST-MODIFIED:20201128T172426Z
UID:10843-1606694400-1607126399@www.ategal.com
SUMMARY:Clases online
DESCRIPTION:Continuamos con la formación online. Mediante la nueva plataforma de Ategal\, los alumnos y alumnas podrán tener acceso a las clases a través de su usuario y contraseña. \nAquí tenemos el horario de las clases en directo\, aunque también hay nuevas sesiones grabadas de Taichí y Gimnasia\, entre otras. \n¡A por una nueva semana de aprendizaje!
URL:https://www.ategal.com/evento-ategal/clases-online/
LOCATION:A Coruña
ATTACH;FMTTYPE=image/jpeg:https://www.ategal.com/wp-content/uploads/2020/11/LUNES-3.jpg
END:VEVENT
BEGIN:VEVENT
DTSTART;VALUE=DATE:20201130
DTEND;VALUE=DATE:20201205
DTSTAMP:20260420T092521
CREATED:20201128T172504Z
LAST-MODIFIED:20201128T172504Z
UID:10837-1606694400-1607126399@www.ategal.com
SUMMARY:Clases Online
DESCRIPTION:Continuamos coa formación en liña. Mediante a nova plataforma de Ategal\, os alumnos e alumnas poderán ter acceso ás clases a través do seu usuario e contrasinal. \nAquí temos o horario das clases en directo\, aínda que tamén hai novas sesións gravadas de Taichí e Ximnasia\, entre outras. \nA por unha nova semana de aprendizaxe!
URL:https://www.ategal.com/evento-ategal/clases-online/
LOCATION:A Coruña
ATTACH;FMTTYPE=image/jpeg:https://www.ategal.com/wp-content/uploads/2020/11/LUNES-3.jpg
END:VEVENT
END:VCALENDAR