BEGIN:VCALENDAR
VERSION:2.0
PRODID:-//Ategal - ECPv6.15.20//NONSGML v1.0//EN
CALSCALE:GREGORIAN
METHOD:PUBLISH
X-ORIGINAL-URL:https://www.ategal.com
X-WR-CALDESC:Eventos para Ategal
REFRESH-INTERVAL;VALUE=DURATION:PT1H
X-Robots-Tag:noindex
X-PUBLISHED-TTL:PT1H
BEGIN:VTIMEZONE
TZID:Europe/Paris
BEGIN:DAYLIGHT
TZOFFSETFROM:+0100
TZOFFSETTO:+0200
TZNAME:CEST
DTSTART:20190331T010000
END:DAYLIGHT
BEGIN:STANDARD
TZOFFSETFROM:+0200
TZOFFSETTO:+0100
TZNAME:CET
DTSTART:20191027T010000
END:STANDARD
BEGIN:DAYLIGHT
TZOFFSETFROM:+0100
TZOFFSETTO:+0200
TZNAME:CEST
DTSTART:20200329T010000
END:DAYLIGHT
BEGIN:STANDARD
TZOFFSETFROM:+0200
TZOFFSETTO:+0100
TZNAME:CET
DTSTART:20201025T010000
END:STANDARD
BEGIN:DAYLIGHT
TZOFFSETFROM:+0100
TZOFFSETTO:+0200
TZNAME:CEST
DTSTART:20210328T010000
END:DAYLIGHT
BEGIN:STANDARD
TZOFFSETFROM:+0200
TZOFFSETTO:+0100
TZNAME:CET
DTSTART:20211031T010000
END:STANDARD
END:VTIMEZONE
BEGIN:VEVENT
DTSTART;VALUE=DATE:20201207
DTEND;VALUE=DATE:20201212
DTSTAMP:20260420T092637
CREATED:20201206T174827Z
LAST-MODIFIED:20201206T174827Z
UID:11019-1607299200-1607731199@www.ategal.com
SUMMARY:Clases online
DESCRIPTION:Inicia una semana más corta de lo común\, aunque cargada de contenido. Esta semana disfrutaremos de la sabiduría de Estefanía Zardoya con una nueva entrega de los talleres Una Salud de Cine. \nAdemás\, contamos con una cita ineludible: Y tú\, qué mayor quieres ser?. Un encuentro online que abordará la situación de las personas mayores en el contexto actual. ¡No puedes faltar!
URL:https://www.ategal.com/evento-ategal/clases-online-2/
LOCATION:A Coruña
ATTACH;FMTTYPE=image/jpeg:https://www.ategal.com/wp-content/uploads/2020/12/LUNES-4.jpg
END:VEVENT
BEGIN:VEVENT
DTSTART;VALUE=DATE:20201207
DTEND;VALUE=DATE:20201212
DTSTAMP:20260420T092637
CREATED:20201206T174848Z
LAST-MODIFIED:20201206T174848Z
UID:11013-1607299200-1607731199@www.ategal.com
SUMMARY:Clases online
DESCRIPTION:Inicia unha semana máis curta do común\, aínda que cargada de contido. Esta semana gozaremos da sabedoría de Estefanía Zardoya cunha nova entrega dos talleres Una Salud de Cine. \nAdemais\, contamos cunha cita ineludible: Y tú\, qué mayor quieres ser?. Un encontro en liña que abordará a situación das persoas maiores no contexto actual. Non podes faltar!
URL:https://www.ategal.com/evento-ategal/clases-online-2/
LOCATION:A Coruña
ATTACH;FMTTYPE=image/jpeg:https://www.ategal.com/wp-content/uploads/2020/12/LUNES-4.jpg
END:VEVENT
END:VCALENDAR