BEGIN:VCALENDAR
VERSION:2.0
PRODID:-//Ategal - ECPv6.15.20//NONSGML v1.0//EN
CALSCALE:GREGORIAN
METHOD:PUBLISH
X-ORIGINAL-URL:https://www.ategal.com
X-WR-CALDESC:Eventos para Ategal
REFRESH-INTERVAL;VALUE=DURATION:PT1H
X-Robots-Tag:noindex
X-PUBLISHED-TTL:PT1H
BEGIN:VTIMEZONE
TZID:Europe/Paris
BEGIN:DAYLIGHT
TZOFFSETFROM:+0100
TZOFFSETTO:+0200
TZNAME:CEST
DTSTART:20190331T010000
END:DAYLIGHT
BEGIN:STANDARD
TZOFFSETFROM:+0200
TZOFFSETTO:+0100
TZNAME:CET
DTSTART:20191027T010000
END:STANDARD
BEGIN:DAYLIGHT
TZOFFSETFROM:+0100
TZOFFSETTO:+0200
TZNAME:CEST
DTSTART:20200329T010000
END:DAYLIGHT
BEGIN:STANDARD
TZOFFSETFROM:+0200
TZOFFSETTO:+0100
TZNAME:CET
DTSTART:20201025T010000
END:STANDARD
BEGIN:DAYLIGHT
TZOFFSETFROM:+0100
TZOFFSETTO:+0200
TZNAME:CEST
DTSTART:20210328T010000
END:DAYLIGHT
BEGIN:STANDARD
TZOFFSETFROM:+0200
TZOFFSETTO:+0100
TZNAME:CET
DTSTART:20211031T010000
END:STANDARD
END:VTIMEZONE
BEGIN:VEVENT
DTSTART;VALUE=DATE:20201214
DTEND;VALUE=DATE:20201219
DTSTAMP:20260420T092648
CREATED:20201214T211356Z
LAST-MODIFIED:20201214T211356Z
UID:11045-1607904000-1608335999@www.ategal.com
SUMMARY:Clases en liña de decembro: do 14 ao 18
DESCRIPTION:Chega unha semana especial na que gozaremos das nosas clases favoritas e na que\, ademais\, contaremos cun novo taller de Estefanía Zardoya en Una Salud de Cine. \nTerminaremos a semana dando as grazas por contar convosco e vós cun brinde do Nadal moi especial. \nGrazas por seguir confiando na familia ATEGAL!
URL:https://www.ategal.com/evento-ategal/clases-en-lina-de-decembro-do-14-ao-18/
LOCATION:A Coruña
ATTACH;FMTTYPE=image/png:https://www.ategal.com/wp-content/uploads/2020/12/Sem14_18.png
END:VEVENT
BEGIN:VEVENT
DTSTART;VALUE=DATE:20201214
DTEND;VALUE=DATE:20201219
DTSTAMP:20260420T092648
CREATED:20201214T211825Z
LAST-MODIFIED:20201214T211825Z
UID:11051-1607904000-1608335999@www.ategal.com
SUMMARY:Formación online de diciembre: del 14 al 18
DESCRIPTION:Llega una semana especial en la que disfrutaremos de nuestras clases favoritas y en la que\, además\, contaremos con un nuevo taller de Estefanía Zardoya en Una Salud de Cine. \nTerminaremos la semana dando las gracias por contar con vosotros y vosotras con un brindis navideño muy especial. \n¡Gracias por seguir confiando en la familia ATEGAL!
URL:https://www.ategal.com/evento-ategal/formacion-online-de-diciembre-del-14-al-18/
LOCATION:A Coruña
ATTACH;FMTTYPE=image/png:https://www.ategal.com/wp-content/uploads/2020/12/Sem14_18.png
END:VEVENT
END:VCALENDAR