BEGIN:VCALENDAR
VERSION:2.0
PRODID:-//Ategal - ECPv6.15.20//NONSGML v1.0//EN
CALSCALE:GREGORIAN
METHOD:PUBLISH
X-WR-CALNAME:Ategal
X-ORIGINAL-URL:https://www.ategal.com
X-WR-CALDESC:Eventos para Ategal
REFRESH-INTERVAL;VALUE=DURATION:PT1H
X-Robots-Tag:noindex
X-PUBLISHED-TTL:PT1H
BEGIN:VTIMEZONE
TZID:Europe/Paris
BEGIN:DAYLIGHT
TZOFFSETFROM:+0100
TZOFFSETTO:+0200
TZNAME:CEST
DTSTART:20200329T010000
END:DAYLIGHT
BEGIN:STANDARD
TZOFFSETFROM:+0200
TZOFFSETTO:+0100
TZNAME:CET
DTSTART:20201025T010000
END:STANDARD
BEGIN:DAYLIGHT
TZOFFSETFROM:+0100
TZOFFSETTO:+0200
TZNAME:CEST
DTSTART:20210328T010000
END:DAYLIGHT
BEGIN:STANDARD
TZOFFSETFROM:+0200
TZOFFSETTO:+0100
TZNAME:CET
DTSTART:20211031T010000
END:STANDARD
BEGIN:DAYLIGHT
TZOFFSETFROM:+0100
TZOFFSETTO:+0200
TZNAME:CEST
DTSTART:20220327T010000
END:DAYLIGHT
BEGIN:STANDARD
TZOFFSETFROM:+0200
TZOFFSETTO:+0100
TZNAME:CET
DTSTART:20221030T010000
END:STANDARD
END:VTIMEZONE
BEGIN:VEVENT
DTSTART;VALUE=DATE:20210118
DTEND;VALUE=DATE:20210123
DTSTAMP:20260420T075559
CREATED:20210118T100245Z
LAST-MODIFIED:20210118T100245Z
UID:11271-1610928000-1611359999@www.ategal.com
SUMMARY:Formación en liña: volta á actividade!
DESCRIPTION:Retomamos as clases a través de nosa nova plataforma para non deixar de aprender. É importante manternos activos e activas\, por iso anímache a participar no que máis che guste! \nEsta semana podes gozar de clases de Francés ou Historia da arte\, practicar o teu inglés ou reflexionar cos nosos talleres especiais.
URL:https://www.ategal.com/evento-ategal/formacion-en-lina-volta-a-actividade/
LOCATION:Plataforma online
ATTACH;FMTTYPE=image/png:https://www.ategal.com/wp-content/uploads/2021/01/18-22.png
END:VEVENT
BEGIN:VEVENT
DTSTART;VALUE=DATE:20210118
DTEND;VALUE=DATE:20210123
DTSTAMP:20260420T075559
CREATED:20210118T100333Z
LAST-MODIFIED:20210118T100333Z
UID:11278-1610928000-1611359999@www.ategal.com
SUMMARY:Formación online: ¡vuelta a la actividad!
DESCRIPTION:Retomamos las clases a través de nuestra nueva plataforma para no dejar de aprender. Es importante mantenernos activos y activas\, por eso ¡anímate a participar en lo que más te guste! \nEsta semana puedes disfrutar de clases de Francés o Historia del Arte\, practicar tu inglés o reflexionar con nuestros talleres especiales.
URL:https://www.ategal.com/evento-ategal/formacion-online-vuelta-a-la-actividad/
LOCATION:Plataforma online
ATTACH;FMTTYPE=image/png:https://www.ategal.com/wp-content/uploads/2021/01/18-22.png
END:VEVENT
END:VCALENDAR