BEGIN:VCALENDAR
VERSION:2.0
PRODID:-//Ategal - ECPv6.15.20//NONSGML v1.0//EN
CALSCALE:GREGORIAN
METHOD:PUBLISH
X-WR-CALNAME:Ategal
X-ORIGINAL-URL:https://www.ategal.com
X-WR-CALDESC:Eventos para Ategal
REFRESH-INTERVAL;VALUE=DURATION:PT1H
X-Robots-Tag:noindex
X-PUBLISHED-TTL:PT1H
BEGIN:VTIMEZONE
TZID:Europe/Paris
BEGIN:DAYLIGHT
TZOFFSETFROM:+0100
TZOFFSETTO:+0200
TZNAME:CEST
DTSTART:20200329T010000
END:DAYLIGHT
BEGIN:STANDARD
TZOFFSETFROM:+0200
TZOFFSETTO:+0100
TZNAME:CET
DTSTART:20201025T010000
END:STANDARD
BEGIN:DAYLIGHT
TZOFFSETFROM:+0100
TZOFFSETTO:+0200
TZNAME:CEST
DTSTART:20210328T010000
END:DAYLIGHT
BEGIN:STANDARD
TZOFFSETFROM:+0200
TZOFFSETTO:+0100
TZNAME:CET
DTSTART:20211031T010000
END:STANDARD
BEGIN:DAYLIGHT
TZOFFSETFROM:+0100
TZOFFSETTO:+0200
TZNAME:CEST
DTSTART:20220327T010000
END:DAYLIGHT
BEGIN:STANDARD
TZOFFSETFROM:+0200
TZOFFSETTO:+0100
TZNAME:CET
DTSTART:20221030T010000
END:STANDARD
END:VTIMEZONE
BEGIN:VEVENT
DTSTART;VALUE=DATE:20210201
DTEND;VALUE=DATE:20210206
DTSTAMP:20260420T061533
CREATED:20210131T172105Z
LAST-MODIFIED:20210131T172105Z
UID:11421-1612137600-1612569599@www.ategal.com
SUMMARY:Clases online de febrero
DESCRIPTION:Comenzamos el mes con una agenda repleta de aprendizajes. Mantenemos las clases de idiomas\, memoria e historia del Arte\, y añadimos nuevos espacios como el de María Victoria Tizón\, alumna y voluntaria. \nAdemás\, ¡retomamos el club de lectura para todas las alumnas y alumnos de Galicia! \nConéctate para seguir disfrutando y aprendiendo.
URL:https://www.ategal.com/evento-ategal/clases-online-de-febrero/
LOCATION:Plataforma online
ATTACH;FMTTYPE=image/png:https://www.ategal.com/wp-content/uploads/2021/01/01_02.png
END:VEVENT
BEGIN:VEVENT
DTSTART;VALUE=DATE:20210201
DTEND;VALUE=DATE:20210206
DTSTAMP:20260420T061533
CREATED:20210131T172229Z
LAST-MODIFIED:20210131T172229Z
UID:11415-1612137600-1612569599@www.ategal.com
SUMMARY:Clases en liña de febreiro
DESCRIPTION:Comezamos o mes cunha axenda repleta de aprendizaxes. Mantemos as clases de idiomas\, memoria e historia da arte\, e engadimos novos espazos como o de María Vitoria Tizón\, alumna e voluntaria. \nAdemais\, retomamos o club de lectura para todas as alumnas e alumnos de Galicia! \nConéctache para seguir gozando e aprendendo.
URL:https://www.ategal.com/evento-ategal/clases-en-lina-de-febreiro/
LOCATION:Plataforma online
ATTACH;FMTTYPE=image/png:https://www.ategal.com/wp-content/uploads/2021/01/01_02.png
END:VEVENT
END:VCALENDAR