BEGIN:VCALENDAR
VERSION:2.0
PRODID:-//Ategal - ECPv6.15.20//NONSGML v1.0//EN
CALSCALE:GREGORIAN
METHOD:PUBLISH
X-WR-CALNAME:Ategal
X-ORIGINAL-URL:https://www.ategal.com
X-WR-CALDESC:Eventos para Ategal
REFRESH-INTERVAL;VALUE=DURATION:PT1H
X-Robots-Tag:noindex
X-PUBLISHED-TTL:PT1H
BEGIN:VTIMEZONE
TZID:Europe/Paris
BEGIN:DAYLIGHT
TZOFFSETFROM:+0100
TZOFFSETTO:+0200
TZNAME:CEST
DTSTART:20200329T010000
END:DAYLIGHT
BEGIN:STANDARD
TZOFFSETFROM:+0200
TZOFFSETTO:+0100
TZNAME:CET
DTSTART:20201025T010000
END:STANDARD
BEGIN:DAYLIGHT
TZOFFSETFROM:+0100
TZOFFSETTO:+0200
TZNAME:CEST
DTSTART:20210328T010000
END:DAYLIGHT
BEGIN:STANDARD
TZOFFSETFROM:+0200
TZOFFSETTO:+0100
TZNAME:CET
DTSTART:20211031T010000
END:STANDARD
BEGIN:DAYLIGHT
TZOFFSETFROM:+0100
TZOFFSETTO:+0200
TZNAME:CEST
DTSTART:20220327T010000
END:DAYLIGHT
BEGIN:STANDARD
TZOFFSETFROM:+0200
TZOFFSETTO:+0100
TZNAME:CET
DTSTART:20221030T010000
END:STANDARD
END:VTIMEZONE
BEGIN:VEVENT
DTSTART;VALUE=DATE:20210322
DTEND;VALUE=DATE:20210327
DTSTAMP:20260420T042940
CREATED:20210321T164207Z
LAST-MODIFIED:20210321T164207Z
UID:11811-1616371200-1616803199@www.ategal.com
SUMMARY:Aprende inglés\, exercita a túa memoria ou divírteche
DESCRIPTION:Súmeche á nosa plataforma de formación en liña e aprende inglés\, exercita a túa memoria ou divírteche.\n\nEmpeza unha nova semana e xa temos dispoñible o noso calendario para ti. Podes planificar a túa semana para asistir en directo ás clases en liña que máis che gusten. E se non tes moito tempo libre\, lembra que podes gozar das sesións gravadas de ximnasia\, baile\, taichí. Toda a aprendizaxe e lecer que quixeches ao teu alcance!\n\nE\, lembra\, este venres pechamos o noso circuíto de saúde cun taller sobre Mindfulness. Consegue o teu propio Kit AntiCOVID da man de Begoña López\, experta en psicoloxía.\n\nNon te prives da mellor educación e lecer\, sempre acompañada da familia ATEGAL. Vémonos na aula virtual!
URL:https://www.ategal.com/evento-ategal/aprende-ingles-exercita-a-tua-memoria-ou-divirteche/
LOCATION:Plataforma online
ATTACH;FMTTYPE=image/png:https://www.ategal.com/wp-content/uploads/2021/03/22_03.png
END:VEVENT
BEGIN:VEVENT
DTSTART;VALUE=DATE:20210322
DTEND;VALUE=DATE:20210327
DTSTAMP:20260420T042940
CREATED:20210321T165005Z
LAST-MODIFIED:20210321T165005Z
UID:11817-1616371200-1616803199@www.ategal.com
SUMMARY:Aprende inglés\, ejercita tu memoria o diviértete
DESCRIPTION:Súmete a nuestra plataforma de formación online y aprende inglés\, ejercita tu memoria o diviértete. Empieza una nueva semana y ya tenemos disponible nuestro calendario para ti. \nPuedes planificar tu semana para asistir en directo a las clases online que más te gusten. Y si no tienes mucho tiempo libre\, recuerda que puedes disfrutar de las sesiones grabadas de gimnasia\, baile\, taichí. ¡Todo el aprendizaje y ocio que has querido a tu alcance! \nY\, recuerda\, este viernes cerramos nuestro circuito de salud con un taller sobre Mindfulness. Consigue tu propio Kit AntiCOVID de la mano de Begoña López\, experta en psicología. \nNo te prives de la mejor educación y ocio\, siempre acompañada de la familia ATEGAL. ¡Nos vemos en el aula virtual!
URL:https://www.ategal.com/evento-ategal/aprende-ingles-ejercita-tu-memoria-o-diviertete/
LOCATION:Plataforma online
ATTACH;FMTTYPE=image/png:https://www.ategal.com/wp-content/uploads/2021/03/22_03.png
END:VEVENT
END:VCALENDAR