BEGIN:VCALENDAR
VERSION:2.0
PRODID:-//Ategal - ECPv6.15.20//NONSGML v1.0//EN
CALSCALE:GREGORIAN
METHOD:PUBLISH
X-WR-CALNAME:Ategal
X-ORIGINAL-URL:https://www.ategal.com
X-WR-CALDESC:Eventos para Ategal
REFRESH-INTERVAL;VALUE=DURATION:PT1H
X-Robots-Tag:noindex
X-PUBLISHED-TTL:PT1H
BEGIN:VTIMEZONE
TZID:Europe/Paris
BEGIN:DAYLIGHT
TZOFFSETFROM:+0100
TZOFFSETTO:+0200
TZNAME:CEST
DTSTART:20200329T010000
END:DAYLIGHT
BEGIN:STANDARD
TZOFFSETFROM:+0200
TZOFFSETTO:+0100
TZNAME:CET
DTSTART:20201025T010000
END:STANDARD
BEGIN:DAYLIGHT
TZOFFSETFROM:+0100
TZOFFSETTO:+0200
TZNAME:CEST
DTSTART:20210328T010000
END:DAYLIGHT
BEGIN:STANDARD
TZOFFSETFROM:+0200
TZOFFSETTO:+0100
TZNAME:CET
DTSTART:20211031T010000
END:STANDARD
BEGIN:DAYLIGHT
TZOFFSETFROM:+0100
TZOFFSETTO:+0200
TZNAME:CEST
DTSTART:20220327T010000
END:DAYLIGHT
BEGIN:STANDARD
TZOFFSETFROM:+0200
TZOFFSETTO:+0100
TZNAME:CET
DTSTART:20221030T010000
END:STANDARD
END:VTIMEZONE
BEGIN:VEVENT
DTSTART;VALUE=DATE:20210405
DTEND;VALUE=DATE:20210410
DTSTAMP:20260420T023550
CREATED:20210405T183142Z
LAST-MODIFIED:20210405T183142Z
UID:11888-1617580800-1618012799@www.ategal.com
SUMMARY:Mantemos a formación en liña!
DESCRIPTION:Non hai mellor noticia que retomar a actividade presencial. Pero se algo nos ensinou esta situación é que internet nos ofrece unha infinidade de posibilidades. Por iso\, mantemos a formación en liña. \nPara quen aínda non sente seguro ou segura\, para quen debe coidar ou simplemente para quen se afeccionou a traballar desde casa. A nosa plataforma de formación en liña continuará aberta para todos os nosos socios e socias. E para ti tamén. \nDe modo que súmache á plataforma e goza de todas as clases que che ofrecemos. Aprende idiomas\, exercita a túa mente\, traballa co corpo ou goza da arte\, cultura e tecnoloxía. Abre unha nova xanela para o teu lecer e coñecemento\, entre na nosa aula en liña.
URL:https://www.ategal.com/evento-ategal/mantemos-a-formacion-en-lina/
LOCATION:Plataforma online
ATTACH;FMTTYPE=image/png:https://www.ategal.com/wp-content/uploads/2021/04/05_04.png
END:VEVENT
BEGIN:VEVENT
DTSTART;VALUE=DATE:20210405
DTEND;VALUE=DATE:20210410
DTSTAMP:20260420T023550
CREATED:20210405T183816Z
LAST-MODIFIED:20210405T183816Z
UID:11896-1617580800-1618012799@www.ategal.com
SUMMARY:¡Mantenemos la formación online!
DESCRIPTION:No hay mejor noticia que retomar la actividad presencial. Pero si algo nos ha enseñado esta situación es que internet nos ofrece una infinidad de posibilidades. Por eso\, mantenemos la formación online. \nPara quien todavía no se siente seguro o segura\, para quien debe cuidar o simplemente para quien se ha aficionado a trabajar desde casa. Nuestra plataforma de formación online continuará abierta para todos nuestros socios y socias. Y para ti también. \nDe modo que súmate a la plataforma y disfruta de todas las clases que te ofrecemos. Aprende idiomas\, ejercita tu mente\, trabaja con el cuerpo o disfruta del arte\, cultura y tecnología. Abre una nueva ventana para tu ocio y conocimiento\, entra en nuestra aula online.
URL:https://www.ategal.com/evento-ategal/mantenemos-la-formacion-online/
LOCATION:Plataforma online
ATTACH;FMTTYPE=image/png:https://www.ategal.com/wp-content/uploads/2021/04/05_04.png
END:VEVENT
END:VCALENDAR