BEGIN:VCALENDAR
VERSION:2.0
PRODID:-//Ategal - ECPv6.15.20//NONSGML v1.0//EN
CALSCALE:GREGORIAN
METHOD:PUBLISH
X-WR-CALNAME:Ategal
X-ORIGINAL-URL:https://www.ategal.com
X-WR-CALDESC:Eventos para Ategal
REFRESH-INTERVAL;VALUE=DURATION:PT1H
X-Robots-Tag:noindex
X-PUBLISHED-TTL:PT1H
BEGIN:VTIMEZONE
TZID:Europe/Paris
BEGIN:DAYLIGHT
TZOFFSETFROM:+0100
TZOFFSETTO:+0200
TZNAME:CEST
DTSTART:20200329T010000
END:DAYLIGHT
BEGIN:STANDARD
TZOFFSETFROM:+0200
TZOFFSETTO:+0100
TZNAME:CET
DTSTART:20201025T010000
END:STANDARD
BEGIN:DAYLIGHT
TZOFFSETFROM:+0100
TZOFFSETTO:+0200
TZNAME:CEST
DTSTART:20210328T010000
END:DAYLIGHT
BEGIN:STANDARD
TZOFFSETFROM:+0200
TZOFFSETTO:+0100
TZNAME:CET
DTSTART:20211031T010000
END:STANDARD
BEGIN:DAYLIGHT
TZOFFSETFROM:+0100
TZOFFSETTO:+0200
TZNAME:CEST
DTSTART:20220327T010000
END:DAYLIGHT
BEGIN:STANDARD
TZOFFSETFROM:+0200
TZOFFSETTO:+0100
TZNAME:CET
DTSTART:20221030T010000
END:STANDARD
END:VTIMEZONE
BEGIN:VEVENT
DTSTART;VALUE=DATE:20210412
DTEND;VALUE=DATE:20210417
DTSTAMP:20260420T023621
CREATED:20210412T135849Z
LAST-MODIFIED:20210412T140525Z
UID:11900-1618185600-1618617599@www.ategal.com
SUMMARY:Desenvolvemos un sistema de formación complementaria
DESCRIPTION:Coa reapertura das nosas aulas\, inauguramos un sistema de formación complementaria. Todos os nosos alumnos e alumnas poderán beneficiarse dun lecer e aprendizaxe á súa medida. \nEste sistema de acompañamento combinado permite gozar dun espazo físico e seguro. Pero tamén ofrece a posibilidade de continuar participando desde casa a través da nosa plataforma de formación en liña. Desta forma\, fomentamos a socialización\, o coidado das relacións persoais\, un seguimento personalizado e o resto de atributos que caracterizan á familia Ategal. \nContacta con calquera das coordinadoras que se atopan nas nosas sedes para saber como acudir ás aulas ou inscríbeche para acceder á nosa plataforma en liña. Porque somos o que facemos do noso tempo\, e ATEGAL sempre aposta por dar máis vida á vida. \nE ti?
URL:https://www.ategal.com/evento-ategal/desenvolvemos-un-sistema-de-formacion-complementaria/
LOCATION:Plataforma online
ATTACH;FMTTYPE=image/png:https://www.ategal.com/wp-content/uploads/2021/04/05_04-1.png
END:VEVENT
BEGIN:VEVENT
DTSTART;VALUE=DATE:20210412
DTEND;VALUE=DATE:20210417
DTSTAMP:20260420T023621
CREATED:20210412T140403Z
LAST-MODIFIED:20210412T140403Z
UID:11906-1618185600-1618617599@www.ategal.com
SUMMARY:Desarrollamos un sistema de formación complementaria
DESCRIPTION:Con la reapertura de nuestras aulas\, inauguramos un sistema de formación complementaria. Todos nuestros alumnos y alumnas podrán beneficiarse de un ocio y aprendizaje a su medida. \nEste sistema de acompañamiento combinado permite disfrutar de un espacio físico y seguro. Pero también ofrece la posibilidad de continuar participando desde casa a través de nuestra plataforma de formación online. De esta forma\, fomentamos la socialización\, el cuidado de las relaciones personales\, un seguimiento personalizado y el resto de atributos que caracterizan a la familia Ategal. \nContacta con cualquiera de las coordinadoras que se encuentran en nuestras sedes para saber cómo acudir a las aulas o inscríbete para acceder a nuestra plataforma online. Porque somos lo que hacemos de nuestro tiempo\, y ATEGAL siempre apuesta por dar más vida a la vida. \n¿Y tú?
URL:https://www.ategal.com/evento-ategal/desarrollamos-un-sistema-de-formacion-complementaria/
LOCATION:Plataforma online
ATTACH;FMTTYPE=image/png:https://www.ategal.com/wp-content/uploads/2021/04/05_04-1.png
END:VEVENT
END:VCALENDAR