BEGIN:VCALENDAR
VERSION:2.0
PRODID:-//Ategal - ECPv6.15.20//NONSGML v1.0//EN
CALSCALE:GREGORIAN
METHOD:PUBLISH
X-WR-CALNAME:Ategal
X-ORIGINAL-URL:https://www.ategal.com
X-WR-CALDESC:Eventos para Ategal
REFRESH-INTERVAL;VALUE=DURATION:PT1H
X-Robots-Tag:noindex
X-PUBLISHED-TTL:PT1H
BEGIN:VTIMEZONE
TZID:Europe/Paris
BEGIN:DAYLIGHT
TZOFFSETFROM:+0100
TZOFFSETTO:+0200
TZNAME:CEST
DTSTART:20200329T010000
END:DAYLIGHT
BEGIN:STANDARD
TZOFFSETFROM:+0200
TZOFFSETTO:+0100
TZNAME:CET
DTSTART:20201025T010000
END:STANDARD
BEGIN:DAYLIGHT
TZOFFSETFROM:+0100
TZOFFSETTO:+0200
TZNAME:CEST
DTSTART:20210328T010000
END:DAYLIGHT
BEGIN:STANDARD
TZOFFSETFROM:+0200
TZOFFSETTO:+0100
TZNAME:CET
DTSTART:20211031T010000
END:STANDARD
BEGIN:DAYLIGHT
TZOFFSETFROM:+0100
TZOFFSETTO:+0200
TZNAME:CEST
DTSTART:20220327T010000
END:DAYLIGHT
BEGIN:STANDARD
TZOFFSETFROM:+0200
TZOFFSETTO:+0100
TZNAME:CET
DTSTART:20221030T010000
END:STANDARD
END:VTIMEZONE
BEGIN:VEVENT
DTSTART;VALUE=DATE:20210419
DTEND;VALUE=DATE:20210424
DTSTAMP:20260420T023621
CREATED:20210418T190019Z
LAST-MODIFIED:20210417T103315Z
UID:11912-1618790400-1619222399@www.ategal.com
SUMMARY:ATEGAL tamén na túa casa
DESCRIPTION:ATEGAL espérache nas aulas\, pero tamén na túa casa. Unha oportunidade para gozar dunha formación e lecer ao completo. Como sabes\, as nosas portas volven estar abertas para ti. Pero sen esquecer as posibilidades que che ofrece a xanela da internet. \nA nosa plataforma de formación en liña segue dispoñible desde a túa casa. Así que conéctache cando queiras e participa nas salas que máis che gusten. Podes unirche ao club de lectura do que forman parte alumnos e alumnas de todas as sedes de ATEGAL. Ponche ao día coa nosa sección de noticias\, ou exercita a túa mente coas clases de memoria. \nPor suposto\, a nosa coordinadora xa che está esperando na túa sede con todas as medidas de seguridade e agarimo. Pero se non te sentes preparado ou preparada\, mantente activo ou activa. Contacta coa túa coordinadora e contarache todas as opcións que tes á túa dispoñibilidade! \nE se aínda non formas parte de ATEGAL\, anímache! Todas as persoas maiores de 50 anos poden unirse para empezar a dar máis vida á vida. Contacta con nós e empeza a gozar de todas as vantaxes de lecer e formación que temos para ti.
URL:https://www.ategal.com/evento-ategal/ategal-tamen-na-tua-casa/
LOCATION:Plataforma online
ATTACH;FMTTYPE=image/png:https://www.ategal.com/wp-content/uploads/2021/04/19_04.png
END:VEVENT
BEGIN:VEVENT
DTSTART;VALUE=DATE:20210419
DTEND;VALUE=DATE:20210424
DTSTAMP:20260420T023621
CREATED:20210418T190041Z
LAST-MODIFIED:20210417T104041Z
UID:11918-1618790400-1619222399@www.ategal.com
SUMMARY:ATEGAL también en tu casa
DESCRIPTION:ATEGAL te espera en las aulas\, pero también en tu casa. Una oportunidad para disfrutar de una formación y ocio al completo. Como sabes\, nuestras puertas vuelven a estar abiertas para ti. Pero sin olvidar las posibilidades que te ofrece la ventana de Internet. \nNuestra plataforma de formación online sigue disponible desde tu casa. Así que conéctate cuando quieras y participa en las salas que más te gusten. Puedes unirte al club de lectura del que forman parte alumnos y alumnas de todas las sedes de ATEGAL. Ponte al día con nuestra sección de noticias\, o ejercita tu mente con las clases de memoria. \nPor supuesto\, nuestra coordinadora ya te está esperando en tu sede con todas las medidas de seguridad y cariño. Pero si no te sientes preparado o preparada\, mantente activo o activa desde casa. ¡Contacta con tu coordinadora y te contará todas las opciones que tienes a tu disponibilidad! \nY si todavía no formas parte de ATEGAL\, ¡anímate! Todas las personas mayores de 50 años pueden unirse para empezar a dar más vida a la vida. Contáctanos y empieza a disfrutar de todas las ventajas de ocio y formación que tenemos para ti.
URL:https://www.ategal.com/evento-ategal/ategal-tambien-en-tu-casa/
LOCATION:Plataforma online
ATTACH;FMTTYPE=image/png:https://www.ategal.com/wp-content/uploads/2021/04/19_04.png
END:VEVENT
END:VCALENDAR