BEGIN:VCALENDAR
VERSION:2.0
PRODID:-//Ategal - ECPv6.15.20//NONSGML v1.0//EN
CALSCALE:GREGORIAN
METHOD:PUBLISH
X-WR-CALNAME:Ategal
X-ORIGINAL-URL:https://www.ategal.com
X-WR-CALDESC:Eventos para Ategal
REFRESH-INTERVAL;VALUE=DURATION:PT1H
X-Robots-Tag:noindex
X-PUBLISHED-TTL:PT1H
BEGIN:VTIMEZONE
TZID:Europe/Paris
BEGIN:DAYLIGHT
TZOFFSETFROM:+0100
TZOFFSETTO:+0200
TZNAME:CEST
DTSTART:20200329T010000
END:DAYLIGHT
BEGIN:STANDARD
TZOFFSETFROM:+0200
TZOFFSETTO:+0100
TZNAME:CET
DTSTART:20201025T010000
END:STANDARD
BEGIN:DAYLIGHT
TZOFFSETFROM:+0100
TZOFFSETTO:+0200
TZNAME:CEST
DTSTART:20210328T010000
END:DAYLIGHT
BEGIN:STANDARD
TZOFFSETFROM:+0200
TZOFFSETTO:+0100
TZNAME:CET
DTSTART:20211031T010000
END:STANDARD
BEGIN:DAYLIGHT
TZOFFSETFROM:+0100
TZOFFSETTO:+0200
TZNAME:CEST
DTSTART:20220327T010000
END:DAYLIGHT
BEGIN:STANDARD
TZOFFSETFROM:+0200
TZOFFSETTO:+0100
TZNAME:CET
DTSTART:20221030T010000
END:STANDARD
END:VTIMEZONE
BEGIN:VEVENT
DTSTART;VALUE=DATE:20210503
DTEND;VALUE=DATE:20210508
DTSTAMP:20260420T005923
CREATED:20210503T190534Z
LAST-MODIFIED:20210503T190534Z
UID:12017-1620000000-1620431999@www.ategal.com
SUMMARY:Formación e lecer dixital desde casa
DESCRIPTION:ATEGAL ofréceche toda unha xanela para gozar da mellor formación e lecer desde a túa casa. A través da nosa plataforma de formación en liña tes acceso a clases en directo das materias que máis che gusten. \nTodos os nosos socios e socias teñen acceso ilimitado a un contido en vivo. Pero\, ademais\, contan con material deseñado e gravado especialmente para eles. Continúa ampliando os teus coñecementos de arte e cultura co noso club de lectura. Nel\, conectarás con alumnos e alumnas de toda Galicia para compartir a vosa paixón polos libros. \nTamén podes prepararche para un verán máis seguro coas nosas clases de inglés para viaxeiros. Ou mellorar as túas competencias dixitais en informática. Consulta o noso horario e úneche aos encontros dixitais que máis che gusten. \nPero\, ademais\, dispoñerás do mesmo lecer e formación na nosa sede máis próxima. Dispós dun espazo físico con todas as medidas sanitarias para gozar do lecer e aprendizaxe máis seguros. Non dubides en poñerche en contacto con calquera das nosas coordinadoras\, que poderán acompañarche na túa volta á actividade presencial ou tutorizarte en liña. \nA que esperas para sumarche á familia ATEGAL?
URL:https://www.ategal.com/evento-ategal/formacion-e-lecer-dixital-desde-casa/
LOCATION:Plataforma online
ATTACH;FMTTYPE=image/png:https://www.ategal.com/wp-content/uploads/2021/05/0305.png
END:VEVENT
END:VCALENDAR